BEGIN:VCALENDAR
VERSION:2.0
PRODID:-//jEvents 2.0 for Joomla//EN
CALSCALE:GREGORIAN
METHOD:PUBLISH
BEGIN:VEVENT
UID:289335713d9cced9d2497a029958c4b1
CATEGORIES:Safety
CREATED:20171031T175015
SUMMARY:YUMA Winter Flying Safety Program
LOCATION:Yuma Int'l Airport 2191 E. 32nd St. Board Room, 2nd floor Yuma, AZ 85365
DESCRIPTION;ENCODING=QUOTED-PRINTABLE:YUMA Winter Flying Safety Program\nWinter flying, FAA Compliance Philosophy
  and Communications\n\n\nDate and Time: Saturday, November 18, 2017, starti
 ng at 09:30 Arizona\n\n\nSpeaker(s): Fred Gibbs, APA Safety Director, Tina 
 Buskirk &amp; Ernie Copeland, FAASTeam Program Managers\n\n\nBrief Descript
 ion:\nWinter flying review and issues, plus the FAA's Compliance Philosophy
  and recommended communications practices. Seminar is approximately 3 hours
  in length.\n\n\nSelect Number: WP0779071\n\n\nLocation of Seminar:\nYuma I
 nt'l Airport\n2191 E. 32nd St.\nBoard Room, 2nd floor\nYuma, AZ 85365\n\n\n
 Directions to Venue:\nDriving Directions:\nFrom Interstate 8 going East\nTa
 ke Exit 2 onto Highway 95 (16th St) going east, turn right on Pacific Ave. 
 Cross 32nd Street to enter the Airport Parking Lot.\nFrom Interstate 8 goin
 g West\nTake Exit 3, turn south (left) onto Ave 3E. Turn right on 32nd Stre
 et. One mile, at Pacific Ave, turn left into the Airport Parking Lot.\nFlyi
 ng in: park at Million Air\nFrom the parking lot, turn right on Burch Way, 
 right on Gillaspie Place. At the stop sign turn right on Arizona Ave.\nAt t
 he stop light, turn right on 32nd St and right into the airport's parking l
 ot.\n\n\nView Map\n\n\nFly-in Seminar?: Yes KNYL\n\n\nSeating: 25 seats at 
 the facility\n\n\nRegistration Information:\n\n\nClick here to register onl
 ine now!\n\n\nSponsoring Division: SDL FSDO FAASTeam\n\n\nContact Informati
 on: FRED L. GIBBS\nPhone: (928) 266-0112\nThis email address is being prote
 cted from spambots. You need JavaScript enabled to view it.
				document.ge
 tElementById('cloakf6bc262544e5e0ca6dbe66b4ef6026d8').innerHTML = '';
				v
 ar prefix = '&#109;a' + 'i&#108;' + '&#116;o';
				var path = 'hr' + 'ef' +
  '=';
				var addyf6bc262544e5e0ca6dbe66b4ef6026d8 = 'fr&#101;dg&#105;bbs' 
 + '&#64;';
				addyf6bc262544e5e0ca6dbe66b4ef6026d8 = addyf6bc262544e5e0ca6
 dbe66b4ef6026d8 + 'npgc&#97;bl&#101;' + '&#46;' + 'c&#111;m';
				var addy_
 textf6bc262544e5e0ca6dbe66b4ef6026d8 = 'fr&#101;dg&#105;bbs' + '&#64;' + 'n
 pgc&#97;bl&#101;' + '&#46;' + 'c&#111;m';document.getElementById('cloakf6bc
 262544e5e0ca6dbe66b4ef6026d8').innerHTML += ''+addy_textf6bc262544e5e0ca6db
 e66b4ef6026d8+'';
		\n\n\nAdditional Event Information &amp; Acknowledgemen
 t of Industry Sponsor(s):\nPresented by the Arizona Pilots Association Safe
 ty Program and the Scottsdale FAASTeam Program Managers. Sponsored and host
 ed by Yuma International Airport\n\n\nEqual Access Information:\nThe FAA Sa
 fety Team (FAASTeam) is committed to providing equal access to this meeting
 /event for all participants. If you need alternative formats or services be
 cause of a disability, please communicate your request as soon as possible 
 with the person in the &ldquo;Contact Information&rdquo; area of the meetin
 g/event notice. Note that two weeks is usually required to arrange services
 .\n\n\nCredit Applicability:\n1 Credit for Basic Knowledge Topic 1\n1 Credi
 t for Advanced Knowledge Topic 2\n1 Credit for Master Knowledge Topic 2\n
CONTACT:FRED L. GIBBS Phone: (928) 266-0112 This email address is being protected from spambots. You need JavaScript enabled to view it.
				document.getElementById('cloakb698651526aaa5c83e94cb1d8bcf20e1').innerHTML = '';
				var prefix = '&#109;a' + 'i&#108;' + '&#116;o';
				var path = 'hr' + 'ef' + '=';
				var addyb698651526aaa5c83e94cb1d8bcf20e1 = 'fr&#101;dg&#105;bbs' + '&#64;';
				addyb698651526aaa5c83e94cb1d8bcf20e1 = addyb698651526aaa5c83e94cb1d8bcf20e1 + 'npgc&#97;bl&#101;' + '&#46;' + 'c&#111;m';
				var addy_textb698651526aaa5c83e94cb1d8bcf20e1 = 'fr&#101;dg&#105;bbs' + '&#64;' + 'npgc&#97;bl&#101;' + '&#46;' + 'c&#111;m';document.getElementById('cloakb698651526aaa5c83e94cb1d8bcf20e1').innerHTML += ''+addy_textb698651526aaa5c83e94cb1d8bcf20e1+'';
		
DTSTAMP:20260425T062347Z
DTSTART;TZID=America/Phoenix:20171118T093000
SEQUENCE:0
TRANSP:OPAQUE
END:VEVENT
END:VCALENDAR