BEGIN:VCALENDAR
VERSION:2.0
PRODID:-//jEvents 2.0 for Joomla//EN
CALSCALE:GREGORIAN
METHOD:PUBLISH
BEGIN:VEVENT
UID:3195a8f30fb0b90bb99185f6dd987b60
CATEGORIES:Safety
CREATED:20170929T091201
SUMMARY:TUS/RYN Pilot-Controller Forum at Tucson
LOCATION:Pima Community College Aviation Technology Center 7211 S. Park Ave Tucson, 
 AZ 85756
DESCRIPTION;ENCODING=QUOTED-PRINTABLE:TUS/RYN Pilot-Controller Forum\nHear from ATC Controllers at KTUS and KRYN,
  and discuss best safety practices.\n\n\nDate and Time: Wednesday, October 
 18, 2017, starting at 18:30 Arizona\n\n\nSpeaker(s): Ernie Copeland, Tina B
 uskirk, Howard Deevers, Samir Kanuga, TUS and RYN ATC personnel\n\n\nBrief 
 Description:\nCommunications are so important in aviation. Come learn how b
 oth sides of the radio can improve by getting answers from Tucson Tower, Tu
 cson Approach Control, Ryan Tower and the Scottsdale FSDO. The seminar will
  begin with a presentation on recent events in the Tucson airspace and at T
 ucson airports. ATC Controllers will also be able to answer questions, and 
 get their questions answered by pilots in attendance!\n\n\nWe will addition
 ally discuss a newly published guide for practice areas near TUS and RYN, a
 s well as a new guide on operations at TUS.\n\n\nSelect Number: WP0778431\n
 \n\nLocation of Seminar:\nPima Community College Aviation Technology Center
 \n7211 S. Park Ave\nTucson, AZ 85756\n\n\nDirections to Venue:\nFollow Park
  Ave all the way south past the airport to the gate entrance to Pima Commun
 ity College. Follow signs to the meeting location from the parking lot.\n\n
 \nView Map\n\n\nFly-in Seminar?: Yes KTUS\n\n\nSeating: 75 seats at the fac
 ility\n\n\nRegistration Information:\n\n\nClick here to register online now
 !\n\n\nSponsoring Division: SDL FAASTeam\n\n\nContact Information: TINA BUS
 KIRK\nPhone: (480)419-0330 x263\nThis email address is being protected from
  spambots. You need JavaScript enabled to view it.
				document.getElementB
 yId('cloak6257f9a60b87fb721c7eae0033817542').innerHTML = '';
				var prefix
  = '&#109;a' + 'i&#108;' + '&#116;o';
				var path = 'hr' + 'ef' + '=';
			
 	var addy6257f9a60b87fb721c7eae0033817542 = 't&#105;n&#97;.b.b&#117;sk&#105
 ;rk' + '&#64;';
				addy6257f9a60b87fb721c7eae0033817542 = addy6257f9a60b87
 fb721c7eae0033817542 + 'f&#97;&#97;' + '&#46;' + 'g&#111;v';
				var addy_t
 ext6257f9a60b87fb721c7eae0033817542 = 't&#105;n&#97;.b.b&#117;sk&#105;rk' +
  '&#64;' + 'f&#97;&#97;' + '&#46;' + 'g&#111;v';document.getElementById('cl
 oak6257f9a60b87fb721c7eae0033817542').innerHTML += ''+addy_text6257f9a60b87
 fb721c7eae0033817542+'';
		\n\n\nAdditional Event Information &amp; Acknowl
 edgement of Industry Sponsor(s):\nOur thanks to the Pima Community College 
 for the use of this meeting space. And to the Tucson Tower, Tucson Approach
  Control, Ryan Tower and the Scottsdale FSDO for providing experts to answe
 r questions from pilots. Panel members from the Tucson Tower, TRACON, Ryan 
 Tower, and the FSDO will give advice to the many questions, such as: "why d
 o we........?" This will be a great time for pilots and controllers to inte
 ract and learn from each other.\n\n\nEqual Access Information:\nThe FAA Saf
 ety Team (FAASTeam) is committed to providing equal access to this meeting/
 event for all participants. If you need alternative formats or services bec
 ause of a disability, please communicate your request as soon as possible w
 ith the person in the &ldquo;Contact Information&rdquo; area of the meeting
 /event notice. Note that two weeks is usually required to arrange services.
 \n\n\nCredit Applicability:\n1 Credit for Basic Knowledge Topic 1\n1 Credit
  for Basic Knowledge Topic 3\n1 Credit for Advanced Knowledge Topic 2\n1 Cr
 edit for Master Knowledge Topic 2\n
CONTACT:TINA BUSKIRK Phone: (480)419-0330 x263 This email address is being protected from spambots. You need JavaScript enabled to view it.
				document.getElementById('cloak56386b47eedcd47f433306d3363eca98').innerHTML = '';
				var prefix = '&#109;a' + 'i&#108;' + '&#116;o';
				var path = 'hr' + 'ef' + '=';
				var addy56386b47eedcd47f433306d3363eca98 = 't&#105;n&#97;.b.b&#117;sk&#105;rk' + '&#64;';
				addy56386b47eedcd47f433306d3363eca98 = addy56386b47eedcd47f433306d3363eca98 + 'f&#97;&#97;' + '&#46;' + 'g&#111;v';
				var addy_text56386b47eedcd47f433306d3363eca98 = 't&#105;n&#97;.b.b&#117;sk&#105;rk' + '&#64;' + 'f&#97;&#97;' + '&#46;' + 'g&#111;v';document.getElementById('cloak56386b47eedcd47f433306d3363eca98').innerHTML += ''+addy_text56386b47eedcd47f433306d3363eca98+'';
		
DTSTAMP:20260425T062322Z
DTSTART;TZID=America/Phoenix:20171018T183000
SEQUENCE:0
TRANSP:OPAQUE
END:VEVENT
END:VCALENDAR