BEGIN:VCALENDAR
VERSION:2.0
PRODID:-//jEvents 2.0 for Joomla//EN
CALSCALE:GREGORIAN
METHOD:PUBLISH
BEGIN:VEVENT
UID:e220cc1423f5704e4569a001f9ac40d5
CATEGORIES:Safety
CREATED:20170929T090632
SUMMARY:FOREFLIGHT WINGX and GARMIN PILOT EFB USAGE WORKSHOP at Mesa
LOCATION:ASU Polytechnic Campus - Simulator Bldg. 7442 E Tillman Ave Simulator Bldg 
 Mesa, AZ 85212
DESCRIPTION;ENCODING=QUOTED-PRINTABLE:FOREFLIGHT WINGX and GARMIN PILOT EFB USAGE WORKSHOP\nSafe and effective us
 e of Foreflight, WingX, and Garmin Pilot to increase situational awareness 
 and improve safety.\n\n\nDate and Time: Saturday, October 14, 2017, startin
 g at 09:00 Mountain Daylight Time&nbsp;\n\n\nSpeaker(s): FAASTeam Represent
 atives\n\n\nBrief Description:\n3 hour, hands on workshop covering use of t
 he following electronic flight bags: Foreflight, WingX, and Garmin Pilot. P
 articipants will be grouped according to proficiency - novice, intermediate
 , advanced. YOU MUST BRING A DEVICE LOADED WITH THE LATEST VERSION OF ONE O
 F THE APPLICATIONS THAT WILL BE COVERED. This workshop does NOT cover the u
 se of your iPad/Android device. Participants should be familiar with the ge
 neral usage of their device.\n\n\nSelect Number: WP0778754\n\n\nLocation of
  Seminar:\nASU Polytechnic Campus - Simulator Bldg.\n7442 E Tillman Ave\nSi
 mulator Bldg\nMesa, AZ 85212\n\n\nDirections to Venue:\nThe ASU Polytechnic
  Campus is adjacent to Williams Gateway Aiport on the West side. The Simula
 tor Building is across S. Sossaman Rd from the FBO (Gateway Aviation Servic
 es).\n\n\nThe seminar will be held on the 2nd floor.\n\n\nFly-In: Park at G
 ateway Aviation Services. Ramp fees are waived for seminar participants. If
  you plan to fly in, be advised that Gateway Aviation Services currently ch
 arges a $20 ramp fee which is waived with a 10 gallon purchase of fuel.\n\n
 \nDriving. Exit AZ-202 (Santan Freeway) at Power Rd and head South. Turn le
 ft on E. Ray Rd. Turn right on S. Sossaman Rd. Turn right on E. Tahoe Ave a
 nd follow it around to Innovation Way N. Turn left on Innovation Way N. You
  will be headed East, the Simulator Bldg is on the left and Lot 16A is on y
 our right. You may park in Lot 16A for this seminar. The entry for Lot 16A 
 is on the East side of the lot. Follow Innovation Way N around the corner t
 o Innovation Way E and the Lot 16A entry will be on your right. Once on Inn
 ovation Way there will be signs guiding you to parking and the Simulator Bu
 ilding.\n\n\nView Map\n\n\nFly-in Seminar?: Yes IWA\n\n\nSeating: 60 seats 
 at the facility\n\n\nRegistration Information:\n\n\nClick here to register 
 online now!\n\n\nSponsoring Division: SDL FSDO FAASTeam\n\n\nContact Inform
 ation: EDWARD MILLER\nPhone: (480) 717-2189\nThis email address is being pr
 otected from spambots. You need JavaScript enabled to view it.
				document
 .getElementById('cloaka28a134a752e51a9ca50820ca0e5082c').innerHTML = '';
		
 		var prefix = '&#109;a' + 'i&#108;' + '&#116;o';
				var path = 'hr' + 'ef
 ' + '=';
				var addya28a134a752e51a9ca50820ca0e5082c = '&#97;v8&#105;n4f&#
 117;n' + '&#64;';
				addya28a134a752e51a9ca50820ca0e5082c = addya28a134a75
 2e51a9ca50820ca0e5082c + 'gm&#97;&#105;l' + '&#46;' + 'c&#111;m';
				var a
 ddy_texta28a134a752e51a9ca50820ca0e5082c = '&#97;v8&#105;n4f&#117;n' + '&#6
 4;' + 'gm&#97;&#105;l' + '&#46;' + 'c&#111;m';document.getElementById('cloa
 ka28a134a752e51a9ca50820ca0e5082c').innerHTML += ''+addy_texta28a134a752e51
 a9ca50820ca0e5082c+'';
		\n\n\nAdditional Event Information &amp; Acknowled
 gement of Industry Sponsor(s):\nThis is a workshop and NOT A LECTURE. Come 
 prepared with a device and the latest version of Foreflight, WingX, or Garm
 in Pilot.\n\n\nPARTICIPANTS SHOULD EMAIL THE WORKSHOP POINT OF CONTACT AT T
 his email address is being protected from spambots. You need JavaScript ena
 bled to view it.
				document.getElementById('cloakecc76bb23049b860ef7e536d
 f8f3700d').innerHTML = '';
				var prefix = 'ma' + 'il' + 'to';
				var pat
 h = 'hr' + 'ef' + '=';
				var addyecc76bb23049b860ef7e536df8f3700d = 'av8i
 n4fun' + '@';
				addyecc76bb23049b860ef7e536df8f3700d = addyecc76bb23049b8
 60ef7e536df8f3700d + 'gmail' + '.' + 'com';
				var addy_textecc76bb23049b8
 60ef7e536df8f3700d = 'av8in4fun' + '@' + 'gmail' + '.' + 'com';document.get
 ElementById('cloakecc76bb23049b860ef7e536df8f3700d').innerHTML += ''+addy_t
 extecc76bb23049b860ef7e536df8f3700d+'';
		 WITH THE APPLICATION (FOREFLIGHT
 , WINGX, or GARMIN PILOT) AND THEIR LEVEL OF PROFICIENCY (NOVICE, INTERMEDI
 ATE, OR ADVANCED) SO THE LEAD FACILITATOR CAN ENSURE THE PROPER FACILITATOR
 S ARE PRESENT.\n\n\nAn electronic flight bag such as Foreflight, WingX, and
  Garmin Pilot can greatly increase both situational awareness and safety bu
 t only if the pilot is proficient in their use. Attempting to learn the app
 lication while you are flying the airplane has the exact opposite effect an
 d can be dangerous. This workshop is intended to make you familiar with the
  application so that it is an aid in the cockpit and not a distraction.\n\n
 \nPreflight planning is the first step in a successful and safe flight. Ele
 ctronic Flight Bags can simplify the process of preflight planning and brin
 g most of the information you need such as runway lengths, fuel required, e
 xpected weather, and other vital information to one place. This workshop wi
 ll teach you how to use the EFB to efficiently plan your intended flights.\
 n\n\nOnce in the air, situational awareness is the key to the successful co
 mpletion of the flight. Learn how the EFB can bring traffic and weather int
 o your cockpit and help you avoid midair collisions and inadvertant flight 
 into IMC, one of the most deadly mistakes pilots can make - even those with
  an instrument rating. In addition, your facilitator will cover overall use
  of the EFB in all phases of flight.\n\n\nRunway incursions continue to be 
 a significant problem for the GA community. Come learn how the aviation app
 lications covered in this workshop can help, so you do not become the next 
 runway incursion statistic.\n\n\nPilot airspace deviations, including pilot
 s 'busting' TFRs, are another area of concern for the GA community. The avi
 ation applications covered in this workshop can provide a significant incre
 ase in situational awareness with respect to airspace. Learn how to make us
 e of these tools to ensure you are complying with airspace requirements.\n\
 n\nEqual Access Information:\nThe FAA Safety Team (FAASTeam) is committed t
 o providing equal access to this meeting/event for all participants. If you
  need alternative formats or services because of a disability, please commu
 nicate your request as soon as possible with the person in the &ldquo;Conta
 ct Information&rdquo; area of the meeting/event notice. Note that two weeks
  is usually required to arrange services.\n\n\nCredit Applicability:\n1 Cre
 dit for Basic Knowledge Topic 1\n1 Credit for Advanced Knowledge Topic 2\n1
  Credit for Master Knowledge Topic 2\n
CONTACT:EDWARD MILLER Phone: (480) 717-2189 This email address is being protected from spambots. You need JavaScript enabled to view it.
				document.getElementById('cloak1b0fa5b80f8ea8bc897b36cc272095c5').innerHTML = '';
				var prefix = '&#109;a' + 'i&#108;' + '&#116;o';
				var path = 'hr' + 'ef' + '=';
				var addy1b0fa5b80f8ea8bc897b36cc272095c5 = '&#97;v8&#105;n4f&#117;n' + '&#64;';
				addy1b0fa5b80f8ea8bc897b36cc272095c5 = addy1b0fa5b80f8ea8bc897b36cc272095c5 + 'gm&#97;&#105;l' + '&#46;' + 'c&#111;m';
				var addy_text1b0fa5b80f8ea8bc897b36cc272095c5 = '&#97;v8&#105;n4f&#117;n' + '&#64;' + 'gm&#97;&#105;l' + '&#46;' + 'c&#111;m';document.getElementById('cloak1b0fa5b80f8ea8bc897b36cc272095c5').innerHTML += ''+addy_text1b0fa5b80f8ea8bc897b36cc272095c5+'';
		
DTSTAMP:20260425T062412Z
DTSTART;TZID=America/Phoenix:20171014T090000
SEQUENCE:0
TRANSP:OPAQUE
END:VEVENT
END:VCALENDAR