BEGIN:VCALENDAR
VERSION:2.0
PRODID:-//jEvents 2.0 for Joomla//EN
CALSCALE:GREGORIAN
METHOD:PUBLISH
BEGIN:VEVENT
UID:48869c68b2a37dd9fc7a449a905f4fb4
CATEGORIES:Backcountry
CREATED:20170809T113748
SUMMARY:Grapevine Monthly Fly-In Weekend
LOCATION:Grapevine (E75) near Roosevelt Lake
DESCRIPTION;ENCODING=QUOTED-PRINTABLE:\n\n\n&nbsp;Come join the fun at the monthly Grapevine fly-in. On Saturday 
 around noon there is a BBQ potluck lunch. Main course is provided, just bri
 ng a side dish. Also, if you have some extra space, consider donating a bag
  of charcoal and/or lighter fluid, or some 6&rdquo; paper bowls for this De
 cember fly-in. Hope to see you there!\n&nbsp;&nbsp;\nThe camp host for this
  month is:\n~ Rick Bosshardt &amp; Neal Douglas ~&nbsp;\n\n\nFriday night: 
 Camp out under the stars\nSaturday: BBQ and Potluck Lunch\nSaturday Night: 
 Potluck &amp; Camp under the stars and tell stories around the group campfi
 re!\nSunday: Most folks depart by noon\n\n\n\n\n&nbsp;&nbsp;\nAs always,\nP
 ort-A-John on site\nFree Airplane Parking\nFree Camping\nFree Black Labrado
 r Petting Zoo\nHiking\nPlenty of Sunshine\n\nClick for weather forecast&nbs
 p;&nbsp;Grapevine is open on the entire weekend of the third Saturday&nbsp;
 of each month,&nbsp;\nFriday through Sunday.\n&nbsp;\nClick here for the GR
 APEVINE SAFETY BULLETIN\n&nbsp;\nPlease email&nbsp;This email address is be
 ing protected from spambots. You need JavaScript enabled to view it.
				do
 cument.getElementById('cloak6850225048ec79a950555d62f7e2d252').innerHTML = 
 '';
				var prefix = '&#109;a' + 'i&#108;' + '&#116;o';
				var path = 'hr'
  + 'ef' + '=';
				var addy6850225048ec79a950555d62f7e2d252 = 'AzCl&#111;&#
 117;dFly&#101;r' + '&#64;';
				addy6850225048ec79a950555d62f7e2d252 = addy
 6850225048ec79a950555d62f7e2d252 + '&#101;&#97;rthl&#105;nk' + '&#46;' + 'n
 &#101;t&amp;s&#117;bj&#101;ct=Gr&#97;p&#101;v&#105;n&#101;';
				var addy_t
 ext6850225048ec79a950555d62f7e2d252 = 'M&#105;k&#101; Andr&#101;s&#101;n';d
 ocument.getElementById('cloak6850225048ec79a950555d62f7e2d252').innerHTML +
 = ''+addy_text6850225048ec79a950555d62f7e2d252+'';
		&nbsp;for more info or
  if you are interested in volunteering.\n&nbsp;\n\n\n\n\n\n\n\n\n\n\n\n
CONTACT:Tommy Thomason This email address is being protected from spambots. You need JavaScript enabled to view it.
				document.getElementById('cloak8a673706d76f13d24f7732d1f9bb9fbb').innerHTML = '';
				var prefix = '&#109;a' + 'i&#108;' + '&#116;o';
				var path = 'hr' + 'ef' + '=';
				var addy8a673706d76f13d24f7732d1f9bb9fbb = 't&#101;th&#111;m&#97;s&#111;n' + '&#64;';
				addy8a673706d76f13d24f7732d1f9bb9fbb = addy8a673706d76f13d24f7732d1f9bb9fbb + '&#97;zp&#105;l&#111;ts' + '&#46;' + '&#111;rg';
				var addy_text8a673706d76f13d24f7732d1f9bb9fbb = 't&#101;th&#111;m&#97;s&#111;n' + '&#64;' + '&#97;zp&#105;l&#111;ts' + '&#46;' + '&#111;rg';document.getElementById('cloak8a673706d76f13d24f7732d1f9bb9fbb').innerHTML += ''+addy_text8a673706d76f13d24f7732d1f9bb9fbb+'';
		 602-708-2040
DTSTAMP:20260425T080103Z
DTSTART;TZID=America/Phoenix;VALUE=DATE:20171215
DTEND;TZID=America/Phoenix;VALUE=DATE:20171218
SEQUENCE:0
TRANSP:OPAQUE
END:VEVENT
END:VCALENDAR