BEGIN:VCALENDAR
VERSION:2.0
PRODID:-//jEvents 2.0 for Joomla//EN
CALSCALE:GREGORIAN
METHOD:PUBLISH
BEGIN:VEVENT
UID:a7fe763c4865b33e079dbd96450a02ac
CATEGORIES:Safety
CREATED:20170627T173204
SUMMARY:Aviation Weather and Flying During the Arizona Monsoon Season in Chandler
LOCATION:TransPac Aviation Academy - Chandler Airport Campus 2270 S Airport Blvd.  S
 uite 1 Chandler, AZ 85286
DESCRIPTION;ENCODING=QUOTED-PRINTABLE:Aviation Weather and Flying During the Arizona Monsoon Season\nTopic: Makin
 g the Go or No Go Decision in the Arizona Monsoon Season\n\n\nDate and Time
 : Thursday, July 13, 2017, starting at 18:00 Arizona\n\n\nSpeaker(s): Jessi
 ca Nolte - National Weather Service Meteorologist/ Aviation Program Leader\
 n\n\nBrief Description:\nLearn how to make the go or no go decision during 
 the unpredictable summer monsoon. Weather patterns can change in minutes - 
 see what to look out for and the weather information available from the Nat
 ional Weather Service. A National Weather Service Meteorologist will presen
 t and answer audience questions.\n\n\nSelect Number: WP0777065\n\n\nLocatio
 n of Seminar:\nTransPac Aviation Academy - Chandler Airport Campus\n2270 S 
 Airport Blvd. \nSuite 1\nChandler, AZ 85286\n\n\nDirections to Venue:\n\n\n
 Driving\nTake the 202 to the McQueen Exit, proceed South on McQueen and the
 n Left on Germann. After a quarter mile make Right on Airport Blvd, and the
 n another Right. TransPac is located on the Right Side on the North End of 
 the Strip Mall Building.\n\n\nFlying In\nPark in front of the CHD terminal 
 building. Exit the walk through gate into the parking lot near the CHD Cont
 rol Tower, and proceed North on Airport Blvd a short distance. TransPac is 
 located on the North Side of the strip mall.\n\n\nView Map\n\n\nFly-in Semi
 nar?: Yes KCHD\n\n\nSeating: 45 seats at the facility\n\n\nRegistration Inf
 ormation:\nClick here to register online now!\n\n\nSponsoring Division: SDL
  FAASTeam\n\n\nContact Information: LANCE SOTTILE\nPhone: (661) 717-4619\nT
 his email address is being protected from spambots. You need JavaScript ena
 bled to view it.
				document.getElementById('cloak5bd7c4cac03a79279dd95cb3
 dc2e1d05').innerHTML = '';
				var prefix = '&#109;a' + 'i&#108;' + '&#116;
 o';
				var path = 'hr' + 'ef' + '=';
				var addy5bd7c4cac03a79279dd95cb3d
 c2e1d05 = 'ls&#111;tt&#105;l&#101;' + '&#64;';
				addy5bd7c4cac03a79279dd9
 5cb3dc2e1d05 = addy5bd7c4cac03a79279dd95cb3dc2e1d05 + 'tr&#97;nsp&#97;c&#97
 ;c&#97;d&#101;my' + '&#46;' + 'c&#111;m';
				var addy_text5bd7c4cac03a7927
 9dd95cb3dc2e1d05 = 'ls&#111;tt&#105;l&#101;' + '&#64;' + 'tr&#97;nsp&#97;c&
 #97;c&#97;d&#101;my' + '&#46;' + 'c&#111;m';document.getElementById('cloak5
 bd7c4cac03a79279dd95cb3dc2e1d05').innerHTML += ''+addy_text5bd7c4cac03a7927
 9dd95cb3dc2e1d05+'';
		\n\n\nAdditional Event Information &amp; Acknowledge
 ment of Industry Sponsor(s):\nSpecial thanks to the Phoenix Office of the N
 ational Weather Service.\n\n\nEqual Access Information:\nThe FAA Safety Tea
 m (FAASTeam) is committed to providing equal access to this meeting/event f
 or all participants. If you need alternative formats or services because of
  a disability, please communicate your request as soon as possible with the
  person in the &ldquo;Contact Information&rdquo; area of the meeting/event 
 notice. Note that two weeks is usually required to arrange services.\n\n\nC
 redit Applicability:\n1 Credit for Basic Knowledge Topic 3\n1 Credit for Ad
 vanced Knowledge Topic 1\n1 Credit for Master Knowledge Topic 1\n
CONTACT:LANCE SOTTILE Phone: (661) 717-4619 This email address is being protected from spambots. You need JavaScript enabled to view it.
				document.getElementById('cloak19478ee5211cd0bcbd8abc70af3d1c33').innerHTML = '';
				var prefix = '&#109;a' + 'i&#108;' + '&#116;o';
				var path = 'hr' + 'ef' + '=';
				var addy19478ee5211cd0bcbd8abc70af3d1c33 = 'ls&#111;tt&#105;l&#101;' + '&#64;';
				addy19478ee5211cd0bcbd8abc70af3d1c33 = addy19478ee5211cd0bcbd8abc70af3d1c33 + 'tr&#97;nsp&#97;c&#97;c&#97;d&#101;my' + '&#46;' + 'c&#111;m';
				var addy_text19478ee5211cd0bcbd8abc70af3d1c33 = 'ls&#111;tt&#105;l&#101;' + '&#64;' + 'tr&#97;nsp&#97;c&#97;c&#97;d&#101;my' + '&#46;' + 'c&#111;m';document.getElementById('cloak19478ee5211cd0bcbd8abc70af3d1c33').innerHTML += ''+addy_text19478ee5211cd0bcbd8abc70af3d1c33+'';
		
DTSTAMP:20260425T094208Z
DTSTART;TZID=America/Phoenix:20170713T180000
SEQUENCE:0
TRANSP:OPAQUE
END:VEVENT
END:VCALENDAR