BEGIN:VCALENDAR
VERSION:2.0
PRODID:-//jEvents 2.0 for Joomla//EN
CALSCALE:GREGORIAN
METHOD:PUBLISH
BEGIN:VEVENT
UID:2b6993dd599a20dd009a6d06be112e02
CATEGORIES:Safety
CREATED:20170531T122119
SUMMARY:Goodyear Runway Safety Action Team (RSAT)
LOCATION:Goodyear Airport Conference Room
DESCRIPTION;ENCODING=QUOTED-PRINTABLE:Goodyear Runway Safety Action Team (RSAT)\n&nbsp;\n\n\nDate and Time: Thurs
 day, June 8, 2017, starting at 8:00 Arizona\n\n\nDescription:\n\n\nThe runw
 ay safety action team (RSAT) meeting provides an opportunity for airport us
 ers and tenants to discuss airport surface safety concerns in an effort to 
 reduce risk. The agenda items for the meeting include a discussion of runwa
 y and/or taxiway changes, markings, lighting, electrical, signage, and proc
 edures. The team will also discuss open and recently closed action items, a
 nd review runway incursions and surface deviations that have occurred in th
 e past 12 months. The meeting is open to all airport users and tenants.\n\n
 \nLocation of Seminar:\n\n\nGoodyear Airport Conference Room\n\n\nContact I
 nformation:&nbsp;\n\n\nSherlyn Halloran This email address is being protect
 ed from spambots. You need JavaScript enabled to view it.
				document.getE
 lementById('cloak4490e9c7d9b7bc38824a0bfbe063c4eb').innerHTML = '';
				var
  prefix = '&#109;a' + 'i&#108;' + '&#116;o';
				var path = 'hr' + 'ef' + '
 =';
				var addy4490e9c7d9b7bc38824a0bfbe063c4eb = 'b&#101;&#101;nfly&#105;
 ng1979' + '&#64;';
				addy4490e9c7d9b7bc38824a0bfbe063c4eb = addy4490e9c7d
 9b7bc38824a0bfbe063c4eb + 'gm&#97;&#105;l' + '&#46;' + 'c&#111;m';
				var 
 addy_text4490e9c7d9b7bc38824a0bfbe063c4eb = 'b&#101;&#101;nfly&#105;ng1979'
  + '&#64;' + 'gm&#97;&#105;l' + '&#46;' + 'c&#111;m';document.getElementByI
 d('cloak4490e9c7d9b7bc38824a0bfbe063c4eb').innerHTML += ''+addy_text4490e9c
 7d9b7bc38824a0bfbe063c4eb+'';
		\n\n\n&nbsp;\n
CONTACT:Sherlyn Halloran This email address is being protected from spambots. You need JavaScript enabled to view it.
				document.getElementById('cloaka17536a2830fddc20135db0f21e5a617').innerHTML = '';
				var prefix = '&#109;a' + 'i&#108;' + '&#116;o';
				var path = 'hr' + 'ef' + '=';
				var addya17536a2830fddc20135db0f21e5a617 = 'b&#101;&#101;nfly&#105;ng1979' + '&#64;';
				addya17536a2830fddc20135db0f21e5a617 = addya17536a2830fddc20135db0f21e5a617 + 'gm&#97;&#105;l' + '&#46;' + 'c&#111;m';
				var addy_texta17536a2830fddc20135db0f21e5a617 = 'b&#101;&#101;nfly&#105;ng1979' + '&#64;' + 'gm&#97;&#105;l' + '&#46;' + 'c&#111;m';document.getElementById('cloaka17536a2830fddc20135db0f21e5a617').innerHTML += ''+addy_texta17536a2830fddc20135db0f21e5a617+'';
		
DTSTAMP:20260425T082153Z
DTSTART;TZID=America/Phoenix:20170608T080000
DTEND;TZID=America/Phoenix:20170608T110000
SEQUENCE:0
TRANSP:OPAQUE
END:VEVENT
END:VCALENDAR