BEGIN:VCALENDAR
VERSION:2.0
PRODID:-//jEvents 2.0 for Joomla//EN
CALSCALE:GREGORIAN
METHOD:PUBLISH
BEGIN:VEVENT
UID:d5a1f989bfb48d78483dea5f510d0758
CATEGORIES:Safety
CREATED:20170531T095223
SUMMARY:BasicMed and Radio Phraseology at Yuma
LOCATION:Yuma Int'l Airport 2191 E. 32nd St. Board Room, 2nd floor Yuma, AZ 85365
DESCRIPTION;ENCODING=QUOTED-PRINTABLE:\n\nBasicMed and Radio Phraseology\n\n\nThe NEW BasicMed Program and Radio 
 Techniques and Phraseology\n\n\nDate and Time: Saturday, June 24, 2017, sta
 rting at 09:30 Arizona\n\n\nSpeaker(s): Fred Gibbs, APA Safety Director/FAA
 STeam Lead Rep\n\n\nBrief Description:\nEverything you need to know to qual
 ify and apply for the NEW BasicMed program vs. the 3rd class medical, and r
 adio techniques to sound like a professional\n\n\nSelect Number: WP0776177\
 n\n\nLocation of Seminar:\nYuma Int'l Airport\n2191 E. 32nd St.\nBoard Room
 , 2nd floor\nYuma, AZ 85365\n\n\nDirections to Venue:\n\n\nDriving Directio
 ns:\nFrom Interstate 8 going East\nTake Exit 2 onto Highway 95 (16th St) go
 ing east, turn right on Pacific Ave. Cross 32nd Street to enter the Airport
  Parking Lot.\nFrom Interstate 8 going West\nTake Exit 3, turn south (left)
  onto Ave 3E. Turn right on 32nd Street. One mile, at Pacific Ave, turn lef
 t into the Airport Parking Lot.\n\n\nFlying in: park at Million Air\n\n\nFr
 om the parking lot, turn right on Burch Way, right on Gillaspie Place. At t
 he stop sign turn right on Arizona Ave.\nAt the stop light, turn right on 3
 2nd St and right into the airport's parking lot.\n\n\nView Map\n\n\nFly-in 
 Seminar?: Yes KNYL\n\n\nSeating: 45 seats at the facility\n\n\nRegistration
  Information:\nClick here to register online now!\n\n\nSponsoring Division:
  SDL FSDO FAASTeam\n\n\nContact Information: FRED L. GIBBS\nPhone: (928) 26
 6-0112\nThis email address is being protected from spambots. You need JavaS
 cript enabled to view it.
				document.getElementById('cloak0260bd47ef87e28
 a00b2818129da1692').innerHTML = '';
				var prefix = '&#109;a' + 'i&#108;' 
 + '&#116;o';
				var path = 'hr' + 'ef' + '=';
				var addy0260bd47ef87e28a
 00b2818129da1692 = 'fr&#101;dg&#105;bbs' + '&#64;';
				addy0260bd47ef87e28
 a00b2818129da1692 = addy0260bd47ef87e28a00b2818129da1692 + 'npgc&#97;bl&#10
 1;' + '&#46;' + 'c&#111;m';
				var addy_text0260bd47ef87e28a00b2818129da16
 92 = 'fr&#101;dg&#105;bbs' + '&#64;' + 'npgc&#97;bl&#101;' + '&#46;' + 'c&#
 111;m';document.getElementById('cloak0260bd47ef87e28a00b2818129da1692').inn
 erHTML += ''+addy_text0260bd47ef87e28a00b2818129da1692+'';
		\n\n\nAddition
 al Event Information &amp; Acknowledgement of Industry Sponsor(s):\nPresent
 ed by the Arizona Pilots Association Safety Program, and sponsored and host
 ed by the Yuma International Airport\n\n\nEqual Access Information:\nThe FA
 A Safety Team (FAASTeam) is committed to providing equal access to this mee
 ting/event for all participants. If you need alternative formats or service
 s because of a disability, please communicate your request as soon as possi
 ble with the person in the &ldquo;Contact Information&rdquo; area of the me
 eting/event notice. Note that two weeks is usually required to arrange serv
 ices.\n\n\nCredit Applicability:\n1 Credit for Basic Knowledge Topic 1\n1 C
 redit for Basic Knowledge Topic 2\n1 Credit for Basic Knowledge Topic 3\n1 
 Credit for Advanced Knowledge Topic 1\n1 Credit for Advanced Knowledge Topi
 c 2\n1 Credit for Master Knowledge Topic 1\n1 Credit for Master Knowledge T
 opic 2\n
CONTACT:FRED L. GIBBS Phone: (928) 266-0112 This email address is being protected from spambots. You need JavaScript enabled to view it.
				document.getElementById('cloak66070713a99ee549c08f5bf648d61f83').innerHTML = '';
				var prefix = '&#109;a' + 'i&#108;' + '&#116;o';
				var path = 'hr' + 'ef' + '=';
				var addy66070713a99ee549c08f5bf648d61f83 = 'fr&#101;dg&#105;bbs' + '&#64;';
				addy66070713a99ee549c08f5bf648d61f83 = addy66070713a99ee549c08f5bf648d61f83 + 'npgc&#97;bl&#101;' + '&#46;' + 'c&#111;m';
				var addy_text66070713a99ee549c08f5bf648d61f83 = 'fr&#101;dg&#105;bbs' + '&#64;' + 'npgc&#97;bl&#101;' + '&#46;' + 'c&#111;m';document.getElementById('cloak66070713a99ee549c08f5bf648d61f83').innerHTML += ''+addy_text66070713a99ee549c08f5bf648d61f83+'';
		
DTSTAMP:20260425T080102Z
DTSTART;TZID=America/Phoenix:20170624T093000
SEQUENCE:0
TRANSP:OPAQUE
END:VEVENT
END:VCALENDAR