BEGIN:VCALENDAR
VERSION:2.0
PRODID:-//jEvents 2.0 for Joomla//EN
CALSCALE:GREGORIAN
METHOD:PUBLISH
BEGIN:VEVENT
UID:8baf3326a03b34386de9491b25678453
CATEGORIES:Safety
CREATED:20170531T094056
SUMMARY:Owner/Operator Maintenance in Show Low
LOCATION:Sunrise Air Ambulance Show Low Regional Airport 3151 Airport Loop Rd Show L
 ow, AZ 85901
DESCRIPTION;ENCODING=QUOTED-PRINTABLE:Owner/Operator Maintenance\nMaintenance performance requirements for Standa
 rd and Experimental Certificated aircraft.\n\n\nDate and Time: Saturday, Ju
 ne 3, 2017, starting at 12:00 Arizona\n\n\nSpeaker(s): Ernest Copeland-FAA 
 Safety Team Program Manager\n\n\nBrief Description:\nLecture/discussion con
 cerning owner/operator maintenance on Standard Type Certificated aircraft a
 s well as Expermental Certificated aircraft. This Lecture/Discussion will e
 xplore the FAA Definitions of Preventive Maintenance, Maintenance, and Insp
 ections. The briefing will also discuss Condition, 100 hour, Annual, Progre
 ssive, and Approved Inspections.\n\n\nSelect Number: WP0776358\n\n\nLocatio
 n of Seminar:\nSunrise Air Ambulance Show Low Regional Airport\n3151 Airpor
 t Loop Rd\nShow Low, AZ 85901\n\n\nDirections to Venue:\nFrom Show Low, tak
 e Deuce of Clubs/U.S. Highway 60 east toward Springerville. Just as you lea
 ve town, the airport will be on the left. Turn left onto Airport Rd. Turn r
 ight on Airport Loop Rd and park in the airport parking. Watch for an FAASa
 fety Sandwich board to guide yu to the event.\n\n\nView Map\n\n\nFly-in Sem
 inar?: Yes SOW\n\n\nSeating: 75 seats at the facility\n\n\nRegistration Inf
 ormation:\nClick here to register online now!\n\n\nSponsoring Division: FAA
 STeam\n\n\nContact Information: Ernest Copeland\nPhone: (480) 419-0330 ext.
  335\nThis email address is being protected from spambots. You need JavaScr
 ipt enabled to view it.
				document.getElementById('cloake5986d6d0d5fa5300
 9c8f42e2a3240dd').innerHTML = '';
				var prefix = '&#109;a' + 'i&#108;' + 
 '&#116;o';
				var path = 'hr' + 'ef' + '=';
				var addye5986d6d0d5fa53009
 c8f42e2a3240dd = '&#101;rn&#101;st.r.c&#111;p&#101;l&#97;nd' + '&#64;';
			
 	addye5986d6d0d5fa53009c8f42e2a3240dd = addye5986d6d0d5fa53009c8f42e2a3240d
 d + 'f&#97;&#97;' + '&#46;' + 'g&#111;v';
				var addy_texte5986d6d0d5fa530
 09c8f42e2a3240dd = '&#101;rn&#101;st.r.c&#111;p&#101;l&#97;nd' + '&#64;' + 
 'f&#97;&#97;' + '&#46;' + 'g&#111;v';document.getElementById('cloake5986d6d
 0d5fa53009c8f42e2a3240dd').innerHTML += ''+addy_texte5986d6d0d5fa53009c8f42
 e2a3240dd+'';
		\n\n\nAdditional Event Information &amp; Acknowledgement of
  Industry Sponsor(s):\nThe FAASTeam expresses its gratitude to EAA Chapter 
 586 and the Show Low Airport Authority for hosting this seminar.\n\n\nRunwa
 y incursions are a major factor in aviation safety. While many things have 
 been done to reduce the accident rate in General Aviation and the Air Carri
 er Industry, both sides of the aviation house are still experiencing far to
 o many runway incursions. This could be the result of "Read back - Hear bac
 k" issues, poor airport signage, pilot inattention/knowledge or a combinati
 on of factors. Runway safety is a major concern for all pilots and if you h
 ave been around aviation for a long period of time you have probably seen s
 ome close calls on the runways and taxiways, or even been involved in some 
 yourself. Come learn about this Airport and give your input to the Team so 
 they can work on improving the airport for all who fly there.\n\n\nPilot ai
 rspace deviations continue to be a major risk in the national airspace syst
 em. To reduce the chance that you might be involved in an airspace deviatio
 n incident, you are highly encouraged to take an on-line learning center co
 urse such as ALC 42, ALC 154, and ALC90 on www.faasafety.gov, or search the
  learning library for associated guidance on airspace incursions. Remember,
  safe and prudent airmen have superior situational awareness and have a pla
 n to keep it that way.\n\n\nEqual Access Information:\nThe FAA Safety Team 
 (FAASTeam) is committed to providing equal access to this meeting/event for
  all participants. If you need alternative formats or services because of a
  disability, please communicate your request as soon as possible with the p
 erson in the &ldquo;Contact Information&rdquo; area of the meeting/event no
 tice. Note that two weeks is usually required to arrange services.\n\n\nCre
 dit Applicability:\n1 Credit for Advanced Knowledge Topic 2\n1 Credit for M
 aster Knowledge Topic 2\n1 Hour Total for AMT\n
CONTACT:Ernest Copeland Phone: (480) 419-0330 ext. 335 This email address is being protected from spambots. You need JavaScript enabled to view it.
				document.getElementById('cloakaf48f61ad38c27fb48018c09a868b432').innerHTML = '';
				var prefix = '&#109;a' + 'i&#108;' + '&#116;o';
				var path = 'hr' + 'ef' + '=';
				var addyaf48f61ad38c27fb48018c09a868b432 = '&#101;rn&#101;st.r.c&#111;p&#101;l&#97;nd' + '&#64;';
				addyaf48f61ad38c27fb48018c09a868b432 = addyaf48f61ad38c27fb48018c09a868b432 + 'f&#97;&#97;' + '&#46;' + 'g&#111;v';
				var addy_textaf48f61ad38c27fb48018c09a868b432 = '&#101;rn&#101;st.r.c&#111;p&#101;l&#97;nd' + '&#64;' + 'f&#97;&#97;' + '&#46;' + 'g&#111;v';document.getElementById('cloakaf48f61ad38c27fb48018c09a868b432').innerHTML += ''+addy_textaf48f61ad38c27fb48018c09a868b432+'';
		
DTSTAMP:20260425T094008Z
DTSTART;TZID=America/Phoenix;VALUE=DATE:20170603
DTEND;TZID=America/Phoenix;VALUE=DATE:20170604
SEQUENCE:0
TRANSP:OPAQUE
END:VEVENT
END:VCALENDAR