BEGIN:VCALENDAR
VERSION:2.0
PRODID:-//jEvents 2.0 for Joomla//EN
CALSCALE:GREGORIAN
METHOD:PUBLISH
BEGIN:VEVENT
UID:7ff1fca7a399c5ddac4c15002457492b
CATEGORIES:Safety
CREATED:20170207T154114
SUMMARY:Stabilized Approaches and Loss of Control Accidents in Sedona
LOCATION:Sedona Airport Terminal 235 Air Terminal Drive Conference Room Sedona, AZ 8
 6336
DESCRIPTION;ENCODING=QUOTED-PRINTABLE:Stabiliized Approaches and Loss of Control Accidents\nHow to fly a stabiliz
 ed approach and why. Avoiding loss of control accidents, the leading cause 
 of General Aviation fatalities.\n\n\nDate and Time: Saturday, February 25, 
 2017, starting at 09:00 Arizona\n\n\nSpeaker(s): Terry Brandt &amp; Doug Pa
 lmquist\n\n\nBrief Description:\nHow to fly a stabilized approach. The posi
 tive advantages are improved aircraft control throughout the approach and l
 anding. Changing conditions of airspeed, sink rate and external factors are
  more readily detected and corrected. Application is pertinent to visual an
 d instrument conditions, resulting in improved flying skills.\n\n\nLoss of 
 Control accidents continue to be the leading overall cause of General Aviat
 ion accidents involving fatalities. The types or categories of "loss of con
 trol" will be presented along with recognition factors on how to avoid the 
 situations in which they occur.\n\n\nSelect Number: WP0774074\n\n\nLocation
  of Seminar:\nSedona Airport Terminal\n235 Air Terminal Drive\nConference R
 oom\nSedona, AZ 86336\n\n\nDirections to Venue:\nSedona airport terminal, S
 edona Arizona. Fly in with plenty of transient parking next to terminal. Dr
 ive in parking is also available.\n\n\nView Map\n\n\nFly-in Seminar?: Yes K
 SEZ\n\n\nSeating: 45 seats at the facility\n\n\nRegistration Information:\n
 Click here to register online now!\n\n\nSponsoring Division: FAASTeam\nCont
 act Information: DOUG PALMQUIST\nPhone: (928) 634-2478\nThis email address 
 is being protected from spambots. You need JavaScript enabled to view it.
	
 			document.getElementById('cloak67075b29e9f94abb936190a6e2a27fdf').innerHT
 ML = '';
				var prefix = '&#109;a' + 'i&#108;' + '&#116;o';
				var path =
  'hr' + 'ef' + '=';
				var addy67075b29e9f94abb936190a6e2a27fdf = 'p&#97;l
 mwh&#105;t' + '&#64;';
				addy67075b29e9f94abb936190a6e2a27fdf = addy67075
 b29e9f94abb936190a6e2a27fdf + 'y&#97;h&#111;&#111;' + '&#46;' + 'c&#111;m';
 
				var addy_text67075b29e9f94abb936190a6e2a27fdf = 'p&#97;lmwh&#105;t' + 
 '&#64;' + 'y&#97;h&#111;&#111;' + '&#46;' + 'c&#111;m';document.getElementB
 yId('cloak67075b29e9f94abb936190a6e2a27fdf').innerHTML += ''+addy_text67075
 b29e9f94abb936190a6e2a27fdf+'';
		\n\n\nAdditional Event Information &amp; 
 Acknowledgement of Industry Sponsor(s):\nCo hosted by the Sedona Flying Clu
 b and Sedona Airport Director Amanda Shankland.\n\n\nEqual Access Informati
 on:\nThe FAA Safety Team (FAASTeam) is committed to providing equal access 
 to this meeting/event for all participants. If you need alternative formats
  or services because of a disability, please communicate your request as so
 on as possible with the person in the &ldquo;Contact Information&rdquo; are
 a of the meeting/event notice. Note that two weeks is usually required to a
 rrange services.\n\n\nCredit Applicability:\n1 Credit for Basic Knowledge T
 opic 2\n1 Credit for Basic Knowledge Topic 3\n1 Credit for Advanced Knowled
 ge Topic 2\n1 Credit for Master Knowledge Topic 2\n
CONTACT:FAASTeam Contact Information: DOUG PALMQUIST Phone: (928) 634-2478 This email address is being protected from spambots. You need JavaScript enabled to view it.
				document.getElementById('cloak4643d26d8d32070b489a64f01e64eed7').innerHTML = '';
				var prefix = '&#109;a' + 'i&#108;' + '&#116;o';
				var path = 'hr' + 'ef' + '=';
				var addy4643d26d8d32070b489a64f01e64eed7 = 'p&#97;lmwh&#105;t' + '&#64;';
				addy4643d26d8d32070b489a64f01e64eed7 = addy4643d26d8d32070b489a64f01e64eed7 + 'y&#97;h&#111;&#111;' + '&#46;' + 'c&#111;m';
				var addy_text4643d26d8d32070b489a64f01e64eed7 = 'p&#97;lmwh&#105;t' + '&#64;' + 'y&#97;h&#111;&#111;' + '&#46;' + 'c&#111;m';document.getElementById('cloak4643d26d8d32070b489a64f01e64eed7').innerHTML += ''+addy_text4643d26d8d32070b489a64f01e64eed7+'';
		
DTSTAMP:20260424T160054Z
DTSTART;TZID=America/Phoenix:20170225T090000
SEQUENCE:0
TRANSP:OPAQUE
END:VEVENT
END:VCALENDAR