BEGIN:VCALENDAR
VERSION:2.0
PRODID:-//jEvents 2.0 for Joomla//EN
CALSCALE:GREGORIAN
METHOD:PUBLISH
BEGIN:VEVENT
UID:d19a11374db5646503146aa49e059eb2
CATEGORIES:Aviation Related Event
CREATED:20170105T190131
SUMMARY:Aviation Day at the Capitol
LOCATION:Arizona State Capitol Lawn 1700 W. Washington St. Phoenix, Arizona  85007
DESCRIPTION;ENCODING=QUOTED-PRINTABLE:12th Annual&nbsp;\nArizona Aviation Day at the Capitol\nJanuary 17, 2017\n1
 1:00 AM - 1:00 PM\n\n\n\n\n\n&nbsp;\n\n\nThe Mission of Arizona Aviation Da
 y at the Capitol is to inform the legislative members and staff of the Ariz
 ona State Government about the benefits and economic impact of aviation wit
 hin the State of Arizona. The Mission also introduces these individuals to 
 the significant contributions made by the many businesses, organizations, a
 nd associations which support aviation in their communities and throughout 
 the State.&nbsp;\n\nwww.azairports.org/\n\n\n&nbsp;1/17/2017When:Tuesday, J
 anuary 17, 2017\n11:00 AMWhere:Arizona State Capitol Lawn\n1700 W. Washingt
 on St.\nPhoenix,&nbsp;Arizona&nbsp;&nbsp;85007\n\nContact:Desirae Barquin\n
 This email address is being protected from spambots. You need JavaScript en
 abled to view it.
				document.getElementById('cloakb184655c70a026d8e1e3359
 1acf7936f').innerHTML = '';
				var prefix = '&#109;a' + 'i&#108;' + '&#116
 ;o';
				var path = 'hr' + 'ef' + '=';
				var addyb184655c70a026d8e1e33591
 acf7936f = 'd&#101;s&#105;r&#97;&#101;' + '&#64;';
				addyb184655c70a026d8
 e1e33591acf7936f = addyb184655c70a026d8e1e33591acf7936f + '&#97;z&#97;&#105
 ;rp&#111;rts' + '&#46;' + '&#111;rg';
				var addy_textb184655c70a026d8e1e3
 3591acf7936f = 'd&#101;s&#105;r&#97;&#101;' + '&#64;' + '&#97;z&#97;&#105;r
 p&#111;rts' + '&#46;' + '&#111;rg';document.getElementById('cloakb184655c70
 a026d8e1e33591acf7936f').innerHTML += ''+addy_textb184655c70a026d8e1e33591a
 cf7936f+'';
		\n480-403-4618&nbsp;\n&nbsp;\n
CONTACT:This email address is being protected from spambots. You need JavaScript enabled to view it.
				document.getElementById('cloakb3421ac4f90fec94c1227a2c185f3e09').innerHTML = '';
				var prefix = '&#109;a' + 'i&#108;' + '&#116;o';
				var path = 'hr' + 'ef' + '=';
				var addyb3421ac4f90fec94c1227a2c185f3e09 = 'd&#101;s&#105;r&#97;&#101;' + '&#64;';
				addyb3421ac4f90fec94c1227a2c185f3e09 = addyb3421ac4f90fec94c1227a2c185f3e09 + '&#97;z&#97;&#105;rp&#111;rts' + '&#46;' + '&#111;rg';
				var addy_textb3421ac4f90fec94c1227a2c185f3e09 = 'd&#101;s&#105;r&#97;&#101;' + '&#64;' + '&#97;z&#97;&#105;rp&#111;rts' + '&#46;' + '&#111;rg';document.getElementById('cloakb3421ac4f90fec94c1227a2c185f3e09').innerHTML += ''+addy_textb3421ac4f90fec94c1227a2c185f3e09+'';
		
DTSTAMP:20260424T141437Z
DTSTART;TZID=America/Phoenix:20170117T110000
DTEND;TZID=America/Phoenix:20170117T130000
SEQUENCE:0
TRANSP:OPAQUE
END:VEVENT
END:VCALENDAR