BEGIN:VCALENDAR
VERSION:2.0
PRODID:-//jEvents 2.0 for Joomla//EN
CALSCALE:GREGORIAN
METHOD:PUBLISH
BEGIN:VEVENT
UID:6cd4fc41786967481e6a271144d53e5c
CATEGORIES:Safety
CREATED:20161027T160322
SUMMARY:Forest Fire Operations in Mesa
LOCATION:Copperstate Fly-In Falcon Field Mesa
DESCRIPTION;ENCODING=QUOTED-PRINTABLE:\n\nSaturday 10:00AM\n\n\nUS Forest Service - Forest Fire Operations, What 
 I need to know\n\n\nBy Matt Huse, Tonto Forest Aviation Officer, Tanker Bas
 e Manager\n\n\n We all see the fire TFR's, but what's actually going on the
 re, what do I need to know. Come meet our partners in the AZ backcountry, t
 he USFS Fire &amp; Aviation Officer for the Tonto National Forest.&nbsp;Pre
 sentation and question &amp; answers. \n\n\nDonuts &amp; Coffee for attende
 es.\n\n\n&nbsp;\n\nCopperstate Fly-In is this Friday and Saturday!&nbsp;\n\
 n\n&nbsp;\n\n\nHey folks,\n\n\nDon't miss out great content through our Cop
 perstate forums! Look for us in the forum tents starting at 10:00AM both da
 ys.\n\n\nWe'd also like to let the Forest Service know, through a good atte
 ndance, that we are interested in understanding safety issues surrounding f
 irefighting and the usual TFR during a forest fire.\n\n\nStop by the booth 
 for a FREE custom made laminated luggage tag!\n\n\nSee you there,\n\n\nMark
  Spencer\n\n\nVice President - Arizona Pilots Association\nAZ Liaison &amp;
  Public Lands Director - Recreational Aviation Foundation\n520.826.2112\nww
 w.AZPilots.org\nwww.Facebook.com/AZPilots.org\nwww.theRAF.org\n\n\n&nbsp;\n
 Copperstate Fly-In&nbsp;is this Friday and Saturday!&nbsp;Hey folks,\nDon't
  miss out great content&nbsp;through our&nbsp;Copperstate forums!&nbsp;Look
  for us in the forum tents starting at&nbsp;10:00AM both days.\n\nWe'd also
  like to let the Forest Service know, through a good attendance, that we ar
 e interested in understanding safety issues surrounding firefighting and th
 e usual TFR during a forest fire.\n\nStop by the booth for a FREE custom ma
 de&nbsp;laminated&nbsp;luggage tag!\n\nSee you there,\n\nMark Spencer\n\nVi
 ce President - Arizona Pilots Association\nAZ Liaison &amp; Public Lands Di
 rector - Recreational Aviation Foundation\n520.826.2112\nwww.AZPilots.org\n
 www.Facebook.com/AZPilots.org\nwww.theRAF.org\n\n&nbsp;\n
CONTACT:Mark Spencer  520.826.2112
DTSTAMP:20260423T133639Z
DTSTART;TZID=America/Phoenix:20161029T100000
DTEND;TZID=America/Phoenix:20161029T110000
SEQUENCE:0
TRANSP:OPAQUE
END:VEVENT
END:VCALENDAR