BEGIN:VCALENDAR
VERSION:2.0
PRODID:-//jEvents 2.0 for Joomla//EN
CALSCALE:GREGORIAN
METHOD:PUBLISH
BEGIN:VEVENT
UID:64cabcb9d051c9c6e4ab7a31c16e64ac
CATEGORIES:Safety
CREATED:20161027T155827
SUMMARY:Avoiding Tragedy by Combating Complacency in Mesa
LOCATION:Copperstate Fly-In Falcon Field Mesa
DESCRIPTION;ENCODING=QUOTED-PRINTABLE:\n\nFriday 10:00AM\n\n\nAvoiding Tragedy by Combating Complacency\n\n\nAPA'
 s Safety Chair, David Dunteman\n\n\nDon't be one of the stats, tricks to st
 aying on your game in the front and backcountry! \n\n\nDonuts &amp; Coffee 
 for attendees.\n\n\n&nbsp;\n\nCopperstate Fly-In is this Friday and Saturda
 y!&nbsp;\n\n\n&nbsp;\n\n\nHey folks,\n\n\nDon't miss out great content thro
 ugh our Copperstate forums! Look for us in the forum tents starting at 10:0
 0AM both days.\n\n\nWe'd also like to let the Forest Service know, through 
 a good attendance, that we are interested in understanding safety issues su
 rrounding firefighting and the usual TFR during a forest fire.\n\n\nStop by
  the booth for a FREE custom made laminated luggage tag!\n\n\nSee you there
 ,\n\n\nMark Spencer\n\n\nVice President - Arizona Pilots Association\nAZ Li
 aison &amp; Public Lands Director - Recreational Aviation Foundation\n520.8
 26.2112\nwww.AZPilots.org\nwww.Facebook.com/AZPilots.org\nwww.theRAF.org\n\
 n\n&nbsp;\nCopperstate Fly-In&nbsp;is this Friday and Saturday!&nbsp;Hey fo
 lks,\nDon't miss out great content&nbsp;through our&nbsp;Copperstate forums
 !&nbsp;Look for us in the forum tents starting at&nbsp;10:00AM both days.\n
 \nWe'd also like to let the Forest Service know, through a good attendance,
  that we are interested in understanding safety issues surrounding firefigh
 ting and the usual TFR during a forest fire.\n\nStop by the booth for a FRE
 E custom made&nbsp;laminated&nbsp;luggage tag!\n\nSee you there,\n\nMark Sp
 encer\n\nVice President - Arizona Pilots Association\nAZ Liaison &amp; Publ
 ic Lands Director - Recreational Aviation Foundation\n520.826.2112\nwww.AZP
 ilots.org\nwww.Facebook.com/AZPilots.org\nwww.theRAF.org\n\n&nbsp;\n
CONTACT:Mark Spencer  520.826.2112
DTSTAMP:20260423T134102Z
DTSTART;TZID=America/Phoenix:20161028T100000
DTEND;TZID=America/Phoenix:20161028T110000
SEQUENCE:0
TRANSP:OPAQUE
END:VEVENT
END:VCALENDAR