BEGIN:VCALENDAR
VERSION:2.0
PRODID:-//jEvents 2.0 for Joomla//EN
CALSCALE:GREGORIAN
METHOD:PUBLISH
BEGIN:VEVENT
UID:3c0abffb0efe2ff98491396efca998a6
CATEGORIES:Safety
CREATED:20161027T153927
SUMMARY:Advanced Flight Training at Mesa
LOCATION:Falcon Field, Mesa, Arizona
DESCRIPTION;ENCODING=QUOTED-PRINTABLE:Advanced Back Country Flying - Techniques &amp; Procedures\nwww.bush-air.co
 m\n"CC" Milne Pocock\nCopperstate Fly-In at Falcon Field, Mesa, Arizona\n\n
 \n&nbsp;\n\n\n\n\n\n&nbsp;\n
CONTACT:"CC" Milne Pocock phone: 1 928 460 3987 email: This email address is being protected from spambots. You need JavaScript enabled to view it.
				document.getElementById('cloak3dfff7b785210d4c590cc9cd48cff4c8').innerHTML = '';
				var prefix = '&#109;a' + 'i&#108;' + '&#116;o';
				var path = 'hr' + 'ef' + '=';
				var addy3dfff7b785210d4c590cc9cd48cff4c8 = '&#105;nf&#111;' + '&#64;';
				addy3dfff7b785210d4c590cc9cd48cff4c8 = addy3dfff7b785210d4c590cc9cd48cff4c8 + 'b&#117;sh-&#97;&#105;r' + '&#46;' + 'c&#111;m';
				var addy_text3dfff7b785210d4c590cc9cd48cff4c8 = '&#105;nf&#111;' + '&#64;' + 'b&#117;sh-&#97;&#105;r' + '&#46;' + 'c&#111;m';document.getElementById('cloak3dfff7b785210d4c590cc9cd48cff4c8').innerHTML += ''+addy_text3dfff7b785210d4c590cc9cd48cff4c8+'';
		
DTSTAMP:20260423T133722Z
DTSTART;TZID=America/Phoenix:20161028T090000
DTEND;TZID=America/Phoenix:20161028T100000
SEQUENCE:0
TRANSP:OPAQUE
END:VEVENT
END:VCALENDAR