BEGIN:VCALENDAR
VERSION:2.0
PRODID:-//jEvents 2.0 for Joomla//EN
CALSCALE:GREGORIAN
METHOD:PUBLISH
BEGIN:VEVENT
UID:102ea325877a85e919ab95f851f521be
CATEGORIES:Safety
CREATED:20161025T132023
SUMMARY:Wings Safety Program in Flagstaff
LOCATION:WISEMAN AVIATION 2650 W. SHAMRELL BLVD Flagstaff, AZ 86005
DESCRIPTION;ENCODING=QUOTED-PRINTABLE:\n&nbsp;\nWINGS Safety Program\nArizona high country winter weather, GAARMS
  update, KFLG airport operations update\n\n\nDate and Time: Saturday, Novem
 ber 19, 2016, starting at 09:30 Arizona\n\n\nSpeaker(s): Fred Gibbs, APA, B
 arney Helmick, Airport Mgr and Marc Gosik, Tower Mgr\n\n\nBrief Description
 :\nA refresher for those who live and fly in the north country with regard 
 to winter weather conditions and hazards, updates on Flagstaff airport and 
 tower operations, and a review of fatal accidents over the past year.\n\n\n
 Select Number: WP0771998\n\n\nLocation of Seminar:\nWISEMAN AVIATION\n2650 
 W. SHAMRELL BLVD\nFlagstaff, AZ 86005\n\n\nDirections to Venue:\nWiseman Av
 iation hangar, Flagstaff-Pulliam airport\n\n\nView Map\n\n\nFly-in Seminar?
 : Yes KFLG\n\n\nSeating: 60 seats at the facility\n\n\nRegistration Informa
 tion:\nClick here to register online now!\n\n\nSponsoring Division: Scottsd
 ale FSDO\n\n\nContact Information: FRED L. GIBBS\nPhone: 928-266-0112\nThis
  email address is being protected from spambots. You need JavaScript enable
 d to view it.
				document.getElementById('cloakc8646f24e15c6c177249b6755c3
 49adb').innerHTML = '';
				var prefix = '&#109;a' + 'i&#108;' + '&#116;o';
 
				var path = 'hr' + 'ef' + '=';
				var addyc8646f24e15c6c177249b6755c34
 9adb = 'fr&#101;dg&#105;bbs' + '&#64;';
				addyc8646f24e15c6c177249b6755c3
 49adb = addyc8646f24e15c6c177249b6755c349adb + 'npgc&#97;bl&#101;' + '&#46;
 ' + 'c&#111;m';
				var addy_textc8646f24e15c6c177249b6755c349adb = 'fr&#10
 1;dg&#105;bbs' + '&#64;' + 'npgc&#97;bl&#101;' + '&#46;' + 'c&#111;m';docum
 ent.getElementById('cloakc8646f24e15c6c177249b6755c349adb').innerHTML += ''
 +addy_textc8646f24e15c6c177249b6755c349adb+'';
		\n\n\nAdditional Event Inf
 ormation &amp; Acknowledgement of Industry Sponsor(s):\nPresented by the Ar
 izona Pilots Association, hosted by Wiseman Aviation and supported by local
  EAA chapter 664.\n\n\nEqual Access Information:\nThe FAA Safety Team (FAAS
 Team) is committed to providing equal access to this meeting/event for all 
 participants. If you need alternative formats or services because of a disa
 bility, please communicate your request as soon as possible with the person
  in the &ldquo;Contact Information&rdquo; area of the meeting/event notice.
  Note that two weeks is usually required to arrange services.\n\n\nCredit A
 pplicability:\n1 Credit for Basic Knowledge Topic 1\n1 Credit for Basic Kno
 wledge Topic 2\n1 Credit for Basic Knowledge Topic 3\n1 Credit for Advanced
  Knowledge Topic 1\n1 Credit for Advanced Knowledge Topic 2\n1 Credit for M
 aster Knowledge Topic 1\n1 Credit for Master Knowledge Topic 2\n
CONTACT:FRED L. GIBBS Phone: 928-266-0112 This email address is being protected from spambots. You need JavaScript enabled to view it.
				document.getElementById('cloakfc24930eb3a71c3e0836e7092106dec7').innerHTML = '';
				var prefix = '&#109;a' + 'i&#108;' + '&#116;o';
				var path = 'hr' + 'ef' + '=';
				var addyfc24930eb3a71c3e0836e7092106dec7 = 'fr&#101;dg&#105;bbs' + '&#64;';
				addyfc24930eb3a71c3e0836e7092106dec7 = addyfc24930eb3a71c3e0836e7092106dec7 + 'npgc&#97;bl&#101;' + '&#46;' + 'c&#111;m';
				var addy_textfc24930eb3a71c3e0836e7092106dec7 = 'fr&#101;dg&#105;bbs' + '&#64;' + 'npgc&#97;bl&#101;' + '&#46;' + 'c&#111;m';document.getElementById('cloakfc24930eb3a71c3e0836e7092106dec7').innerHTML += ''+addy_textfc24930eb3a71c3e0836e7092106dec7+'';
		
DTSTAMP:20260424T110427Z
DTSTART;TZID=America/Phoenix:20161119T093000
SEQUENCE:0
TRANSP:OPAQUE
END:VEVENT
END:VCALENDAR