BEGIN:VCALENDAR
VERSION:2.0
PRODID:-//jEvents 2.0 for Joomla//EN
CALSCALE:GREGORIAN
METHOD:PUBLISH
BEGIN:VEVENT
UID:4bfa1656f88aee90e5e6cd557e434875
CATEGORIES:Safety
CREATED:20161025T131440
SUMMARY:Flight Planning and Weather Briefing in Buckeye
LOCATION:Buckeye Municipal Airport 3000 S Palo Verde Rd APS Hangar Buckeye, AZ 85326
DESCRIPTION;ENCODING=QUOTED-PRINTABLE:Flight Planning and Weather Briefing\nAviation weather sources and uses\n\n
 \nDate and Time: Saturday, November 12, 2016, starting at 09:30 Arizona\n\n
 \nSpeaker(s): FAAST Team--Terry Brandt\n\n\nBrief Description:\nIncreased u
 nderstading of weather and flight information specific to the pilots operat
 ional needs.\n\n\nConsider various sources, formats and applications.\n\n\n
 Select Number: WP0771890\n\n\nLocation of Seminar: Buckeye Municipal Airpor
 t\n3000 S Palo Verde Rd\nAPS Hangar\nBuckeye, AZ 85326\n\n\nDirections to V
 enue:\nIn north hangar east of rotating beacon\n\n\nView Map\n\n\nFly-in Se
 minar?: Yes KBXK\n\n\nSeating: 50 seats at the facility\n\n\nRegistration I
 nformation:\nClick here to register online now!\n\n\nSponsoring Division: S
 cottsdale FSDO\n\n\nContact Information: TERRY WAYNE BRANDT\nPhone: 602-739
 -0554\nThis email address is being protected from spambots. You need JavaSc
 ript enabled to view it.
				document.getElementById('cloak5756d6c6daa74686
 cbb95fd938099ceb').innerHTML = '';
				var prefix = '&#109;a' + 'i&#108;' +
  '&#116;o';
				var path = 'hr' + 'ef' + '=';
				var addy5756d6c6daa74686c
 bb95fd938099ceb = 'tbr&#97;ndt33' + '&#64;';
				addy5756d6c6daa74686cbb95f
 d938099ceb = addy5756d6c6daa74686cbb95fd938099ceb + '&#101;&#97;rthl&#105;n
 k' + '&#46;' + 'n&#101;t';
				var addy_text5756d6c6daa74686cbb95fd938099ce
 b = 'tbr&#97;ndt33' + '&#64;' + '&#101;&#97;rthl&#105;nk' + '&#46;' + 'n&#1
 01;t';document.getElementById('cloak5756d6c6daa74686cbb95fd938099ceb').inne
 rHTML += ''+addy_text5756d6c6daa74686cbb95fd938099ceb+'';
		\n\n\nAdditiona
 l Event Information &amp; Acknowledgement of Industry Sponsor(s):\nHosted b
 y Buckeye Municipal Airport.\n\n\nEAA Chapter 55 Light Flyers will have a b
 reakfast starting at 0800 between T-hangar rows C and D\n\n\nSources and re
 ferences:\n\n\nDUATS.com, 1800wxbrief.com, EFB Programs, Aviation Weather S
 ervices, Aviation Weather, ACS and PTS for your pilot level.\n\n\nEqual Acc
 ess Information:\nThe FAA Safety Team (FAASTeam) is committed to providing 
 equal access to this meeting/event for all participants. If you need altern
 ative formats or services because of a disability, please communicate your 
 request as soon as possible with the person in the &ldquo;Contact Informati
 on&rdquo; area of the meeting/event notice. Note that two weeks is usually 
 required to arrange services.\n\n\nCredit Applicability:\n1 Credit for Basi
 c Knowledge Topic 3\n1 Credit for Advanced Knowledge Topic 2\n1 Credit for 
 Master Knowledge Topic 2\n
CONTACT:TERRY WAYNE BRANDT Phone: 602-739-0554 This email address is being protected from spambots. You need JavaScript enabled to view it.
				document.getElementById('cloak6d557dd028d623662dc3c714b9c95420').innerHTML = '';
				var prefix = '&#109;a' + 'i&#108;' + '&#116;o';
				var path = 'hr' + 'ef' + '=';
				var addy6d557dd028d623662dc3c714b9c95420 = 'tbr&#97;ndt33' + '&#64;';
				addy6d557dd028d623662dc3c714b9c95420 = addy6d557dd028d623662dc3c714b9c95420 + '&#101;&#97;rthl&#105;nk' + '&#46;' + 'n&#101;t';
				var addy_text6d557dd028d623662dc3c714b9c95420 = 'tbr&#97;ndt33' + '&#64;' + '&#101;&#97;rthl&#105;nk' + '&#46;' + 'n&#101;t';document.getElementById('cloak6d557dd028d623662dc3c714b9c95420').innerHTML += ''+addy_text6d557dd028d623662dc3c714b9c95420+'';
		
DTSTAMP:20260424T155421Z
DTSTART;TZID=America/Phoenix:20161112T093000
SEQUENCE:0
TRANSP:OPAQUE
END:VEVENT
END:VCALENDAR