BEGIN:VCALENDAR
VERSION:2.0
PRODID:-//jEvents 2.0 for Joomla//EN
CALSCALE:GREGORIAN
METHOD:PUBLISH
BEGIN:VEVENT
UID:b98a37e8bde04b152ad35f74c3f590ee
CATEGORIES:Backcountry
CREATED:20161011T092933
SUMMARY:Grapevine CLOSED for Surface Sealing
LOCATION:Grapevine
DESCRIPTION;ENCODING=QUOTED-PRINTABLE:\n\nGapevine will be CLOSED Thursday the 13th through Sunday the 16th for t
 he Surface Sealing Project, no flights in or out will be permitted.\n\n\n\n
 \nMonthly Fly-In RESCHEDULED to the following weekend, Oct &nbsp;21-23.\n\n
 \n\n\nPlease contact Mark&nbsp;This email address is being protected from s
 pambots. You need JavaScript enabled to view it.
				document.getElementByI
 d('cloak43e55f75238c839a9090a5c85b249059').innerHTML = '';
				var prefix =
  '&#109;a' + 'i&#108;' + '&#116;o';
				var path = 'hr' + 'ef' + '=';
				v
 ar addy43e55f75238c839a9090a5c85b249059 = 'msp&#101;nc&#101;r' + '&#64;';
	
 			addy43e55f75238c839a9090a5c85b249059 = addy43e55f75238c839a9090a5c85b249
 059 + '&#97;zp&#105;l&#111;ts' + '&#46;' + '&#111;rg';
				var addy_text43e
 55f75238c839a9090a5c85b249059 = 'msp&#101;nc&#101;r' + '&#64;' + '&#97;zp&#
 105;l&#111;ts' + '&#46;' + '&#111;rg';document.getElementById('cloak43e55f7
 5238c839a9090a5c85b249059').innerHTML += ''+addy_text43e55f75238c839a9090a5
 c85b249059+'';
		&nbsp;or Tommy This email address is being protected from 
 spambots. You need JavaScript enabled to view it.
				document.getElementBy
 Id('cloakbf0ead23071d47ce94f1439e5f404b1f').innerHTML = '';
				var prefix 
 = '&#109;a' + 'i&#108;' + '&#116;o';
				var path = 'hr' + 'ef' + '=';
				
 var addybf0ead23071d47ce94f1439e5f404b1f = 't&#101;th&#111;m&#97;s&#111;n' 
 + '&#64;';
				addybf0ead23071d47ce94f1439e5f404b1f = addybf0ead23071d47ce9
 4f1439e5f404b1f + '&#97;zp&#105;l&#111;ts' + '&#46;' + '&#111;rg';
				var 
 addy_textbf0ead23071d47ce94f1439e5f404b1f = 't&#101;th&#111;m&#97;s&#111;n'
  + '&#64;' + '&#97;zp&#105;l&#111;ts' + '&#46;' + '&#111;rg';document.getEl
 ementById('cloakbf0ead23071d47ce94f1439e5f404b1f').innerHTML += ''+addy_tex
 tbf0ead23071d47ce94f1439e5f404b1f+'';
		&nbsp; for more info.\n\n\n&nbsp;\n
CONTACT:Mark This email address is being protected from spambots. You need JavaScript enabled to view it.
				document.getElementById('cloak7bca31f7555c1a361f2919043d333baa').innerHTML = '';
				var prefix = '&#109;a' + 'i&#108;' + '&#116;o';
				var path = 'hr' + 'ef' + '=';
				var addy7bca31f7555c1a361f2919043d333baa = 'msp&#101;nc&#101;r' + '&#64;';
				addy7bca31f7555c1a361f2919043d333baa = addy7bca31f7555c1a361f2919043d333baa + '&#97;zp&#105;l&#111;ts' + '&#46;' + '&#111;rg';
				var addy_text7bca31f7555c1a361f2919043d333baa = 'msp&#101;nc&#101;r' + '&#64;' + '&#97;zp&#105;l&#111;ts' + '&#46;' + '&#111;rg';document.getElementById('cloak7bca31f7555c1a361f2919043d333baa').innerHTML += ''+addy_text7bca31f7555c1a361f2919043d333baa+'';
		 or Tommy This email address is being protected from spambots. You need JavaScript enabled to view it.
				document.getElementById('cloak94bc5fed383c7f69ddba95269d8ee79b').innerHTML = '';
				var prefix = '&#109;a' + 'i&#108;' + '&#116;o';
				var path = 'hr' + 'ef' + '=';
				var addy94bc5fed383c7f69ddba95269d8ee79b = 't&#101;th&#111;m&#97;s&#111;n' + '&#64;';
				addy94bc5fed383c7f69ddba95269d8ee79b = addy94bc5fed383c7f69ddba95269d8ee79b + '&#97;zp&#105;l&#111;ts' + '&#46;' + '&#111;rg';
				var addy_text94bc5fed383c7f69ddba95269d8ee79b = 't&#101;th&#111;m&#97;s&#111;n' + '&#64;' + '&#97;zp&#105;l&#111;ts' + '&#46;' + '&#111;rg';document.getElementById('cloak94bc5fed383c7f69ddba95269d8ee79b').innerHTML += ''+addy_text94bc5fed383c7f69ddba95269d8ee79b+'';
		
DTSTAMP:20260423T134231Z
DTSTART;TZID=America/Phoenix;VALUE=DATE:20161014
DTEND;TZID=America/Phoenix;VALUE=DATE:20161017
SEQUENCE:0
TRANSP:OPAQUE
END:VEVENT
END:VCALENDAR