BEGIN:VCALENDAR
VERSION:2.0
PRODID:-//jEvents 2.0 for Joomla//EN
CALSCALE:GREGORIAN
METHOD:PUBLISH
BEGIN:VEVENT
UID:44c8ece64bbf24c342cc701b1d8326b5
CATEGORIES:Safety
CREATED:20160912T173829
SUMMARY:AOPA Trivia Night in Mesa
LOCATION:Holiday Inn & Suites 1600 S. Country Club Drive Mesa, AZ 85210
DESCRIPTION;ENCODING=QUOTED-PRINTABLE:FREE AOPA Air Safety Institute Safety Seminar\nTrivia Night!\n\n\nSure, you
  know lots of important stuff about flying&hellip;but how sharp are your tr
 ivia skills? Join us for our latest seminar and find out! We&rsquo;ll test 
 your knowledge of the arcane while also exploring the safety issues behind 
 the trivia. For example, do you know:\nHow long Lindbergh went without slee
 p during his transatlantic flight?\nHow many drinks it takes to degrade per
 formance as much as a poor night&rsquo;s sleep?\nWhat piece of equipment &l
 dquo;caused&rdquo; Eastern Air Lines Flight 401 to crash?\n\n\nFrom vintage
  navaids to aerodynamics and little-known aircraft, we&rsquo;ve put togethe
 r a collection of questions sure to put your knowledge to the test&mdash;an
 d make you a safer pilot.\n\n\n\nFly-in Seminar?: No\n\n\nHoliday Inn &amp;
  Suites\n1600 S. Country Club Drive\nMesa, AZ 85210\n\n\nThere is no pre-re
 gistration for this seminar.\n\n\n&nbsp;\n
CONTACT:Robin Sharitz Phone: 301-695-2175 This email address is being protected from spambots. You need JavaScript enabled to view it.
				document.getElementById('cloak06e75f257fe129baac26472841265334').innerHTML = '';
				var prefix = '&#109;a' + 'i&#108;' + '&#116;o';
				var path = 'hr' + 'ef' + '=';
				var addy06e75f257fe129baac26472841265334 = 'R&#111;b&#105;n.sh&#97;r&#105;tz' + '&#64;';
				addy06e75f257fe129baac26472841265334 = addy06e75f257fe129baac26472841265334 + '&#97;&#111;p&#97;' + '&#46;' + '&#111;rg';
				var addy_text06e75f257fe129baac26472841265334 = 'R&#111;b&#105;n.sh&#97;r&#105;tz' + '&#64;' + '&#97;&#111;p&#97;' + '&#46;' + '&#111;rg';document.getElementById('cloak06e75f257fe129baac26472841265334').innerHTML += ''+addy_text06e75f257fe129baac26472841265334+'';
		
DTSTAMP:20260423T134152Z
DTSTART;TZID=America/Phoenix:20161017T190000
SEQUENCE:0
TRANSP:OPAQUE
END:VEVENT
END:VCALENDAR