BEGIN:VCALENDAR
VERSION:2.0
PRODID:-//jEvents 2.0 for Joomla//EN
CALSCALE:GREGORIAN
METHOD:PUBLISH
BEGIN:VEVENT
UID:48666eff8ae725981851cc6e0c689eb2
CATEGORIES:Safety
CREATED:20160912T173052
SUMMARY:Southeast Arizona WINGS Seminar - Various Speakers
LOCATION:Sierra Vista Public Works Department
DESCRIPTION;ENCODING=QUOTED-PRINTABLE:Medical Considerations for the Aging Pilot\nAngle of Attack (AoA) Indicator
 s\nFAA Compliance Philosphy\n \n\nDr. Mark Carnett, Senior AME, will discus
 s Medical Considerations for the Aging Pilot and provide a general overview
  of Third Class Medical Reform.\nAngelo Petropolis will discuss Angle of At
 tack (AoA) Indicators.\nErnie Copeland, FAA Safety Team Program Manager, wi
 ll discuss the FAA's Compliance Philosophy\n\n\nSierra Vista Public Works D
 epartment\n401 Guilio Cesare Ave\nSierra Vista, AZ 85635\n\n\n\n\n\nFlying 
 In: Transportation to the event and return to airport will be available. Pl
 ease contact James Short (info below) before the event date if you need tra
 nsportation.\n\n\n\n\n\nDriving: from the intersection of Fry Blvd &amp; SR
  92 drive east 1 mile on SR 90; turn north on Guilio Cesare, then 4 miles t
 o Public Works parking on the right. Look for event signs.\n\n\nFor more in
 formation FAASafety.gov Website\n\n\n\n&nbsp;\n
CONTACT:James Short Phone: (520) 261-0373 This email address is being protected from spambots. You need JavaScript enabled to view it.
				document.getElementById('cloakc5b0dce0b0a85f278c2b424f83e3f16a').innerHTML = '';
				var prefix = '&#109;a' + 'i&#108;' + '&#116;o';
				var path = 'hr' + 'ef' + '=';
				var addyc5b0dce0b0a85f278c2b424f83e3f16a = 'w&#105;ngs' + '&#64;';
				addyc5b0dce0b0a85f278c2b424f83e3f16a = addyc5b0dce0b0a85f278c2b424f83e3f16a + 'sv&#97;&#101;r&#111;' + '&#46;' + '&#111;rg';
				var addy_textc5b0dce0b0a85f278c2b424f83e3f16a = 'w&#105;ngs' + '&#64;' + 'sv&#97;&#101;r&#111;' + '&#46;' + '&#111;rg';document.getElementById('cloakc5b0dce0b0a85f278c2b424f83e3f16a').innerHTML += ''+addy_textc5b0dce0b0a85f278c2b424f83e3f16a+'';
		
DTSTAMP:20260424T110611Z
DTSTART;TZID=America/Phoenix:20160924T090000
SEQUENCE:0
TRANSP:OPAQUE
END:VEVENT
END:VCALENDAR