BEGIN:VCALENDAR
VERSION:2.0
PRODID:-//jEvents 2.0 for Joomla//EN
CALSCALE:GREGORIAN
METHOD:PUBLISH
BEGIN:VEVENT
UID:76f6bf60aa832736716f075022bb9a20
CATEGORIES:Backcountry
CREATED:20160809T144534
SUMMARY:Pleasant Valley Young Backcountry Fly-In
LOCATION:Pleasant Valley Young, AZ (24AZ)
DESCRIPTION;ENCODING=QUOTED-PRINTABLE:\n\n\nATTN: BACKCOUNTRY PILOTS!\n\n\n\nJoint the APA and friends in Young A
 rizona (24AZ) for Labor Day weekend, starting on Friday September 2nd!\n\n\
 nYoung comes alive over the Labor Day weekend, with the following activitie
 s:\n\n\nFriday evening:&nbsp;Meal (usually about $8.00) at the Fire Hall at
  5:00 PM; Bingo beginning at 6:00 PM.\n\n\nSaturday morning:&nbsp;Breakfast
  at Community Center&nbsp;8:00 am to 9:30 am\n\n\nSaturday evening:&nbsp;Co
 rn-Fest&nbsp;\n\n\nCOMMUNITY CENTER\n Dinner at 6:00 PM; Corn husking conte
 sts beginning at 5:00 PM.\n Chili, cornbread, corn, and ice cream provided.
 \n Chili Cook off for those who bring pots of Chili to share for the event.
 \n Pot luck for salads and appropriate side dishes (there is always plenty 
 of food).\n\n\nThe Pleasant Valley Historical Society Museum, located next 
 to the "Cowboy" church, will be open Saturday and Sunday.\n\n\nSunday morni
 ng: Three options for church if you like.\n\n\nAs always, if camping is not
  your thing, book a rooom at the &nbsp;Pleasant Valley Inn at&nbsp;928-462-
 3593\n\n\nOr rent a beautiful cabin on Cherry Creek! &nbsp;http://cherrycre
 ekcabins.com/\n\n\nOther accommodations are available here. &nbsp;BOOK EARL
 Y!!\n\n\n- This email address is being protected from spambots. You need Ja
 vaScript enabled to view it.
				document.getElementById('cloakd0fff3da8c2c
 f2f830f7bec9ed6dff68').innerHTML = '';
				var prefix = 'ma' + 'il' + 'to';
 
				var path = 'hr' + 'ef' + '=';
				var addyd0fff3da8c2cf2f830f7bec9ed6d
 ff68 = 'mspencer' + '@';
				addyd0fff3da8c2cf2f830f7bec9ed6dff68 = addyd0f
 ff3da8c2cf2f830f7bec9ed6dff68 + 'azpilots' + '.' + 'org';
				var addy_text
 d0fff3da8c2cf2f830f7bec9ed6dff68 = 'Mark';document.getElementById('cloakd0f
 ff3da8c2cf2f830f7bec9ed6dff68').innerHTML += ''+addy_textd0fff3da8c2cf2f830
 f7bec9ed6dff68+'';
		\n\n\n&nbsp;\n\n\n\n\n\n&nbsp;\n\n\n\n\n\n&nbsp;\n\n\n
 \n\n\n&nbsp;\n\n\n\n
CONTACT:Mark Spencer 602-708-1599 This email address is being protected from spambots. You need JavaScript enabled to view it.
				document.getElementById('cloak0d0d7e3aa1d87da2eaf365f95d7d4f57').innerHTML = '';
				var prefix = '&#109;a' + 'i&#108;' + '&#116;o';
				var path = 'hr' + 'ef' + '=';
				var addy0d0d7e3aa1d87da2eaf365f95d7d4f57 = 'msp&#101;nc&#101;r' + '&#64;';
				addy0d0d7e3aa1d87da2eaf365f95d7d4f57 = addy0d0d7e3aa1d87da2eaf365f95d7d4f57 + '&#97;zp&#105;l&#111;ts' + '&#46;' + '&#111;rg';
				var addy_text0d0d7e3aa1d87da2eaf365f95d7d4f57 = 'msp&#101;nc&#101;r' + '&#64;' + '&#97;zp&#105;l&#111;ts' + '&#46;' + '&#111;rg';document.getElementById('cloak0d0d7e3aa1d87da2eaf365f95d7d4f57').innerHTML += ''+addy_text0d0d7e3aa1d87da2eaf365f95d7d4f57+'';
		
DTSTAMP:20260424T110826Z
DTSTART;TZID=America/Phoenix;VALUE=DATE:20160902
DTEND;TZID=America/Phoenix;VALUE=DATE:20160905
SEQUENCE:0
TRANSP:OPAQUE
END:VEVENT
END:VCALENDAR