BEGIN:VCALENDAR
VERSION:2.0
PRODID:-//jEvents 2.0 for Joomla//EN
CALSCALE:GREGORIAN
METHOD:PUBLISH
BEGIN:VEVENT
UID:f552df24d707f4f2d0160bfb1c2d694b
CATEGORIES:Aviation Related Event
CREATED:20160808T165253
SUMMARY:APA Fall Social in Mesa
LOCATION:The Monastery Restaurant 4810 E McKellips Rd, Mesa, AZ 85215
DESCRIPTION;ENCODING=QUOTED-PRINTABLE:\n\n\n\n\n&nbsp;\nAPA Fall Social\nThursday, October 13, 2016, from 5-7pm\n
 at The Monastery Restaurant\n4810 E McKellips Rd, Mesa, AZ 85215\nNext to F
 alcon Field\nPlease join us for complimentary HORS D&rsquo;OEUVRES!!!\nCASH
  BAR\n$15 per Person\nThe Question Board is waiting for you!\n\n\nRSVP by O
 ctober 10th:\nSusan Wearly 480-415-6480\nThis email address is being protec
 ted from spambots. You need JavaScript enabled to view it.
				document.get
 ElementById('cloaka105111329d2d9cf5e72a3f200a86383').innerHTML = '';
				va
 r prefix = '&#109;a' + 'i&#108;' + '&#116;o';
				var path = 'hr' + 'ef' + 
 '=';
				var addya105111329d2d9cf5e72a3f200a86383 = 's&#117;s&#97;nw&#101;&
 #97;rly' + '&#64;';
				addya105111329d2d9cf5e72a3f200a86383 = addya1051113
 29d2d9cf5e72a3f200a86383 + '&#97;&#111;l' + '&#46;' + 'c&#111;m';
				var a
 ddy_texta105111329d2d9cf5e72a3f200a86383 = 's&#117;s&#97;nw&#101;&#97;rly' 
 + '&#64;' + '&#97;&#111;l' + '&#46;' + 'c&#111;m';document.getElementById('
 cloaka105111329d2d9cf5e72a3f200a86383').innerHTML += ''+addy_texta105111329
 d2d9cf5e72a3f200a86383+'';
		\nMary James 515-321-3022\nThis email address 
 is being protected from spambots. You need JavaScript enabled to view it.
	
 			document.getElementById('cloak3b1419b6a0c8fad274fe120fbbf76200').innerHT
 ML = '';
				var prefix = '&#109;a' + 'i&#108;' + '&#116;o';
				var path =
  'hr' + 'ef' + '=';
				var addy3b1419b6a0c8fad274fe120fbbf76200 = 'mgj&#97
 ;m&#101;s8' + '&#64;';
				addy3b1419b6a0c8fad274fe120fbbf76200 = addy3b141
 9b6a0c8fad274fe120fbbf76200 + 'gm&#97;&#105;l' + '&#46;' + 'c&#111;m';
				
 var addy_text3b1419b6a0c8fad274fe120fbbf76200 = 'mgj&#97;m&#101;s8' + '&#64
 ;' + 'gm&#97;&#105;l' + '&#46;' + 'c&#111;m';document.getElementById('cloak
 3b1419b6a0c8fad274fe120fbbf76200').innerHTML += ''+addy_text3b1419b6a0c8fad
 274fe120fbbf76200+'';
		\n\n\n&nbsp;\n
CONTACT:Susan Wearly This email address is being protected from spambots. You need JavaScript enabled to view it.
				document.getElementById('cloak55f9d758f4ff3eff510cb729cc927183').innerHTML = '';
				var prefix = '&#109;a' + 'i&#108;' + '&#116;o';
				var path = 'hr' + 'ef' + '=';
				var addy55f9d758f4ff3eff510cb729cc927183 = 's&#117;s&#97;nw&#101;&#97;rly' + '&#64;';
				addy55f9d758f4ff3eff510cb729cc927183 = addy55f9d758f4ff3eff510cb729cc927183 + '&#97;&#111;l' + '&#46;' + 'c&#111;m';
				var addy_text55f9d758f4ff3eff510cb729cc927183 = 's&#117;s&#97;nw&#101;&#97;rly' + '&#64;' + '&#97;&#111;l' + '&#46;' + 'c&#111;m';document.getElementById('cloak55f9d758f4ff3eff510cb729cc927183').innerHTML += ''+addy_text55f9d758f4ff3eff510cb729cc927183+'';
		  Mary James This email address is being protected from spambots. You need JavaScript enabled to view it.
				document.getElementById('cloakabe70c6e38ec1a82b24c4f08368045af').innerHTML = '';
				var prefix = '&#109;a' + 'i&#108;' + '&#116;o';
				var path = 'hr' + 'ef' + '=';
				var addyabe70c6e38ec1a82b24c4f08368045af = 'mgj&#97;m&#101;s8' + '&#64;';
				addyabe70c6e38ec1a82b24c4f08368045af = addyabe70c6e38ec1a82b24c4f08368045af + 'gm&#97;&#105;l' + '&#46;' + 'c&#111;m';
				var addy_textabe70c6e38ec1a82b24c4f08368045af = 'mgj&#97;m&#101;s8' + '&#64;' + 'gm&#97;&#105;l' + '&#46;' + 'c&#111;m';document.getElementById('cloakabe70c6e38ec1a82b24c4f08368045af').innerHTML += ''+addy_textabe70c6e38ec1a82b24c4f08368045af+'';
		
DTSTAMP:20260423T134345Z
DTSTART;TZID=America/Phoenix:20161013T170000
DTEND;TZID=America/Phoenix:20161013T190000
SEQUENCE:0
TRANSP:OPAQUE
END:VEVENT
END:VCALENDAR