BEGIN:VCALENDAR
VERSION:2.0
PRODID:-//jEvents 2.0 for Joomla//EN
CALSCALE:GREGORIAN
METHOD:PUBLISH
BEGIN:VEVENT
UID:dba80a6adbe0bae5ddfcf65985ecfdf4
CATEGORIES:Backcountry
CREATED:20160805T210735
SUMMARY:Grapevine Monthly Fly-In Weekend
LOCATION:Grapevine (E75) near Roosevelt Lake
DESCRIPTION;ENCODING=QUOTED-PRINTABLE:\n&nbsp;\nThe camp host for this month is:\n~ Leanne&nbsp;~&nbsp;\nFriday n
 ight: Camp out under the stars\nSaturday: BBQ lunch\nSaturday Night: Potluc
 k &amp; Camp under the stars and tell stories around the group campfire!\nS
 unday: Most folks depart by noon\n\n\n&nbsp;&nbsp;\nAs always,\nPort-A-John
  on site\nFree Airplane Parking\nFree Camping\nFree Black Labrador Petting 
 Zoo\nHiking\nPlenty of Sunshine\n\nClick for weather forecast&nbsp;&nbsp;Gr
 apevine is open on the entire weekend of the third Saturday&nbsp;of each mo
 nth,&nbsp;\nFriday through Sunday.\n&nbsp;\nClick here for the GRAPEVINE SA
 FETY BULLETIN\n&nbsp;\nPlease email&nbsp;This email address is being protec
 ted from spambots. You need JavaScript enabled to view it.
				document.get
 ElementById('cloake441de296165db031f1c30cd85650d16').innerHTML = '';
				va
 r prefix = '&#109;a' + 'i&#108;' + '&#116;o';
				var path = 'hr' + 'ef' + 
 '=';
				var addye441de296165db031f1c30cd85650d16 = 'msp&#101;nc&#101;r' + 
 '&#64;';
				addye441de296165db031f1c30cd85650d16 = addye441de296165db031f1
 c30cd85650d16 + 'th&#101;r&#97;f' + '&#46;' + '&#111;rg?cc=t&#101;th&#111;m
 &#97;s&#111;n';
				var addy_texte441de296165db031f1c30cd85650d16 = 'M&#97;
 rk &#111;r T&#111;mmy';document.getElementById('cloake441de296165db031f1c30
 cd85650d16').innerHTML += ''+addy_texte441de296165db031f1c30cd85650d16+'';

 		&nbsp;for more info or if you are interested in volunteering.\n&nbsp;\n\n
 \n\n\n\n\n\n\n\n\n\n
CONTACT:Tommy Thomason This email address is being protected from spambots. You need JavaScript enabled to view it.
				document.getElementById('cloakfe5c9beb5ef2c02ea5f57e29ff177a3a').innerHTML = '';
				var prefix = '&#109;a' + 'i&#108;' + '&#116;o';
				var path = 'hr' + 'ef' + '=';
				var addyfe5c9beb5ef2c02ea5f57e29ff177a3a = 't&#101;th&#111;m&#97;s&#111;n' + '&#64;';
				addyfe5c9beb5ef2c02ea5f57e29ff177a3a = addyfe5c9beb5ef2c02ea5f57e29ff177a3a + '&#97;zp&#105;l&#111;ts' + '&#46;' + '&#111;rg';
				var addy_textfe5c9beb5ef2c02ea5f57e29ff177a3a = 't&#101;th&#111;m&#97;s&#111;n' + '&#64;' + '&#97;zp&#105;l&#111;ts' + '&#46;' + '&#111;rg';document.getElementById('cloakfe5c9beb5ef2c02ea5f57e29ff177a3a').innerHTML += ''+addy_textfe5c9beb5ef2c02ea5f57e29ff177a3a+'';
		 602-708-2040
DTSTAMP:20260424T093259Z
DTSTART;TZID=America/Phoenix;VALUE=DATE:20161216
DTEND;TZID=America/Phoenix;VALUE=DATE:20161219
SEQUENCE:0
TRANSP:OPAQUE
END:VEVENT
END:VCALENDAR