BEGIN:VCALENDAR
VERSION:2.0
PRODID:-//jEvents 2.0 for Joomla//EN
CALSCALE:GREGORIAN
METHOD:PUBLISH
BEGIN:VEVENT
UID:dba80a6adbe0bae5ddfcf65985ecfdf4
CATEGORIES:Backcountry
CREATED:20160805T210735
SUMMARY:Grapevine Monthly Fly-In Weekend
LOCATION:Grapevine (E75) near Roosevelt Lake
DESCRIPTION;ENCODING=QUOTED-PRINTABLE:\n&nbsp;\nThe camp host for this month is:\n~ Paul &amp; Charlie&nbsp;~&nbs
 p;\nFriday night: Camp out under the stars\nSaturday: Paul and Charlie, fro
 m Payson, will be our hosts this month and preparing a nice lunch, and plan
  your dutch oven contribution for Saturday evening!\nSaturday Night: Potluc
 k &amp; Camp under the stars and tell stories around the group campfire!\nS
 unday: Most folks depart by noon\n\n\n&nbsp;&nbsp;\nAs always,\nPort-A-John
  on site\nFree Airplane Parking\nFree Camping\nFree Black Labrador Petting 
 Zoo\nHiking\nPlenty of Sunshine\n\nClick for weather forecast&nbsp;&nbsp;Gr
 apevine is open on the entire weekend of the third Saturday&nbsp;of each mo
 nth,&nbsp;\nFriday through Sunday.\n&nbsp;\nClick here for the GRAPEVINE SA
 FETY BULLETIN\n&nbsp;\nPlease email&nbsp;This email address is being protec
 ted from spambots. You need JavaScript enabled to view it.
				document.get
 ElementById('cloakb8296e8c85a8c8b679b8b100543267f8').innerHTML = '';
				va
 r prefix = '&#109;a' + 'i&#108;' + '&#116;o';
				var path = 'hr' + 'ef' + 
 '=';
				var addyb8296e8c85a8c8b679b8b100543267f8 = 'msp&#101;nc&#101;r' + 
 '&#64;';
				addyb8296e8c85a8c8b679b8b100543267f8 = addyb8296e8c85a8c8b679b
 8b100543267f8 + 'th&#101;r&#97;f' + '&#46;' + '&#111;rg?cc=t&#101;th&#111;m
 &#97;s&#111;n';
				var addy_textb8296e8c85a8c8b679b8b100543267f8 = 'M&#97;
 rk &#111;r T&#111;mmy';document.getElementById('cloakb8296e8c85a8c8b679b8b1
 00543267f8').innerHTML += ''+addy_textb8296e8c85a8c8b679b8b100543267f8+'';

 		&nbsp;for more info or if you are interested in volunteering.\n&nbsp;\n\n
 \n\n\n\n\n\n\n\n\n\n
CONTACT:Tommy Thomason This email address is being protected from spambots. You need JavaScript enabled to view it.
				document.getElementById('cloak832e893765d15aaf05ba8f40913b645b').innerHTML = '';
				var prefix = '&#109;a' + 'i&#108;' + '&#116;o';
				var path = 'hr' + 'ef' + '=';
				var addy832e893765d15aaf05ba8f40913b645b = 't&#101;th&#111;m&#97;s&#111;n' + '&#64;';
				addy832e893765d15aaf05ba8f40913b645b = addy832e893765d15aaf05ba8f40913b645b + '&#97;zp&#105;l&#111;ts' + '&#46;' + '&#111;rg';
				var addy_text832e893765d15aaf05ba8f40913b645b = 't&#101;th&#111;m&#97;s&#111;n' + '&#64;' + '&#97;zp&#105;l&#111;ts' + '&#46;' + '&#111;rg';document.getElementById('cloak832e893765d15aaf05ba8f40913b645b').innerHTML += ''+addy_text832e893765d15aaf05ba8f40913b645b+'';
		 602-708-2040
DTSTAMP:20260423T134158Z
DTSTART;TZID=America/Phoenix;VALUE=DATE:20161021
DTEND;TZID=America/Phoenix;VALUE=DATE:20161024
SEQUENCE:0
TRANSP:OPAQUE
END:VEVENT
END:VCALENDAR