BEGIN:VCALENDAR
VERSION:2.0
PRODID:-//jEvents 2.0 for Joomla//EN
CALSCALE:GREGORIAN
METHOD:PUBLISH
BEGIN:VEVENT
UID:dba80a6adbe0bae5ddfcf65985ecfdf4
CATEGORIES:Backcountry
CREATED:20160805T210735
SUMMARY:Grapevine Monthly Fly-In Weekend
LOCATION:Grapevine (E75) near Roosevelt Lake
DESCRIPTION;ENCODING=QUOTED-PRINTABLE:\n&nbsp;\nThe camp host for this month is:\n~ Jim &amp; Diane ~&nbsp;\nFrid
 ay night: Camp out under the stars\nSaturday: BBQ lunch\nSaturday Night: Po
 tluck &amp; Camp under the stars and tell stories around the group campfire
 !\nSunday: Most folks depart by noon\n\n\n&nbsp;&nbsp;\nAs always,\nPort-A-
 John on site\nFree Airplane Parking\nFree Camping\nFree Black Labrador Pett
 ing Zoo\nHiking\nPlenty of Sunshine\n\nClick for weather forecast&nbsp;&nbs
 p;Grapevine is open on the entire weekend of the third Saturday&nbsp;of eac
 h month,&nbsp;\nFriday through Sunday.\n&nbsp;\nClick here for the GRAPEVIN
 E SAFETY BULLETIN\n&nbsp;\nPlease email&nbsp;This email address is being pr
 otected from spambots. You need JavaScript enabled to view it.
				document
 .getElementById('cloakd3708075bb4419e039510c760e1831c8').innerHTML = '';
		
 		var prefix = '&#109;a' + 'i&#108;' + '&#116;o';
				var path = 'hr' + 'ef
 ' + '=';
				var addyd3708075bb4419e039510c760e1831c8 = 'msp&#101;nc&#101;r
 ' + '&#64;';
				addyd3708075bb4419e039510c760e1831c8 = addyd3708075bb4419e
 039510c760e1831c8 + 'th&#101;r&#97;f' + '&#46;' + '&#111;rg?cc=t&#101;th&#1
 11;m&#97;s&#111;n';
				var addy_textd3708075bb4419e039510c760e1831c8 = 'M&
 #97;rk &#111;r T&#111;mmy';document.getElementById('cloakd3708075bb4419e039
 510c760e1831c8').innerHTML += ''+addy_textd3708075bb4419e039510c760e1831c8+
 '';
		&nbsp;for more info or if you are interested in volunteering.\n&nbsp;
 \n\n\n\n\n\n\n\n\n\n\n\n
CONTACT:Tommy Thomason This email address is being protected from spambots. You need JavaScript enabled to view it.
				document.getElementById('cloak3ad3c4d75d676062345ed039ce1d152c').innerHTML = '';
				var prefix = '&#109;a' + 'i&#108;' + '&#116;o';
				var path = 'hr' + 'ef' + '=';
				var addy3ad3c4d75d676062345ed039ce1d152c = 't&#101;th&#111;m&#97;s&#111;n' + '&#64;';
				addy3ad3c4d75d676062345ed039ce1d152c = addy3ad3c4d75d676062345ed039ce1d152c + '&#97;zp&#105;l&#111;ts' + '&#46;' + '&#111;rg';
				var addy_text3ad3c4d75d676062345ed039ce1d152c = 't&#101;th&#111;m&#97;s&#111;n' + '&#64;' + '&#97;zp&#105;l&#111;ts' + '&#46;' + '&#111;rg';document.getElementById('cloak3ad3c4d75d676062345ed039ce1d152c').innerHTML += ''+addy_text3ad3c4d75d676062345ed039ce1d152c+'';
		 602-708-2040
DTSTAMP:20260424T075320Z
DTSTART;TZID=America/Phoenix;VALUE=DATE:20160917
DTEND;TZID=America/Phoenix;VALUE=DATE:20160919
SEQUENCE:0
TRANSP:OPAQUE
END:VEVENT
END:VCALENDAR