BEGIN:VCALENDAR
VERSION:2.0
PRODID:-//jEvents 2.0 for Joomla//EN
CALSCALE:GREGORIAN
METHOD:PUBLISH
BEGIN:VEVENT
UID:e72bbd3c1b6c640c2ba9c93ad1bf6838
CATEGORIES:Meetings
CREATED:20160422T114722
SUMMARY:Annual Meeting at Falcon Field
LOCATION:EAA Warbirds Hangar - Falcon Field Airport 4626 Fighter Aces Drive Mesa, AZ
  85215
DESCRIPTION;ENCODING=QUOTED-PRINTABLE:\n
CONTACT:Tommy This email address is being protected from spambots. You need JavaScript enabled to view it.
				document.getElementById('cloak355681ebeed1c40de12416006fdfb063').innerHTML = '';
				var prefix = '&#109;a' + 'i&#108;' + '&#116;o';
				var path = 'hr' + 'ef' + '=';
				var addy355681ebeed1c40de12416006fdfb063 = 't&#101;th&#111;m&#97;s&#111;n' + '&#64;';
				addy355681ebeed1c40de12416006fdfb063 = addy355681ebeed1c40de12416006fdfb063 + 'AZP&#105;l&#111;ts' + '&#46;' + '&#111;rg';
				var addy_text355681ebeed1c40de12416006fdfb063 = 't&#101;th&#111;m&#97;s&#111;n' + '&#64;' + 'AZP&#105;l&#111;ts' + '&#46;' + '&#111;rg';document.getElementById('cloak355681ebeed1c40de12416006fdfb063').innerHTML += ''+addy_text355681ebeed1c40de12416006fdfb063+'';
		  602-708-2040
DTSTAMP:20260420T123214Z
DTSTART;TZID=America/Phoenix:20160507T120000
DTEND;TZID=America/Phoenix:20160507T150000
SEQUENCE:0
TRANSP:OPAQUE
END:VEVENT
END:VCALENDAR