BEGIN:VCALENDAR
VERSION:2.0
PRODID:-//jEvents 2.0 for Joomla//EN
CALSCALE:GREGORIAN
METHOD:PUBLISH
BEGIN:VEVENT
UID:17a7ed8ff059932e4080bf157247567b
CATEGORIES:Safety
CREATED:20160201T210633
SUMMARY:Phoenix 99s Flying Companion Seminar
LOCATION:DVT
DESCRIPTION;ENCODING=QUOTED-PRINTABLE:\n\n\n&nbsp;\nFlying Companion Seminar\nSaturday, Feb. 20, 2016\n702 West D
 eer Valley Road\nPhoenix, AZ 85027\n(Deer Valley Airport terminal upstairs)
 \n\n9 &ndash; 4 with Lunch included\n\nAll materials provided\nReservations
  required\nFor more info and to register go to\n\nwww.phx99s.org\n\n623-486
 -7255\n\nThis email address is being protected from spambots. You need Java
 Script enabled to view it.
				document.getElementById('cloakda00942a379dd4
 528d35e907843d1134').innerHTML = '';
				var prefix = '&#109;a' + 'i&#108;'
  + '&#116;o';
				var path = 'hr' + 'ef' + '=';
				var addyda00942a379dd45
 28d35e907843d1134 = 'b&#101;&#101;nfly&#105;ng1979' + '&#64;';
				addyda00
 942a379dd4528d35e907843d1134 = addyda00942a379dd4528d35e907843d1134 + 'gm&#
 97;&#105;l' + '&#46;' + 'c&#111;m';
				var addy_textda00942a379dd4528d35e9
 07843d1134 = 'b&#101;&#101;nfly&#105;ng1979' + '&#64;' + 'gm&#97;&#105;l' +
  '&#46;' + 'c&#111;m';document.getElementById('cloakda00942a379dd4528d35e90
 7843d1134').innerHTML += ''+addy_textda00942a379dd4528d35e907843d1134+'';
	
 	\nThis event is geared\ntowards the Non-flyer,\nyour &ldquo;right seater&r
 dquo;.\nCost $45.00 for the\nday prepaid, $55.00\nat the door.\n&nbsp;\n
CONTACT:623-486-7255  This email address is being protected from spambots. You need JavaScript enabled to view it.
				document.getElementById('cloak48f8a4d6f23254a7292fec59c3be6cdb').innerHTML = '';
				var prefix = '&#109;a' + 'i&#108;' + '&#116;o';
				var path = 'hr' + 'ef' + '=';
				var addy48f8a4d6f23254a7292fec59c3be6cdb = 'b&#101;&#101;nfly&#105;ng1979' + '&#64;';
				addy48f8a4d6f23254a7292fec59c3be6cdb = addy48f8a4d6f23254a7292fec59c3be6cdb + 'gm&#97;&#105;l' + '&#46;' + 'c&#111;m';
				var addy_text48f8a4d6f23254a7292fec59c3be6cdb = 'b&#101;&#101;nfly&#105;ng1979' + '&#64;' + 'gm&#97;&#105;l' + '&#46;' + 'c&#111;m';document.getElementById('cloak48f8a4d6f23254a7292fec59c3be6cdb').innerHTML += ''+addy_text48f8a4d6f23254a7292fec59c3be6cdb+'';
		
DTSTAMP:20260420T223240Z
DTSTART;TZID=America/Phoenix:20160220T090000
DTEND;TZID=America/Phoenix:20160220T160000
SEQUENCE:0
TRANSP:OPAQUE
END:VEVENT
END:VCALENDAR