BEGIN:VCALENDAR
VERSION:2.0
PRODID:-//jEvents 2.0 for Joomla//EN
CALSCALE:GREGORIAN
METHOD:PUBLISH
BEGIN:VEVENT
UID:8826801f153e0ee4c30de63306971663
CATEGORIES:Backcountry
CREATED:20160102T184746
SUMMARY:Double Circle Ranch Fly-In Camping
LOCATION:Double Circle Ranch - See Safety Pamphlet for Details
DESCRIPTION;ENCODING=QUOTED-PRINTABLE:\n\n\n\n\n\n\nPut on your cowboy boots and hat, and join us for BBQ &amp; B
 eans at the historic Double Circle Ranch. Bounded to the west by Willow Cre
 ek, and to the east by Eagle Creek, there's no more beautiful or historic s
 pot in Arizona. Bring your own side dish to add to our meal in the old lodg
 e on Saturday afternoon. Arrivals will begin on Friday and departures on Su
 nday, or stay as long as you like. \n\n\nClick for weather forecast\n\n\n&n
 bsp;\n \n\n\n\n\n\nMay 6-8 will be the alternate date if storms or high win
 ds are forecasted.   \n\n\n&nbsp;\n\n\nPlease RSVP Mark Spencer&nbsp;This e
 mail address is being protected from spambots. You need JavaScript enabled 
 to view it.
				document.getElementById('cloak7761a9a3bdbc2f3231cef068990af
 a13').innerHTML = '';
				var prefix = '&#109;a' + 'i&#108;' + '&#116;o';
	
 			var path = 'hr' + 'ef' + '=';
				var addy7761a9a3bdbc2f3231cef068990afa
 13 = 'msp&#101;nc&#101;r' + '&#64;';
				addy7761a9a3bdbc2f3231cef068990afa
 13 = addy7761a9a3bdbc2f3231cef068990afa13 + '&#97;zp&#105;l&#111;ts' + '&#4
 6;' + '&#111;rg';
				var addy_text7761a9a3bdbc2f3231cef068990afa13 = 'msp&
 #101;nc&#101;r' + '&#64;' + 'th&#101;r&#97;f' + '&#46;' + '&#111;rg';docume
 nt.getElementById('cloak7761a9a3bdbc2f3231cef068990afa13').innerHTML += ''+
 addy_text7761a9a3bdbc2f3231cef068990afa13+'';
		 so we can keep track of nu
 mbers for the main dish on Saturday. We have room for roughly 30 aircraft a
 nd plenty of room for overnight camping.&nbsp;\n\n\n\nHosts: Mark Spencer &
 amp; Tommy Thomason\n\nSaturday will be a potluck lunch. Bring a side dish 
 and plan for a feast in the old lodge building at high noon. Evening dinner
  cookout main dish is provided by the APA.\n\nWe hope to have the inside ba
 throom of the lodge working, as we have at previous events, but please plan
  an alternitive for your comfort.\n\n\n\nDouble Circle Safety Pamphlet\n\n\
 n&nbsp;\n&nbsp;\n\n\n\n\n\n\n\n\n\n\n\n\n\n\n\n\n&nbsp;\n
CONTACT:Mark This email address is being protected from spambots. You need JavaScript enabled to view it.
				document.getElementById('cloak950fec9065eb5134d67fa6e268ffb9cd').innerHTML = '';
				var prefix = '&#109;a' + 'i&#108;' + '&#116;o';
				var path = 'hr' + 'ef' + '=';
				var addy950fec9065eb5134d67fa6e268ffb9cd = 'msp&#101;nc&#101;r' + '&#64;';
				addy950fec9065eb5134d67fa6e268ffb9cd = addy950fec9065eb5134d67fa6e268ffb9cd + '&#97;zp&#105;l&#111;ts' + '&#46;' + '&#111;rg';
				var addy_text950fec9065eb5134d67fa6e268ffb9cd = 'msp&#101;nc&#101;r' + '&#64;' + '&#97;zp&#105;l&#111;ts' + '&#46;' + '&#111;rg';document.getElementById('cloak950fec9065eb5134d67fa6e268ffb9cd').innerHTML += ''+addy_text950fec9065eb5134d67fa6e268ffb9cd+'';
		 520-826-2112 or Tommy This email address is being protected from spambots. You need JavaScript enabled to view it.
				document.getElementById('cloakecd7c117662979c77701c3c1529e07d6').innerHTML = '';
				var prefix = '&#109;a' + 'i&#108;' + '&#116;o';
				var path = 'hr' + 'ef' + '=';
				var addyecd7c117662979c77701c3c1529e07d6 = 't&#101;th&#111;m&#97;s&#111;n' + '&#64;';
				addyecd7c117662979c77701c3c1529e07d6 = addyecd7c117662979c77701c3c1529e07d6 + '&#97;zp&#105;l&#111;ts' + '&#46;' + '&#111;rg';
				var addy_textecd7c117662979c77701c3c1529e07d6 = 't&#101;th&#111;m&#97;s&#111;n' + '&#64;' + '&#97;zp&#105;l&#111;ts' + '&#46;' + '&#111;rg';document.getElementById('cloakecd7c117662979c77701c3c1529e07d6').innerHTML += ''+addy_textecd7c117662979c77701c3c1529e07d6+'';
		
DTSTAMP:20260423T070100Z
DTSTART;TZID=America/Phoenix;VALUE=DATE:20160429
DTEND;TZID=America/Phoenix;VALUE=DATE:20160502
SEQUENCE:0
TRANSP:OPAQUE
END:VEVENT
END:VCALENDAR