BEGIN:VCALENDAR
VERSION:2.0
PRODID:-//jEvents 2.0 for Joomla//EN
CALSCALE:GREGORIAN
METHOD:PUBLISH
BEGIN:VEVENT
UID:16b16b3a4fa691c64c13710811b9ae96
CATEGORIES:Backcountry
CREATED:20150812T171353
SUMMARY:Pleasant Valley Turf Backcountry Fly-In (P48)
LOCATION:Pleasant Valley Turf (P48)
DESCRIPTION;ENCODING=QUOTED-PRINTABLE:\n&nbsp;\n\n\n&nbsp;\n&nbsp;\n&nbsp;4th&nbsp;Annual Pleasant Valley Fly-In\
 n(P48) January 30th!\n&nbsp;\nEvents include:\n&nbsp;\nMountain &amp; Canyo
 n \n Flying SeminarPresented by Lori MacNichol\n www.mountaincanyonflying.c
 om\n\n\n&nbsp;\n8:30am – 3pm\nPleasant Valley (Turf / P48)\n$30 / APA membe
 r\n$55 / non member\nFAASTeam “Wings” Credits\n&nbsp;\nAccuracy Landing &am
 p; \n Flour Sack Drop10:00am (attend this or the class)\n&nbsp;Liability Wa
 iver Required\n \n \n&nbsp;\nLunch for both activities\n$5 donation\nBurger
 s, Hot Dogs, Water &amp; Soft Drinks\n\n For more information or to sign up
 , contact\nTommy Thomason\nThis email address is being protected from spamb
 ots. You need JavaScript enabled to view it.
				document.getElementById('c
 loakda55e65344fa3d7d9e889177a757e14d').innerHTML = '';
				var prefix = '&#
 109;a' + 'i&#108;' + '&#116;o';
				var path = 'hr' + 'ef' + '=';
				var a
 ddyda55e65344fa3d7d9e889177a757e14d = 't&#101;th&#111;m&#97;s&#111;n' + '&#
 64;';
				addyda55e65344fa3d7d9e889177a757e14d = addyda55e65344fa3d7d9e8891
 77a757e14d + '&#97;zp&#105;l&#111;ts' + '&#46;' + '&#111;rg';
				var addy_
 textda55e65344fa3d7d9e889177a757e14d = 't&#101;th&#111;m&#97;s&#111;n' + '&
 #64;' + '&#97;zp&#105;l&#111;ts' + '&#46;' + '&#111;rg';document.getElement
 ById('cloakda55e65344fa3d7d9e889177a757e14d').innerHTML += ''+addy_textda55
 e65344fa3d7d9e889177a757e14d+'';
		\n\n\n&nbsp;\n\n\nDirections:\nFlying - 
 ANNOUNCE your back country arrival/departure on 122.9\nPlan 5L/23R runway w
 ith RIGHT traffic pattern.\nCAUTION - The aerobatic box to the west\n\nDriv
 ing: \nWest on Carefree Highway (AZ74)…\n...pass the wind sock...then SW on
  the\nunpaved access road to the event hangars.\n\n\n&nbsp;\n
CONTACT:Tommy Thomason This email address is being protected from spambots. You need JavaScript enabled to view it.
				document.getElementById('cloak3f0816144ef3d6db172669cbf26c4454').innerHTML = '';
				var prefix = '&#109;a' + 'i&#108;' + '&#116;o';
				var path = 'hr' + 'ef' + '=';
				var addy3f0816144ef3d6db172669cbf26c4454 = 't&#101;th&#111;m&#97;s&#111;n' + '&#64;';
				addy3f0816144ef3d6db172669cbf26c4454 = addy3f0816144ef3d6db172669cbf26c4454 + '&#97;zp&#105;l&#111;ts' + '&#46;' + '&#111;rg';
				var addy_text3f0816144ef3d6db172669cbf26c4454 = 't&#101;th&#111;m&#97;s&#111;n' + '&#64;' + '&#97;zp&#105;l&#111;ts' + '&#46;' + '&#111;rg';document.getElementById('cloak3f0816144ef3d6db172669cbf26c4454').innerHTML += ''+addy_text3f0816144ef3d6db172669cbf26c4454+'';
		 602-708-2040
DTSTAMP:20260420T223240Z
DTSTART;TZID=America/Phoenix:20160130T090000
DTEND;TZID=America/Phoenix:20160130T150000
SEQUENCE:0
TRANSP:OPAQUE
END:VEVENT
END:VCALENDAR