BEGIN:VCALENDAR
VERSION:2.0
PRODID:-//jEvents 2.0 for Joomla//EN
CALSCALE:GREGORIAN
METHOD:PUBLISH
BEGIN:VEVENT
UID:e75fc8e79f0553b1c51cb823a3eb519e
CATEGORIES:Other Fly-In
CREATED:20151013T215911
SUMMARY:Prescott Legend Aviation Open House
LOCATION:Prescott Legend Aviation 
DESCRIPTION;ENCODING=QUOTED-PRINTABLE:\n\n&nbsp;\nLegend Aviation, Prescott Municipal Airport's premier fixed bas
 e operator (FBO), will be hosting an Open House Saturday, October 17th Satu
 rday, 9:00 AM to 5:00 PM local time. &nbsp;On display will be static aircra
 ft and flight schools based at the airport including&nbsp;Guidance Aviation
 &nbsp;-&nbsp;the country's leading helicopter flight training institution, 
 Embry-Riddle Aeronautical University, and Universal Helicopters. Additional
 ly, NativeAir, Civil Air Patrol, Experimental Aircraft Association (EAA), H
 ope Takes Flight, Direct Jets, Star Island Motorsports and others will be p
 resent.\nInspiring Future AviatorsLegend Aviation is hosting the event to i
 ntroduce the aviation community its new fuel vendor, Phillips 66, as well a
 s providing a venue for both aviators and aviation enthusiasts to mingle an
 d check out the aircraft, flight schools, and leading aviation organization
 s. The local chapter of the Experimental Aircraft Association (EAA) Chapter
  #658 will be providing Young Eagle Flights. &nbsp;There also be will food 
 trucks, live bands, shop tours, a hot rods show, raffles, and of course hel
 icopters and airplanes.\nLegend Aviation Website:&nbsp;www.legend-aviation.
 com\nAbout Legend Aviation(Source:&nbsp;Legend Aviation Website)\nLegend Av
 iation,&nbsp;created by two local Prescott, Arizona residents, based on the
  belief that “an FBO, built and managed by pilots, would best understand ho
 w to support the needs of fellow aviators” opened on January 2, 2008, as Pr
 escott’s first Fixed Base Operation (FBO) in the airport’s storied nearly 9
 0-year history. Legend Aviation is able to provide a wide array of services
  that benefit you, our fellow pilots, and the Prescott community as a whole
 .\nThe owners chose the company name, Legend Aviation,&nbsp;because it symb
 olizes the spirit of aviation past and present. As an example, the newly re
 modeled FBO terminal building was originally constructed in 1969 as the FAA
  Flight Service Station, which serviced the vast high desert area of Northe
 rn Arizona for many years. Echoes of the Prescott Airport’s origins and avi
 ation history, in general, are displayed by drawings and paintings on the w
 alls throughout the terminal building.&nbsp; The airport’s original rotatin
 g beacon is displayed and memorialized at Legend Aviation commemorating the
  beacon’s long aviation service in safely guiding pilots to this unique sou
 thwestern location.\nLegend Aviation, Prescott Municipal Airport's premier 
 fixed base operator (FBO), will be hosting an Open House Saturday, October 
 17th Saturday, 9:00 AM to 5:00 PM local time. &nbsp;On display will be stat
 ic aircraft and flight schools based at the airport including Guidance Avia
 tion - the country's leading helicopter flight training institution, Embry-
 Riddle Aeronautical University, and Universal Helicopters. Additionally, Na
 tiveAir, Civil Air Patrol, Experimental Aircraft Association (EAA), Hope Ta
 kes Flight, Direct Jets, Star Island Motorsports and others will be present
 .&nbsp;Inspiring Future AviatorsLegend Aviation is hosting the event to int
 roduce the aviation community its new fuel vendor, Phillips 66, as well as 
 providing a venue for both aviators and aviation enthusiasts to mingle and 
 check out the aircraft, flight schools, and leading aviation organizations.
  The local chapter of the Experimental Aircraft Association (EAA) Chapter #
 658 will be providing Young Eagle Flights. &nbsp;There also be will food tr
 ucks, live bands, shop tours, a hot rods show, raffles, and of course helic
 opters and airplanes.&nbsp;Legend Aviation Website: www.legend-aviation.com
 &nbsp;About Legend Aviation(Source: Legend Aviation Website)&nbsp;Legend Av
 iation, created by two local Prescott, Arizona residents, based on the beli
 ef that “an FBO, built and managed by pilots, would best understand how to 
 support the needs of fellow aviators” opened on January 2, 2008, as Prescot
 t’s first Fixed Base Operation (FBO) in the airport’s storied nearly 90-yea
 r history. Legend Aviation is able to provide a wide array of services that
  benefit you, our fellow pilots, and the Prescott community as a whole.&nbs
 p;The owners chose the company name, Legend Aviation, because it symbolizes
  the spirit of aviation past and present. As an example, the newly remodele
 d FBO terminal building was originally constructed in 1969 as the FAA Fligh
 t Service Station, which serviced the vast high desert area of Northern Ari
 zona for many years. Echoes of the Prescott Airport’s origins and aviation 
 history, in general, are displayed by drawings and paintings on the walls t
 hroughout the terminal building. &nbsp;The airport’s original rotating beac
 on is displayed and memorialized at Legend Aviation commemorating the beaco
 n’s long aviation service in safely guiding pilots to this unique southwest
 ern location.&nbsp;
DTSTAMP:20260424T034215Z
DTSTART;TZID=America/Phoenix:20151017T090000
DTEND;TZID=America/Phoenix:20151017T170000
SEQUENCE:0
TRANSP:OPAQUE
END:VEVENT
END:VCALENDAR