BEGIN:VCALENDAR
VERSION:2.0
PRODID:-//jEvents 2.0 for Joomla//EN
CALSCALE:GREGORIAN
METHOD:PUBLISH
BEGIN:VEVENT
UID:593b941747673c9b4b428165342ee003
CATEGORIES:Backcountry
CREATED:20150812T155259
SUMMARY:Pleasant Valley (Young, AZ) Backcountry Fly-In
LOCATION:24AZ Pleasant Valley Airstrip (Young, AZ)
DESCRIPTION;ENCODING=QUOTED-PRINTABLE:   \nRESCHEDULED to OCT 9-11\nPlan on a special weekend at the Pleasant Val
 ley Airstrip&nbsp;located just outside the little community of Young Arizon
 a on the Tonto National Forest, 24AZ.&nbsp; If you are not really a camper 
 you might consider staying a night in one of the two hotels in Young. The P
 leasant Valley Inn is a good choice, with fireplaces, WiFi, refrigerators, 
 and all the comforts of home. Call Marla&nbsp;at&nbsp;(928) 462-3593&nbsp;e
 arly to reserve a room! Transportation to and from the hotel will be availa
 ble, and transportation to and from Antlers. (A fabulous local restaurant!)
 &nbsp;\nRooms are also available at the Cherry Creek Lodge&nbsp;Call: Holly
  928-462-4027\nThe Dead Broke Inn&nbsp;Call: Karla&nbsp;928-462-4022\nValle
 y View Cabins Call: Darleen Harris 928-462-3422\nWe'll be having a potluck 
 lunch on Saturday, and will have transportation into the incredible Antlers
  restaurant for dinner. \nThe Forest Service has graded this 3400' runway&n
 bsp;for us, and recently installed two aluminum picnic tables to replace ou
 r original wood units.\n&nbsp;\nOctober 9-11 will be the alternate dates if
  strong winds or rain are forecasted.&nbsp;   \n&nbsp;\n&nbsp;\nClick Here 
 for the Pilot Safety Pamphlet\n\n&nbsp;\n\n\n&nbsp;\n\n\n\n\n\n\n\n\n\n\n\n
 \n\n\n\n\n\n\n\n\n&nbsp;\n\n\n&nbsp;\n
CONTACT:Mark: This email address is being protected from spambots. You need JavaScript enabled to view it.
				document.getElementById('cloak2e57fa61db651324a9d8c4a326044131').innerHTML = '';
				var prefix = '&#109;a' + 'i&#108;' + '&#116;o';
				var path = 'hr' + 'ef' + '=';
				var addy2e57fa61db651324a9d8c4a326044131 = 'msp&#101;nc&#101;r' + '&#64;';
				addy2e57fa61db651324a9d8c4a326044131 = addy2e57fa61db651324a9d8c4a326044131 + 'th&#101;r&#97;f' + '&#46;' + '&#111;rg';
				var addy_text2e57fa61db651324a9d8c4a326044131 = 'msp&#101;nc&#101;r' + '&#64;' + 'th&#101;r&#97;f' + '&#46;' + '&#111;rg';document.getElementById('cloak2e57fa61db651324a9d8c4a326044131').innerHTML += ''+addy_text2e57fa61db651324a9d8c4a326044131+'';
		, Tommy: This email address is being protected from spambots. You need JavaScript enabled to view it.
				document.getElementById('cloak82f0f07e70cdb5f4056c83c10c51e871').innerHTML = '';
				var prefix = '&#109;a' + 'i&#108;' + '&#116;o';
				var path = 'hr' + 'ef' + '=';
				var addy82f0f07e70cdb5f4056c83c10c51e871 = 't&#101;th&#111;m&#97;s&#111;n' + '&#64;';
				addy82f0f07e70cdb5f4056c83c10c51e871 = addy82f0f07e70cdb5f4056c83c10c51e871 + '&#97;zp&#105;l&#111;ts' + '&#46;' + '&#111;rg';
				var addy_text82f0f07e70cdb5f4056c83c10c51e871 = 't&#101;th&#111;m&#97;s&#111;n' + '&#64;' + '&#97;zp&#105;l&#111;ts' + '&#46;' + '&#111;rg';document.getElementById('cloak82f0f07e70cdb5f4056c83c10c51e871').innerHTML += ''+addy_text82f0f07e70cdb5f4056c83c10c51e871+'';
		
DTSTAMP:20260423T112214Z
DTSTART;TZID=America/Phoenix;VALUE=DATE:20151009
DTEND;TZID=America/Phoenix;VALUE=DATE:20151012
SEQUENCE:0
TRANSP:OPAQUE
END:VEVENT
END:VCALENDAR