BEGIN:VCALENDAR
VERSION:2.0
PRODID:-//jEvents 2.0 for Joomla//EN
CALSCALE:GREGORIAN
METHOD:PUBLISH
BEGIN:VEVENT
UID:5e34da94b021dc9ab0d6a8723cea3eb4
CATEGORIES:Other Fly-In
CREATED:20150727T133145
SUMMARY:43rd Annual Copperstate in Casa Grande
LOCATION:KCGZ Casa Grande
DESCRIPTION;ENCODING=QUOTED-PRINTABLE:&nbsp;\n2015 Copperstate is almost here!\n\nWe will be having Backcountry S
 eminars both days, plus these additional FAASTeam seminars:October 23, 2015
  FAASTeam Seminars WINGS CREDIT:\n09:00 A.M. TO 11:00 A.M.--(ADS-B) Automat
 ic, Dependent, Surveillance-Broadcast and Flight Safety, WINGS CREDIT.https
 ://www.faasafety.gov/SPANS/event_details.aspx?eid=65103&amp;caller=/SPANS/e
 vents/ModifyEventList.aspx\n11:00 A.M. TO 01:00 P.M.--Owner Performed Maint
 enance, Maintaining Light Sport Aircraft, WINGS CREDIT.https://www.faasafet
 y.gov/SPANS/event_details.aspx?eid=65104&amp;caller=/SPANS/events/ModifyEve
 ntList.aspx\n01:00 P.M. TO&nbsp;03:00 P.M.--Loss of Control---Don’t Let It 
 Happen To You---Review of AZ LOC Accidents 2015, WINGS CREDIT.https://www.f
 aasafety.gov/SPANS/event_details.aspx?eid=65107&amp;caller=/SPANS/events/Mo
 difyEventList.aspx\nOctober 24, 2015&nbsp;FAASTeam&nbsp;Seminars WINGS CRED
 IT:\n09:00 A.M. TO 11:00 A.M.--Owner Performed Maintenance, Maintaining Lig
 ht Sport Aircraft, WINGS CREDIT.https://www.faasafety.gov/SPANS/event_detai
 ls.aspx?eid=65110&amp;caller=/SPANS/events/ModifyEventList.aspx\n11:00 A.M.
  TO 01:00 P.M.--Unmanned Aircraft Systems (UAS) and Collision Avoidance--WI
 NGS CREDIT.https://www.faasafety.gov/SPANS/event_details.aspx?eid=65109&amp
 ;caller=/SPANS/events/ModifyEventList.aspx\n01:00 P.M. TO&nbsp;03:00 P.M.--
 Aerospace Physiology: Altitude Chamber, Human Factors in Flight, High Altit
 ude Operations. &nbsp;WINGS&nbsp;CREDIT.&nbsp;https://www.faasafety.gov/SPA
 NS/event_details.aspx?eid=65274&amp;caller=/SPANS/events/ModifyEventList.as
 px\n\n\n&nbsp;\nSame place, new things.\n\nThe Copperstate Fly-in and Educa
 tion Expo will be held again at the Casa Grande Municipal Airport in Casa G
 rande, Arizona.\nWe will include antique and vintage cars again this year a
 s it was a welcome addition last year. If you have a vintage, classic, rest
 omod, or antique vehicle, let us know and plan to bring it with you. This y
 ear we will have judging of both aircraft as well as cars (or other vehicle
 s if you have a pickup, truck, etc.).\nLet me Drone on.\n\nThis year we are
  adding something new. Because drones have now captured the spotlight as th
 e new thing to have, we are adding a Drone Dome! This is a netted enclosed 
 area where you can fly (or try to fly) a drone. We are in the process of fi
 nishing the design of this area but we will make it fun and entertaining.\n
 Volunteers Needed.\n\nLast year we had over 500 aircraft present and this y
 ear could be even more. Also, if you have the time and desire to help, we n
 eed volunteers. If there is a specific area you would like to help out with
 , let us know. \nCheck out our new website www.copperstate.org for any info
 rmation about the show. You will find a full list of individuals who can an
 swer any questions you might have.\n\n\nWe look forward to seeing you in Oc
 tober.\n\n\nDennis McLain\nThis email address is being protected from spamb
 ots. You need JavaScript enabled to view it.
				document.getElementById('c
 loak01b8c4a0a7ba5ea6d5611f21a62e7f0d').innerHTML = '';
				var prefix = '&#
 109;a' + 'i&#108;' + '&#116;o';
				var path = 'hr' + 'ef' + '=';
				var a
 ddy01b8c4a0a7ba5ea6d5611f21a62e7f0d = 'dmcl&#97;&#105;n' + '&#64;';
				add
 y01b8c4a0a7ba5ea6d5611f21a62e7f0d = addy01b8c4a0a7ba5ea6d5611f21a62e7f0d + 
 'c&#111;pp&#101;rst&#97;t&#101;' + '&#46;' + '&#111;rg';
				var addy_text0
 1b8c4a0a7ba5ea6d5611f21a62e7f0d = 'dmcl&#97;&#105;n' + '&#64;' + 'c&#111;pp
 &#101;rst&#97;t&#101;' + '&#46;' + '&#111;rg';document.getElementById('cloa
 k01b8c4a0a7ba5ea6d5611f21a62e7f0d').innerHTML += ''+addy_text01b8c4a0a7ba5e
 a6d5611f21a62e7f0d+'';
		\nCopperstate Fly-In and Education Expo\n\n\nwww.C
 opperstate.org\n\n\n\n\n&nbsp;\n\n\n&nbsp;\n\n\nGreetings from the Copperst
 ate Fly-in and Education Expo. Well, the 2015 Copperstate Fly-in is just ar
 ound the corner! October is coming quickly and we are all hard at work buil
 ding a better than last year experience. If you like aviation, come down an
 d see what we have been doing.&nbsp;And, if you like airplanes and just lik
 e to be around them, we could use your help. Volunteer to help out! There i
 s a complete list of Chairpersons on our website so if there is a specific 
 area you are interested in, please contact them and sign up. We have a grea
 t time and it is fun.&nbsp;Hope to see you all in October!\n\n\nStephen Bas
 s\n\n\n&nbsp;\n\n\n&nbsp;\n\n\nSince 1971, the COPPERSTATE Fly-In &amp; Avi
 ation Expo has been a great place to see a diverse blend of aircraft in act
 ion, attend informative workshops and check out the latest, greatest aviati
 on products. In its 42nd year, this year’s fly-in — scheduled for Thurs, Oc
 t. 23rd, 2014 - Sat, Oct. 25th, 2014 at the Casa Grande Municipal Airport i
 n Casa Grande, Ariz. — promises to be no exception.\n\n\nOver the years, CO
 PPERSTATE has grown exponentially, attracting about 500 aircraft and 5,000 
 attendees per year representing 10 countries and 40 U.S. states.\n\n\nAtten
 dees particularly enjoy the wide variety of aircraft on the ground and in t
 he air — from ultralights, to WWII fighter jets, to “micro-jets” and much m
 ore. And, we receive many compliments on how family-friendly the event is: 
 Over 1,000 people attend COPPERSTATE’s workshops and forums every year, and
  several dozen kids participate in our youth activities, including a wing r
 ib-building workshop.\n\n\nThe annual aircraft judging awards banquet, held
  on Saturday night of the event, is another crowd-pleaser, attracting about
  100 participants per year.\n\n\nLast (but certainly not least), COPPERSTAT
 E also plays host to about 50 diverse exhibitors. In our "big tent," a pilo
 t or aviation enthusiast can find just about anything they're looking for.\
 n\n\nFor day-by-day event highlights, lots of photos, and a list of the 201
 2 aircraft judging awards recipients, please spend some time exploring our&
 nbsp;website&nbsp;and&nbsp;Facebook page.\n\n\n&nbsp;\n
CONTACT:Dennis McLain This email address is being protected from spambots. You need JavaScript enabled to view it.
				document.getElementById('cloak9589d04c7931dd145041b45113f57305').innerHTML = '';
				var prefix = '&#109;a' + 'i&#108;' + '&#116;o';
				var path = 'hr' + 'ef' + '=';
				var addy9589d04c7931dd145041b45113f57305 = 'dmcl&#97;&#105;n' + '&#64;';
				addy9589d04c7931dd145041b45113f57305 = addy9589d04c7931dd145041b45113f57305 + 'c&#111;pp&#101;rst&#97;t&#101;' + '&#46;' + '&#111;rg';
				var addy_text9589d04c7931dd145041b45113f57305 = 'dmcl&#97;&#105;n' + '&#64;' + 'c&#111;pp&#101;rst&#97;t&#101;' + '&#46;' + '&#111;rg';document.getElementById('cloak9589d04c7931dd145041b45113f57305').innerHTML += ''+addy_text9589d04c7931dd145041b45113f57305+'';
		
DTSTAMP:20260424T034407Z
DTSTART;TZID=America/Phoenix;VALUE=DATE:20151022
DTEND;TZID=America/Phoenix;VALUE=DATE:20151025
SEQUENCE:0
TRANSP:OPAQUE
END:VEVENT
END:VCALENDAR