BEGIN:VCALENDAR
VERSION:2.0
PRODID:-//jEvents 2.0 for Joomla//EN
CALSCALE:GREGORIAN
METHOD:PUBLISH
BEGIN:VEVENT
UID:dac8c2ee9d48a7f1bbd10d908f4dcfe7
CATEGORIES:Backcountry
CREATED:20150629T191143
SUMMARY:Grapevine Monthly Fly-In Weekend
LOCATION:Grapevine (E75) near Roosevelt Lake
DESCRIPTION;ENCODING=QUOTED-PRINTABLE:\n&nbsp;\nThe camp host for this month is:\n~ Paul &amp; Charlie Pitkin~\n\
 n\nSaturday: BBQ lunch\n\n\nSaturday Night: Potluck\n\n\n&nbsp;\nAs always,
 \nPort-A-John on site\nFree Airplane Parking\nFree Camping\nFree Black Labr
 ador Petting Zoo\nHiking\nPlenty of Sunshine\n\nClick for weather forecast&
 nbsp;\n\nGrapevine is open on the third&nbsp;weekend&nbsp;of each month, \n
 Friday through Sunday.\nClick here for the GRAPEVINE SAFETY BULLETIN\n&nbsp
 ;\nPlease email&nbsp;This email address is being protected from spambots. Y
 ou need JavaScript enabled to view it.
				document.getElementById('cloakcf
 2192117481be1061e0ab99fe626879').innerHTML = '';
				var prefix = '&#109;a'
  + 'i&#108;' + '&#116;o';
				var path = 'hr' + 'ef' + '=';
				var addycf2
 192117481be1061e0ab99fe626879 = 'msp&#101;nc&#101;r' + '&#64;';
				addycf2
 192117481be1061e0ab99fe626879 = addycf2192117481be1061e0ab99fe626879 + 'th&
 #101;r&#97;f' + '&#46;' + '&#111;rg?cc=t&#101;th&#111;m&#97;s&#111;n';
				
 var addy_textcf2192117481be1061e0ab99fe626879 = 'M&#97;rk &#111;r T&#111;mm
 y';document.getElementById('cloakcf2192117481be1061e0ab99fe626879').innerHT
 ML += ''+addy_textcf2192117481be1061e0ab99fe626879+'';
		&nbsp;for more inf
 o or if you are interested in volunteering.\n&nbsp;\n\n\n\n\n\n\n\n\n\n\n\n
CONTACT:Tommy Thomason This email address is being protected from spambots. You need JavaScript enabled to view it.
				document.getElementById('cloak95c560fcb9ad73d46f26cc27943b0da8').innerHTML = '';
				var prefix = '&#109;a' + 'i&#108;' + '&#116;o';
				var path = 'hr' + 'ef' + '=';
				var addy95c560fcb9ad73d46f26cc27943b0da8 = 't&#101;th&#111;m&#97;s&#111;n' + '&#64;';
				addy95c560fcb9ad73d46f26cc27943b0da8 = addy95c560fcb9ad73d46f26cc27943b0da8 + '&#97;zp&#105;l&#111;ts' + '&#46;' + '&#111;rg';
				var addy_text95c560fcb9ad73d46f26cc27943b0da8 = 't&#101;th&#111;m&#97;s&#111;n' + '&#64;' + '&#97;zp&#105;l&#111;ts' + '&#46;' + '&#111;rg';document.getElementById('cloak95c560fcb9ad73d46f26cc27943b0da8').innerHTML += ''+addy_text95c560fcb9ad73d46f26cc27943b0da8+'';
		 602-708-2040
DTSTAMP:20260421T002934Z
DTSTART;TZID=America/Phoenix;VALUE=DATE:20160318
DTEND;TZID=America/Phoenix;VALUE=DATE:20160321
SEQUENCE:0
TRANSP:OPAQUE
END:VEVENT
END:VCALENDAR