BEGIN:VCALENDAR
VERSION:2.0
PRODID:-//jEvents 2.0 for Joomla//EN
CALSCALE:GREGORIAN
METHOD:PUBLISH
BEGIN:VEVENT
UID:dac8c2ee9d48a7f1bbd10d908f4dcfe7
CATEGORIES:Backcountry
CREATED:20150629T191143
SUMMARY:Grapevine Monthly Fly-In Weekend
LOCATION:Grapevine (E75) near Roosevelt Lake
DESCRIPTION;ENCODING=QUOTED-PRINTABLE:\n&nbsp;\nThe camp host for this month is:\n~ Mike Andresen ~&nbsp;\n\n\nFr
 iday Night: Potluck!\n\n\nSaturday: BBQ lunch\n\n\n&nbsp;\nAs always,\nPort
 -A-John on site\nFree Airplane Parking\nFree Camping\nFree Black Labrador P
 etting Zoo\nHiking\nPlenty of Sunshine\n\nClick for weather forecast&nbsp;\
 nThe Dates Have Changed!!!AGAIN!!!Grapevine is now open on the&nbsp;THIRD&n
 bsp;weekend&nbsp;of each month, Fri through Sat.\nClick here for the GRAPEV
 INE SAFETY BULLETIN\n&nbsp;\nPlease email&nbsp;This email address is being 
 protected from spambots. You need JavaScript enabled to view it.
				docume
 nt.getElementById('cloak726c735b281e8c4ae723cb3a7ebbf55a').innerHTML = '';

 				var prefix = '&#109;a' + 'i&#108;' + '&#116;o';
				var path = 'hr' + '
 ef' + '=';
				var addy726c735b281e8c4ae723cb3a7ebbf55a = 'msp&#101;nc&#101
 ;r' + '&#64;';
				addy726c735b281e8c4ae723cb3a7ebbf55a = addy726c735b281e8
 c4ae723cb3a7ebbf55a + 'th&#101;r&#97;f' + '&#46;' + '&#111;rg?cc=t&#101;th&
 #111;m&#97;s&#111;n';
				var addy_text726c735b281e8c4ae723cb3a7ebbf55a = '
 M&#97;rk &#111;r T&#111;mmy';document.getElementById('cloak726c735b281e8c4a
 e723cb3a7ebbf55a').innerHTML += ''+addy_text726c735b281e8c4ae723cb3a7ebbf55
 a+'';
		&nbsp;for more info or if you are interested in volunteering.\n&nbs
 p;\n\n\n\n\n\n\n\n\n\n\n\n
CONTACT:Tommy Thomason This email address is being protected from spambots. You need JavaScript enabled to view it.
				document.getElementById('cloak846d1be9c40e59e99ce6f395915e2970').innerHTML = '';
				var prefix = '&#109;a' + 'i&#108;' + '&#116;o';
				var path = 'hr' + 'ef' + '=';
				var addy846d1be9c40e59e99ce6f395915e2970 = 't&#101;th&#111;m&#97;s&#111;n' + '&#64;';
				addy846d1be9c40e59e99ce6f395915e2970 = addy846d1be9c40e59e99ce6f395915e2970 + '&#97;zp&#105;l&#111;ts' + '&#46;' + '&#111;rg';
				var addy_text846d1be9c40e59e99ce6f395915e2970 = 't&#101;th&#111;m&#97;s&#111;n' + '&#64;' + '&#97;zp&#105;l&#111;ts' + '&#46;' + '&#111;rg';document.getElementById('cloak846d1be9c40e59e99ce6f395915e2970').innerHTML += ''+addy_text846d1be9c40e59e99ce6f395915e2970+'';
		 602-708-2040
DTSTAMP:20260420T221928Z
DTSTART;TZID=America/Phoenix;VALUE=DATE:20160219
DTEND;TZID=America/Phoenix;VALUE=DATE:20160222
SEQUENCE:0
TRANSP:OPAQUE
END:VEVENT
END:VCALENDAR