BEGIN:VCALENDAR
VERSION:2.0
PRODID:-//jEvents 2.0 for Joomla//EN
CALSCALE:GREGORIAN
METHOD:PUBLISH
BEGIN:VEVENT
UID:753679c8abfb8150b3e56db7c6766dee
CATEGORIES:Weekend Getaway
CREATED:20150627T163847
SUMMARY:Weekend Getaway to Bryce Canyon, UT
LOCATION:Bryce Canyon, UT
DESCRIPTION;ENCODING=QUOTED-PRINTABLE:\nWeekend Getaway to Bryce Canyon, UT\nAugust 22-23\nContact This email add
 ress is being protected from spambots. You need JavaScript enabled to view 
 it.
				document.getElementById('cloakce662505afa9f52a62ad01e0ef221573').in
 nerHTML = '';
				var prefix = '&#109;a' + 'i&#108;' + '&#116;o';
				var p
 ath = 'hr' + 'ef' + '=';
				var addyce662505afa9f52a62ad01e0ef221573 = 'br
 &#97;d' + '&#64;';
				addyce662505afa9f52a62ad01e0ef221573 = addyce662505a
 fa9f52a62ad01e0ef221573 + '&#97;zp&#105;l&#111;ts' + '&#46;' + '&#111;rg';

 				var addy_textce662505afa9f52a62ad01e0ef221573 = 'Br&#97;d';document.get
 ElementById('cloakce662505afa9f52a62ad01e0ef221573').innerHTML += ''+addy_t
 extce662505afa9f52a62ad01e0ef221573+'';
		 if you would like to go!&nbsp;\n
 \n\nHere is a link to the hotel info.\n(Click on "Bryce Canyon Area")\n\n\n
 &nbsp;\n
CONTACT:Brad Lawrence This email address is being protected from spambots. You need JavaScript enabled to view it.
				document.getElementById('cloakbc5e4dd95156a089f2b0f3dc643be905').innerHTML = '';
				var prefix = '&#109;a' + 'i&#108;' + '&#116;o';
				var path = 'hr' + 'ef' + '=';
				var addybc5e4dd95156a089f2b0f3dc643be905 = 'br&#97;d' + '&#64;';
				addybc5e4dd95156a089f2b0f3dc643be905 = addybc5e4dd95156a089f2b0f3dc643be905 + '&#97;zp&#105;l&#111;ts' + '&#46;' + '&#111;rg';
				var addy_textbc5e4dd95156a089f2b0f3dc643be905 = 'br&#97;d' + '&#64;' + '&#97;zp&#105;l&#111;ts' + '&#46;' + '&#111;rg';document.getElementById('cloakbc5e4dd95156a089f2b0f3dc643be905').innerHTML += ''+addy_textbc5e4dd95156a089f2b0f3dc643be905+'';
		 602-460-4286
DTSTAMP:20260420T163722Z
DTSTART;TZID=America/Phoenix;VALUE=DATE:20150822
DTEND;TZID=America/Phoenix;VALUE=DATE:20150824
SEQUENCE:0
TRANSP:OPAQUE
END:VEVENT
END:VCALENDAR