BEGIN:VCALENDAR
VERSION:2.0
PRODID:-//jEvents 2.0 for Joomla//EN
CALSCALE:GREGORIAN
METHOD:PUBLISH
BEGIN:VEVENT
UID:8387a78fa8cffdece0f9647ceb392932
CATEGORIES:APA Fly-In
CREATED:20150224T200910
SUMMARY:Canceled - The Breakfast Club - Window Rock
LOCATION:Window Rock at the Quality Inn
DESCRIPTION;ENCODING=QUOTED-PRINTABLE:Although rain seems unlikely for&nbsp;tomorrow, heavy clouds and cold temps
  are in store for RQE in the morning.&nbsp; Therefore, I am canceling the B
 reakfast Club event to Window Rock and start looking forward to our June ev
 ent to Ryan.&nbsp; Aloha.\n&nbsp;\nWarren McIlvoy, President\nCherokee Air,
  LTD\n\n\nJust what is the Breakfast Club, you ask? Well, it is a group of 
 just "plane" people that enjoy aviation, purely for the fun of it. “Plane” 
 people who love to share some great fellowship and, on most occasions, a gr
 eat meal to boot. We usually gather at the destination of the day, on the s
 econd Saturday of each month. Some are unusual destinations and many are fa
 miliar and favorites mostly in the state of Arizona and sometimes, out of s
 tate. Often times, some of our folks will have an empty seat or two in orde
 r to share their experiences with those who are aviations buffs but are not
  licensed to fly. Visit&nbsp;http://www.public.asu.edu/~idwlm/&nbsp;for a l
 ist of locations and dates of our events.\n\n\n\n\n\n&nbsp;\n
CONTACT:Warren McIlvoy This email address is being protected from spambots. You need JavaScript enabled to view it.
				document.getElementById('cloak05c5d7a58f7047ada863f4f8f023a5f5').innerHTML = '';
				var prefix = '&#109;a' + 'i&#108;' + '&#116;o';
				var path = 'hr' + 'ef' + '=';
				var addy05c5d7a58f7047ada863f4f8f023a5f5 = '&#105;dwlm' + '&#64;';
				addy05c5d7a58f7047ada863f4f8f023a5f5 = addy05c5d7a58f7047ada863f4f8f023a5f5 + '&#97;s&#117;' + '&#46;' + '&#101;d&#117;';
				var addy_text05c5d7a58f7047ada863f4f8f023a5f5 = '&#105;dwlm' + '&#64;' + '&#97;s&#117;' + '&#46;' + '&#101;d&#117;';document.getElementById('cloak05c5d7a58f7047ada863f4f8f023a5f5').innerHTML += ''+addy_text05c5d7a58f7047ada863f4f8f023a5f5+'';
		
DTSTAMP:20260423T102251Z
DTSTART;TZID=America/Phoenix:20150509T090000
SEQUENCE:0
TRANSP:OPAQUE
END:VEVENT
END:VCALENDAR