BEGIN:VCALENDAR
VERSION:2.0
PRODID:-//jEvents 2.0 for Joomla//EN
CALSCALE:GREGORIAN
METHOD:PUBLISH
BEGIN:VEVENT
UID:c06f6314f032813b65eb53ea133946c8
CATEGORIES:Backcountry
CREATED:20140527T140919
SUMMARY:Grapevine Monthly Fly-In Weekend
LOCATION:Grapevine (E75) near Roosevelt Lake
DESCRIPTION;ENCODING=QUOTED-PRINTABLE:\n\nThe camp host for this month is:\n~ Jim &amp; Diane Wisda&nbsp;~  \n&nb
 sp;\n\n\nCome out and enjoy the new shade armadas and campfire ring. Come j
 oin us for the day or camp out for a night or two.\n\n\nSaturday Noon: BBQ 
 lunch.\nSunday Morning: Bagels and coffee with the Falcon Breakfast Club.\n
 \n\n&nbsp;\nAs always,\nNo landing Fees\nFree Airplane Parking\nFree Campin
 g\nFree Black Labrador Petting Zoo\nHiking\nPlenty of Sunshine\n\nClick for
  weather forecast&nbsp;\nThe Dates Have Changed!!!\n&nbsp;\nGrapevine is no
 w open on the&nbsp;FOURTH weekend&nbsp;of each month, Fri through Sat.&nbsp
 ;\n\n&nbsp;\nClick here for the GRAPEVINE SAFETY BULLETIN\n&nbsp;\nPlease e
 mail&nbsp;This email address is being protected from spambots. You need Jav
 aScript enabled to view it.
				document.getElementById('cloak8f00f85d85ee8
 de2ca78a3769b75bed3').innerHTML = '';
				var prefix = '&#109;a' + 'i&#108;
 ' + '&#116;o';
				var path = 'hr' + 'ef' + '=';
				var addy8f00f85d85ee8d
 e2ca78a3769b75bed3 = 'msp&#101;nc&#101;r' + '&#64;';
				addy8f00f85d85ee8d
 e2ca78a3769b75bed3 = addy8f00f85d85ee8de2ca78a3769b75bed3 + 'th&#101;r&#97;
 f' + '&#46;' + '&#111;rg?cc=t&#101;th&#111;m&#97;s&#111;n';
				var addy_te
 xt8f00f85d85ee8de2ca78a3769b75bed3 = 'M&#97;rk &#111;r T&#111;mmy';document
 .getElementById('cloak8f00f85d85ee8de2ca78a3769b75bed3').innerHTML += ''+ad
 dy_text8f00f85d85ee8de2ca78a3769b75bed3+'';
		&nbsp;for more info or if you
  are interested in volunteering.\n&nbsp;\n\n\n\n\n\n\n\n\n\n\n\n
CONTACT:Tommy Thomason This email address is being protected from spambots. You need JavaScript enabled to view it.
				document.getElementById('cloak7b534ae484a0927fc5974a95ba4715c8').innerHTML = '';
				var prefix = '&#109;a' + 'i&#108;' + '&#116;o';
				var path = 'hr' + 'ef' + '=';
				var addy7b534ae484a0927fc5974a95ba4715c8 = 't&#101;th&#111;m&#97;s&#111;n' + '&#64;';
				addy7b534ae484a0927fc5974a95ba4715c8 = addy7b534ae484a0927fc5974a95ba4715c8 + '&#97;zp&#105;l&#111;ts' + '&#46;' + '&#111;rg';
				var addy_text7b534ae484a0927fc5974a95ba4715c8 = 't&#101;th&#111;m&#97;s&#111;n' + '&#64;' + '&#97;zp&#105;l&#111;ts' + '&#46;' + '&#111;rg';document.getElementById('cloak7b534ae484a0927fc5974a95ba4715c8').innerHTML += ''+addy_text7b534ae484a0927fc5974a95ba4715c8+'';
		 602-708-2040
DTSTAMP:20260423T112106Z
DTSTART;TZID=America/Phoenix;VALUE=DATE:20150327
DTEND;TZID=America/Phoenix;VALUE=DATE:20150330
SEQUENCE:0
TRANSP:OPAQUE
END:VEVENT
END:VCALENDAR