BEGIN:VCALENDAR
VERSION:2.0
PRODID:-//jEvents 2.0 for Joomla//EN
CALSCALE:GREGORIAN
METHOD:PUBLISH
BEGIN:VEVENT
UID:c06f6314f032813b65eb53ea133946c8
CATEGORIES:Backcountry
CREATED:20140527T140919
SUMMARY:Grapevine Monthly Fly-In Weekend
LOCATION:Grapevine (E75) near Roosevelt Lake
DESCRIPTION;ENCODING=QUOTED-PRINTABLE:\n\nThe camp host for this month is:\n~ Paul &amp; Charlie Pitkin&nbsp;~\n&
 nbsp;\n\n\nLast month was our biggest Grapevine fly in so far with 30 airpl
 anes attending over the weekend. Also last month construction started for i
 nstallation of shade ramadas and a new campfire ring. Come join us for the 
 day or to camp.\n\n\nSaturday Noon: BBQ lunch.\nSaturday Evening: Chili and
  Corn Bread. Campfire potluck.\n\n\n&nbsp;\nAs always,\nNo landing Fees\nFr
 ee Airplane Parking\nFree Camping\nFree Black Labrador Petting Zoo\nHiking\
 nPlenty of Sunshine\n\nClick for weather forecast\n\nThe Dates Have Changed
 !!!\n&nbsp;\nGrapevine is now open on the&nbsp;FOURTH weekend&nbsp;of each 
 month, Fri through Sat.&nbsp;\n\n&nbsp;\nClick here for the GRAPEVINE SAFET
 Y BULLETIN\n&nbsp;\n&nbsp;\n&nbsp;\nPlease email&nbsp;This email address is
  being protected from spambots. You need JavaScript enabled to view it.
			
 	document.getElementById('cloak5495b3a68d6a39261757d7b7422645b6').innerHTML
  = '';
				var prefix = '&#109;a' + 'i&#108;' + '&#116;o';
				var path = '
 hr' + 'ef' + '=';
				var addy5495b3a68d6a39261757d7b7422645b6 = 'msp&#101;
 nc&#101;r' + '&#64;';
				addy5495b3a68d6a39261757d7b7422645b6 = addy5495b3
 a68d6a39261757d7b7422645b6 + 'th&#101;r&#97;f' + '&#46;' + '&#111;rg?cc=t&#
 101;th&#111;m&#97;s&#111;n';
				var addy_text5495b3a68d6a39261757d7b742264
 5b6 = 'M&#97;rk &#111;r T&#111;mmy';document.getElementById('cloak5495b3a68
 d6a39261757d7b7422645b6').innerHTML += ''+addy_text5495b3a68d6a39261757d7b7
 422645b6+'';
		&nbsp;for more info or if you are interested in volunteering
 .\n&nbsp;\n\n\n\n\n\n\n\n\n\n\n\n
CONTACT:Tommy Thomason This email address is being protected from spambots. You need JavaScript enabled to view it.
				document.getElementById('cloakcb7f950979ca5ec61dbcf48e52d95f0f').innerHTML = '';
				var prefix = '&#109;a' + 'i&#108;' + '&#116;o';
				var path = 'hr' + 'ef' + '=';
				var addycb7f950979ca5ec61dbcf48e52d95f0f = 't&#101;th&#111;m&#97;s&#111;n' + '&#64;';
				addycb7f950979ca5ec61dbcf48e52d95f0f = addycb7f950979ca5ec61dbcf48e52d95f0f + '&#97;zp&#105;l&#111;ts' + '&#46;' + '&#111;rg';
				var addy_textcb7f950979ca5ec61dbcf48e52d95f0f = 't&#101;th&#111;m&#97;s&#111;n' + '&#64;' + '&#97;zp&#105;l&#111;ts' + '&#46;' + '&#111;rg';document.getElementById('cloakcb7f950979ca5ec61dbcf48e52d95f0f').innerHTML += ''+addy_textcb7f950979ca5ec61dbcf48e52d95f0f+'';
		 602-708-2040
DTSTAMP:20260423T193249Z
DTSTART;TZID=America/Phoenix;VALUE=DATE:20150227
DTEND;TZID=America/Phoenix;VALUE=DATE:20150302
SEQUENCE:0
TRANSP:OPAQUE
END:VEVENT
END:VCALENDAR