BEGIN:VCALENDAR
VERSION:2.0
PRODID:-//jEvents 2.0 for Joomla//EN
CALSCALE:GREGORIAN
METHOD:PUBLISH
BEGIN:VEVENT
UID:c06f6314f032813b65eb53ea133946c8
CATEGORIES:Backcountry
CREATED:20140527T140919
SUMMARY:Grapevine Monthly Fly-In Weekend
LOCATION:Grapevine (E75) near Roosevelt Lake
DESCRIPTION;ENCODING=QUOTED-PRINTABLE:\nThe camp host for this month is:\n\n~ Mike Andresen and and Rick Bosshard
 t&nbsp;~\n\n\n\nOn Saturday, Grapevine Airstrip will be the termination poi
 nt for the Suncountry Backcountry Olympics. This friendly competition invol
 ves power on and power off spot landings on a nearby public use dirt strip.
  A BBQ and Awards Ceremony will be held at Grapevine. All are welcome.\n\nO
 n Sunday, the Falcon Breakfast Club will join us for breakfast. All are wel
 come to this too.\n\n\n\nSaturday 2PM: BBQ lunch and Awards.\nSunday 8AM: B
 agel &amp; Coffee breakfast.\n======================================\n&nbsp
 ;\nThe Dates Have Changed!!!\nGrapevine is now open on the&nbsp;FOURTH week
 end&nbsp;of each month, Fri through Sat.&nbsp;\n\nClick here for the GRAPEV
 INE SAFETY BULLETIN\n&nbsp;\nPlease email&nbsp;This email address is being 
 protected from spambots. You need JavaScript enabled to view it.
				docume
 nt.getElementById('cloak3418e38439968869ec247a35435425cc').innerHTML = '';

 				var prefix = '&#109;a' + 'i&#108;' + '&#116;o';
				var path = 'hr' + '
 ef' + '=';
				var addy3418e38439968869ec247a35435425cc = 'msp&#101;nc&#101
 ;r' + '&#64;';
				addy3418e38439968869ec247a35435425cc = addy3418e38439968
 869ec247a35435425cc + 'th&#101;r&#97;f' + '&#46;' + '&#111;rg?cc=t&#101;th&
 #111;m&#97;s&#111;n';
				var addy_text3418e38439968869ec247a35435425cc = '
 M&#97;rk &#111;r T&#111;mmy';document.getElementById('cloak3418e38439968869
 ec247a35435425cc').innerHTML += ''+addy_text3418e38439968869ec247a35435425c
 c+'';
		&nbsp;for more info or if you are interested in volunteering.\n&nbs
 p;\n\n\n\n\n\n\n\n\n\n\n\n
CONTACT:Tommy Thomason This email address is being protected from spambots. You need JavaScript enabled to view it.
				document.getElementById('cloaka13f676b25442102d9ac7bc59a1cd598').innerHTML = '';
				var prefix = '&#109;a' + 'i&#108;' + '&#116;o';
				var path = 'hr' + 'ef' + '=';
				var addya13f676b25442102d9ac7bc59a1cd598 = 't&#101;th&#111;m&#97;s&#111;n' + '&#64;';
				addya13f676b25442102d9ac7bc59a1cd598 = addya13f676b25442102d9ac7bc59a1cd598 + '&#97;zp&#105;l&#111;ts' + '&#46;' + '&#111;rg';
				var addy_texta13f676b25442102d9ac7bc59a1cd598 = 't&#101;th&#111;m&#97;s&#111;n' + '&#64;' + '&#97;zp&#105;l&#111;ts' + '&#46;' + '&#111;rg';document.getElementById('cloaka13f676b25442102d9ac7bc59a1cd598').innerHTML += ''+addy_texta13f676b25442102d9ac7bc59a1cd598+'';
		 602-708-2040
DTSTAMP:20260423T112230Z
DTSTART;TZID=America/Phoenix;VALUE=DATE:20150123
DTEND;TZID=America/Phoenix;VALUE=DATE:20150126
SEQUENCE:0
TRANSP:OPAQUE
END:VEVENT
END:VCALENDAR