BEGIN:VCALENDAR
VERSION:2.0
PRODID:-//jEvents 2.0 for Joomla//EN
CALSCALE:GREGORIAN
METHOD:PUBLISH
BEGIN:VEVENT
UID:505858c2d870ea071b1877dc814c3e4c
CATEGORIES:Backcountry
CREATED:20141003T212048
SUMMARY:Pleasant Valley (Young, AZ) Backcountry Fly-In
LOCATION:24AZ Pleasant Valley Airstrip (Young, AZ)
DESCRIPTION;ENCODING=QUOTED-PRINTABLE:   \n&nbsp;Plan on a special weekend at the Pleasant Valley Airstrip&nbsp;l
 ocated just outside the little community of Young Arizona on the Tonto Nati
 onal Forest, 24AZ.&nbsp; If you are not really a camper you might consider 
 staying a night in one of the two hotels in Young. The Pleasant Valley Inn 
 is a good choice, with fireplaces, WiFi, refrigerators, and all the comfort
 s of home. Call Marla&nbsp;at&nbsp;(928) 462-3593&nbsp;early to reserve a r
 oom! Transportation to and from the hotel will be available, and transporta
 tion to and from Antlers. (A fabulous local restaurant!)&nbsp;\nWe'll be ha
 ving a potluck lunch on Saturday, and will have transportation into the inc
 redible Antlers restaurant for dinner. \nThe Forest Service has graded this
  3400' runway twice in the last year for us, and recently installed two alu
 minum picnic tables to replace our original wood units.\n&nbsp;\n&nbsp;\nCl
 ick Here for the Pilot Safety Pamphlet\n\n\n\n&nbsp;\n\n\n\n\n\n\n\n\n\n\n\
 n\n\n\n\n\n\n\n\n\n&nbsp;\n\n\n&nbsp;\n
CONTACT:Mark: This email address is being protected from spambots. You need JavaScript enabled to view it.
				document.getElementById('cloakc244d3d76a9ea56be9177cb0cc83c3b7').innerHTML = '';
				var prefix = '&#109;a' + 'i&#108;' + '&#116;o';
				var path = 'hr' + 'ef' + '=';
				var addyc244d3d76a9ea56be9177cb0cc83c3b7 = 'msp&#101;nc&#101;r' + '&#64;';
				addyc244d3d76a9ea56be9177cb0cc83c3b7 = addyc244d3d76a9ea56be9177cb0cc83c3b7 + 'th&#101;r&#97;f' + '&#46;' + '&#111;rg';
				var addy_textc244d3d76a9ea56be9177cb0cc83c3b7 = 'msp&#101;nc&#101;r' + '&#64;' + 'th&#101;r&#97;f' + '&#46;' + '&#111;rg';document.getElementById('cloakc244d3d76a9ea56be9177cb0cc83c3b7').innerHTML += ''+addy_textc244d3d76a9ea56be9177cb0cc83c3b7+'';
		, Tommy: This email address is being protected from spambots. You need JavaScript enabled to view it.
				document.getElementById('cloake9dadd031de94f95310544d969f401fe').innerHTML = '';
				var prefix = '&#109;a' + 'i&#108;' + '&#116;o';
				var path = 'hr' + 'ef' + '=';
				var addye9dadd031de94f95310544d969f401fe = 't&#101;th&#111;m&#97;s&#111;n' + '&#64;';
				addye9dadd031de94f95310544d969f401fe = addye9dadd031de94f95310544d969f401fe + '&#97;zp&#105;l&#111;ts' + '&#46;' + '&#111;rg';
				var addy_texte9dadd031de94f95310544d969f401fe = 't&#101;th&#111;m&#97;s&#111;n' + '&#64;' + '&#97;zp&#105;l&#111;ts' + '&#46;' + '&#111;rg';document.getElementById('cloake9dadd031de94f95310544d969f401fe').innerHTML += ''+addy_texte9dadd031de94f95310544d969f401fe+'';
		
DTSTAMP:20260420T212910Z
DTSTART;TZID=America/Phoenix;VALUE=DATE:20141121
DTEND;TZID=America/Phoenix;VALUE=DATE:20141124
SEQUENCE:0
TRANSP:OPAQUE
END:VEVENT
END:VCALENDAR