BEGIN:VCALENDAR
VERSION:2.0
PRODID:-//jEvents 2.0 for Joomla//EN
CALSCALE:GREGORIAN
METHOD:PUBLISH
BEGIN:VEVENT
UID:7d7294cab9c85c53b61ba2ce98039c7b
CATEGORIES:Backcountry
CREATED:20140428T212615
SUMMARY:Colorado Backcountry Fly-In to La Garita Creek Ranch
LOCATION:La Garita Creek Ranch, San Luis Valley, CO
DESCRIPTION;ENCODING=QUOTED-PRINTABLE:\nLa Garita Creek Ranch Fly-In \nMay 30-June 1\n	\n\n\nHello CPA members,\n
 We're kicking off the flying season here in Colorado with our second annual
  fly-in at La Garita Creek Ranch. Located in the San Luis Valley, it's a pi
 lots playground for backcountry airstrips and flying fun. Hooper Sand Dunes
  Pool has also invited the group back for lunch and a warm soak.\n\n\nThe r
 anch was officially re-opened last summer after much work to improve the ru
 nway, new windsocks, and facility upgrades. The location is impressive, abo
 ut 10 miles North of Del Norte, CO. The La Garita Creek runs through the pr
 operty providing for lot's of shade trees and fishing. Overnight guests can
  camp in a tent or stay in one of the many cabins (reasonable rates). Cabin
 s are first come first serve (going fast), and plenty of tent sites availab
 le throughout the property.\n(Download PDF for Full Size Image)\n\n\n\nHere
  is a list of all the planned happenings:\nFriday Nite - May 30: Dinner at 
 La Garita Trading Post Restaurant - Courtesy transportation provided.&nbsp;
 \nSaturday May 31 - Morning Fly-out to nearby backcoutry airstrips (Morning
  Shadows, Quarter Circle Circle, &amp; others ;) Then lunch/soak at Hooper 
 Sand Dunes Pool.\nSaturday Nite: Catered BBQ Dinner in the lodge back on th
 e ranch. (you wont go hungry at this fly-in)\nSunday June 1: insert your ow
 n flight plan here&nbsp;\n\n\nA few basics on the airstrip: RWY 09/27, 3400
 ft runway (2600ft improved, 800ft natural rough grass), 8050 ft MSL (high D
 A!), lots of aircraft parking. CTAF 122.9 Preferred landing is to the West 
 and takeoff to the East. This is a strip where good pilot skills and mounta
 in experience is required.\n(Download PDF for Full Size Image)\n\n\n\n\nHer
 e is a complete guide including maps and photos to some of the airstrips li
 sted:\n\n\nLa Garita Creek Ranch: http://www.flycolorado.org/index.php/airs
 trip-database/private-airports/la-garita-creek/\n\nHooper Sand Dunes Pool: 
 http://www.flycolorado.org/index.php/airstrip-database/private-airports/hoo
 per-sand-dunes-pool/\n\nQuarter Circle Circle BLM: http://www.flycolorado.o
 rg/index.php/airstrip-database/blm-airports/quarter-circle-circle/\n\n\nLas
 t year the event was well attended and had everything from Cessna 185's, to
  Carbon Cub's to Stinsons and Cessna 182's (even a Piper Comanche). High de
 nsity altitude and mountain flying conditions will exist, so please be prep
 ared. Shuttle to the ranch available from nearby paved airports including D
 el Norte (8V1) and Leach (1V8) with prior notice.\n\n\nIf you are planning 
 on attending, you must register for the fly-in and sign the wavier (if you 
 haven't done so in the past): http://www.flycolorado.org/index.php/locals-c
 orner/la-garita-creek-fly/\n\n\nCabin rentals / lodging can be found on the
  top right link here:\nhttp://www.flycolorado.org/index.php/airstrip-databa
 se/private-airports/la-garita-creek/\n\n\nA photo gallery from the 2013 fal
 l fly-in:\nhttp://www.flycolorado.org/index.php/airstrip-database/private-a
 irports/la-garita-creek/lgcr-fly-photos/\n\n\nIf you have any questions, pl
 ease email us at This email address is being protected from spambots. You n
 eed JavaScript enabled to view it.
				document.getElementById('cloakd416f6
 93a9d02f3e12fa97caa0491471').innerHTML = '';
				var prefix = '&#109;a' + '
 i&#108;' + '&#116;o';
				var path = 'hr' + 'ef' + '=';
				var addyd416f69
 3a9d02f3e12fa97caa0491471 = '&#105;nf&#111;' + '&#64;';
				addyd416f693a9d
 02f3e12fa97caa0491471 = addyd416f693a9d02f3e12fa97caa0491471 + 'flyc&#111;l
 &#111;r&#97;d&#111;' + '&#46;' + '&#111;rg';
				var addy_textd416f693a9d02
 f3e12fa97caa0491471 = '&#105;nf&#111;' + '&#64;' + 'flyc&#111;l&#111;r&#97;
 d&#111;' + '&#46;' + '&#111;rg';document.getElementById('cloakd416f693a9d02
 f3e12fa97caa0491471').innerHTML += ''+addy_textd416f693a9d02f3e12fa97caa049
 1471+'';
		. Look forward to seeing you there!\n\n\n\nColorado Recreational
  Aviation Committee\nColorado&nbsp;Pilots Association\nPO Box 200911\nDenve
 r, CO 80220-0911\n(303) 367-0670			\n
CONTACT:This email address is being protected from spambots. You need JavaScript enabled to view it.
				document.getElementById('cloak55605c8c318a2fcc9c4d934788e27788').innerHTML = '';
				var prefix = '&#109;a' + 'i&#108;' + '&#116;o';
				var path = 'hr' + 'ef' + '=';
				var addy55605c8c318a2fcc9c4d934788e27788 = '&#105;nf&#111;' + '&#64;';
				addy55605c8c318a2fcc9c4d934788e27788 = addy55605c8c318a2fcc9c4d934788e27788 + 'flyc&#111;l&#111;r&#97;d&#111;' + '&#46;' + '&#111;rg';
				var addy_text55605c8c318a2fcc9c4d934788e27788 = '&#105;nf&#111;' + '&#64;' + 'flyc&#111;l&#111;r&#97;d&#111;' + '&#46;' + '&#111;rg';document.getElementById('cloak55605c8c318a2fcc9c4d934788e27788').innerHTML += ''+addy_text55605c8c318a2fcc9c4d934788e27788+'';
		 (303) 367-0670
DTSTAMP:20260420T212719Z
DTSTART;TZID=America/Phoenix;VALUE=DATE:20140530
DTEND;TZID=America/Phoenix;VALUE=DATE:20140602
SEQUENCE:0
TRANSP:OPAQUE
END:VEVENT
END:VCALENDAR