BEGIN:VCALENDAR
VERSION:2.0
PRODID:-//jEvents 2.0 for Joomla//EN
CALSCALE:GREGORIAN
METHOD:PUBLISH
BEGIN:VEVENT
UID:9183877bb222f484d8746c06191af025
CATEGORIES:Aviation Related Event
CREATED:20140325T121526
SUMMARY:APA Meet-and-Greet Social Hour in Chandler
LOCATION:Majerle's Sports Grill in the Chandler Fashion Center (3095 W Chandler Blvd
 ) 
DESCRIPTION;ENCODING=QUOTED-PRINTABLE:APA Meet and Greet Social Hour&nbsp;\nMay 13, 2014 at 5:30pm&nbsp;\nMajerle
 's Sports Grill in Chandler&nbsp;\n\n\n\n\n\n\n\nWell, if you forgot Mother
 ’s Day, here’s an opportunity to ‘redeem’ yourself... sort of :-)\n\n\nCome
  join your fellow pilots and spouses for the Arizona Pilots Association Soc
 ial Hour. This will be the 3rd of our quarterly meet and greet events for o
 ur organization … and the first one in the Chandler area!\n\n\nThe intent i
 s to come together in a social setting “away from the hangar.” This event w
 ill be&nbsp;Tuesday, May 13 at Majerle's Sports Grill in the Chandler Fashi
 on Center (3095 W Chandler Blvd)&nbsp;beginning at 5:30 pm. Dress is casual
 .&nbsp;\n\n\nThe planned agenda will include a no host Happy Hour menu and 
 a ‘pilot’ raffle where 50% of the proceeds will go to our APA Scholarship F
 und. Prizes will include adult beverages (TBD), pilot paraphernalia and cas
 h. More details to follow.\n\n&nbsp;\n\n\nThere will be plenty of food, bev
 erages and flying stories, so please join us and bring your spouse. Meet fe
 llow pilots in your area.\n\n\nContact Dave Fleming at This email address i
 s being protected from spambots. You need JavaScript enabled to view it.
		
 		document.getElementById('cloaka4a58ebd5208c32dab5270b821dcb38a').innerHTM
 L = '';
				var prefix = '&#109;a' + 'i&#108;' + '&#116;o';
				var path = 
 'hr' + 'ef' + '=';
				var addya4a58ebd5208c32dab5270b821dcb38a = 'dw_fl&#1
 01;m&#105;ng' + '&#64;';
				addya4a58ebd5208c32dab5270b821dcb38a = addya4a
 58ebd5208c32dab5270b821dcb38a + 'c&#111;x' + '&#46;' + 'n&#101;t';
				var 
 addy_texta4a58ebd5208c32dab5270b821dcb38a = 'dw_fl&#101;m&#105;ng' + '&#64;
 ' + 'c&#111;x' + '&#46;' + 'n&#101;t';document.getElementById('cloaka4a58eb
 d5208c32dab5270b821dcb38a').innerHTML += ''+addy_texta4a58ebd5208c32dab5270
 b821dcb38a+'';
		 or his cell at 480-459-6366 if you are interested in atte
 nding. Please RSVP by May 6, 2014.\n\n\n\n&nbsp;\n\n\nThe Arizona Pilot’s A
 ssociation (APA) was organized in 1978 to give Arizona’s general aviation c
 ommunity a voice in aviation matters. We strive to serve the interests of o
 ur 500+ members by providing social interaction and staying abreast of avia
 tion related legislative actions at both the state and national levels. The
  APA promotes general aviation in advocating advances in flying safety, pil
 ot education and public understanding of general aviation.\nThis email addr
 ess is being protected from spambots. You need JavaScript enabled to view i
 t.
				document.getElementById('cloakf8a00070f30f63bfbc4d994ffadd8835').inn
 erHTML = '';
				var prefix = 'ma' + 'il' + 'to';
				var path = 'hr' + 'ef
 ' + '=';
				var addyf8a00070f30f63bfbc4d994ffadd8835 = 'dw_fleming' + '@';
 
				addyf8a00070f30f63bfbc4d994ffadd8835 = addyf8a00070f30f63bfbc4d994ffad
 d8835 + 'cox' + '.' + 'net';
				var addy_textf8a00070f30f63bfbc4d994ffadd8
 835 = '';document.getElementById('cloakf8a00070f30f63bfbc4d994ffadd8835').i
 nnerHTML += ''+addy_textf8a00070f30f63bfbc4d994ffadd8835+'';
		Our host for
  this event is Dave Fleming, who can be reached via email at This email add
 ress is being protected from spambots. You need JavaScript enabled to view 
 it.
				document.getElementById('cloak2704c938055c584fdd484a5ad3fe5052').in
 nerHTML = '';
				var prefix = '&#109;a' + 'i&#108;' + '&#116;o';
				var p
 ath = 'hr' + 'ef' + '=';
				var addy2704c938055c584fdd484a5ad3fe5052 = 'dw
 _fl&#101;m&#105;ng' + '&#64;';
				addy2704c938055c584fdd484a5ad3fe5052 = a
 ddy2704c938055c584fdd484a5ad3fe5052 + 'c&#111;x' + '&#46;' + 'n&#101;t';
		
 		var addy_text2704c938055c584fdd484a5ad3fe5052 = 'dw_fl&#101;m&#105;ng' + 
 '&#64;' + 'c&#111;x' + '&#46;' + 'n&#101;t';document.getElementById('cloak2
 704c938055c584fdd484a5ad3fe5052').innerHTML += ''+addy_text2704c938055c584f
 dd484a5ad3fe5052+'';
		&nbsp;or his cell at 480-459-6366. Please RSVP by Ma
 y 6&nbsp;if you are interested in attending. Stay tuned to our website azpi
 lots.org&nbsp;or Facebook page for updates.\n\n\n&nbsp;\n&nbsp;\n\n\n&nbsp;
 \n\n\n&nbsp;\n\n\n&nbsp;\n
CONTACT:Dave Fleming This email address is being protected from spambots. You need JavaScript enabled to view it.
				document.getElementById('cloakec75566aab805384a25ffafbd3ac22a2').innerHTML = '';
				var prefix = '&#109;a' + 'i&#108;' + '&#116;o';
				var path = 'hr' + 'ef' + '=';
				var addyec75566aab805384a25ffafbd3ac22a2 = 'dw_fl&#101;m&#105;ng' + '&#64;';
				addyec75566aab805384a25ffafbd3ac22a2 = addyec75566aab805384a25ffafbd3ac22a2 + 'c&#111;x' + '&#46;' + 'n&#101;t';
				var addy_textec75566aab805384a25ffafbd3ac22a2 = 'dw_fl&#101;m&#105;ng' + '&#64;' + 'c&#111;x' + '&#46;' + 'n&#101;t';document.getElementById('cloakec75566aab805384a25ffafbd3ac22a2').innerHTML += ''+addy_textec75566aab805384a25ffafbd3ac22a2+'';
		 Cell 480-459-6366
DTSTAMP:20260420T170702Z
DTSTART;TZID=America/Phoenix:20140513T173000
SEQUENCE:0
TRANSP:OPAQUE
END:VEVENT
END:VCALENDAR