BEGIN:VCALENDAR
VERSION:2.0
PRODID:-//jEvents 2.0 for Joomla//EN
CALSCALE:GREGORIAN
METHOD:PUBLISH
BEGIN:VEVENT
UID:35658a6b0080d6ee32d462aafdf41555
CATEGORIES:Backcountry
CREATED:20140126T163024
SUMMARY:Grapevine Monthly Fly-In Weekend
LOCATION:Grapevine (E75) near Roosevelt Lake
DESCRIPTION;ENCODING=QUOTED-PRINTABLE:Grapevine is open on the&nbsp;third weekend&nbsp;of each month, Fri through
  Sat.\nClick here for Shortfield.com airstrip info\nClick here for the GRAP
 EVINE SAFETY BULLETIN\n&nbsp;\nThe camp host for this month is:\n~ APA Team
  ~\n&nbsp;\n&nbsp;\nPlease email&nbsp;This email address is being protected
  from spambots. You need JavaScript enabled to view it.
				document.getEle
 mentById('cloak909cb30d2ecc9dd26d9b640345d886a1').innerHTML = '';
				var p
 refix = '&#109;a' + 'i&#108;' + '&#116;o';
				var path = 'hr' + 'ef' + '='
 ;
				var addy909cb30d2ecc9dd26d9b640345d886a1 = 'msp&#101;nc&#101;r' + '&#
 64;';
				addy909cb30d2ecc9dd26d9b640345d886a1 = addy909cb30d2ecc9dd26d9b64
 0345d886a1 + 'th&#101;r&#97;f' + '&#46;' + '&#111;rg?cc=t&#101;th&#111;m&#9
 7;s&#111;n';
				var addy_text909cb30d2ecc9dd26d9b640345d886a1 = 'M&#97;rk 
 &#111;r T&#111;mmy';document.getElementById('cloak909cb30d2ecc9dd26d9b64034
 5d886a1').innerHTML += ''+addy_text909cb30d2ecc9dd26d9b640345d886a1+'';
		&
 nbsp;for more info or if you are interested in volunteering.\n
CONTACT:Tommy Thomason This email address is being protected from spambots. You need JavaScript enabled to view it.
				document.getElementById('cloakc6dc8179b6d8f1a833dc903405611fbe').innerHTML = '';
				var prefix = '&#109;a' + 'i&#108;' + '&#116;o';
				var path = 'hr' + 'ef' + '=';
				var addyc6dc8179b6d8f1a833dc903405611fbe = 't&#101;th&#111;m&#97;s&#111;n' + '&#64;';
				addyc6dc8179b6d8f1a833dc903405611fbe = addyc6dc8179b6d8f1a833dc903405611fbe + '&#97;zp&#105;l&#111;ts' + '&#46;' + '&#111;rg';
				var addy_textc6dc8179b6d8f1a833dc903405611fbe = 't&#101;th&#111;m&#97;s&#111;n' + '&#64;' + '&#97;zp&#105;l&#111;ts' + '&#46;' + '&#111;rg';document.getElementById('cloakc6dc8179b6d8f1a833dc903405611fbe').innerHTML += ''+addy_textc6dc8179b6d8f1a833dc903405611fbe+'';
		 602-708-2040
DTSTAMP:20260420T212730Z
DTSTART;TZID=America/Phoenix;VALUE=DATE:20140516
DTEND;TZID=America/Phoenix;VALUE=DATE:20140519
SEQUENCE:0
TRANSP:OPAQUE
END:VEVENT
END:VCALENDAR