BEGIN:VCALENDAR
VERSION:2.0
PRODID:-//jEvents 2.0 for Joomla//EN
CALSCALE:GREGORIAN
METHOD:PUBLISH
BEGIN:VEVENT
UID:923114e5343be51c613dcb6ca2aaab9e
CATEGORIES:Aviation Related Event
CREATED:20140121T233111
SUMMARY:9th Annual Arizona Aviation Day at the Capitol
LOCATION:Arizona State Capital, South Lawn
DESCRIPTION;ENCODING=QUOTED-PRINTABLE:Save the Date – 9th&nbsp;Annual Arizona Aviation Day at the Capitol\n\n\n\n
 Tuesday, February 18, 2014\n11:00 a.m. until 1:00 p.m.\nArizona State Capit
 al, South Lawn\n&nbsp;\nThis premier event is a state wide industry opportu
 nity to promote the variety and vitality of aviation in Arizona and to meet
  with State legislators personally and individually. Should you have any qu
 estions or require additional information, please contact Event Chairman Co
 rinne Nystrom at&nbsp;(480) 644-4045.\n&nbsp;\nStay tuned for more informat
 ion and event registration availability.\n&nbsp;\nThank you!\n\n&nbsp;&nbsp
 ;&nbsp;&nbsp;&nbsp;&nbsp;&nbsp;&nbsp;&nbsp;&nbsp;&nbsp;&nbsp;&nbsp;&nbsp;&n
 bsp;&nbsp;&nbsp;&nbsp;&nbsp;&nbsp;&nbsp;&nbsp;&nbsp; Kelly Phelps\n&nbsp;&n
 bsp;&nbsp;&nbsp;&nbsp;&nbsp;&nbsp;&nbsp;&nbsp;&nbsp;&nbsp;&nbsp;&nbsp;&nbsp
 ;&nbsp;&nbsp;&nbsp;&nbsp;&nbsp;&nbsp;&nbsp;&nbsp;&nbsp;&nbsp;Associate Dire
 ctor\n&nbsp;&nbsp;&nbsp;&nbsp;&nbsp;&nbsp;&nbsp;&nbsp;&nbsp;&nbsp;&nbsp;&nb
 sp;&nbsp;&nbsp;&nbsp;&nbsp;&nbsp;&nbsp;&nbsp;&nbsp;&nbsp;&nbsp;&nbsp;&nbsp;
 Arizona Airports Association\n&nbsp;&nbsp;&nbsp;&nbsp;&nbsp;&nbsp;&nbsp;&nb
 sp;&nbsp;&nbsp;&nbsp;&nbsp;&nbsp;&nbsp;&nbsp;&nbsp;&nbsp;&nbsp;&nbsp;&nbsp;
 &nbsp;&nbsp;&nbsp;&nbsp;This email address is being protected from spambots
 . You need JavaScript enabled to view it.
				document.getElementById('cloa
 ke659f1bfd5c54232b5d7a0ef77f44d89').innerHTML = '';
				var prefix = '&#109
 ;a' + 'i&#108;' + '&#116;o';
				var path = 'hr' + 'ef' + '=';
				var addy
 e659f1bfd5c54232b5d7a0ef77f44d89 = 'K&#101;lly.ph&#101;lps' + '&#64;';
				
 addye659f1bfd5c54232b5d7a0ef77f44d89 = addye659f1bfd5c54232b5d7a0ef77f44d89
  + 'psm-2' + '&#46;' + 'c&#111;m';
				var addy_texte659f1bfd5c54232b5d7a0e
 f77f44d89 = 'K&#101;lly.ph&#101;lps' + '&#64;' + 'psm-2' + '&#46;' + 'c&#11
 1;m';document.getElementById('cloake659f1bfd5c54232b5d7a0ef77f44d89').inner
 HTML += ''+addy_texte659f1bfd5c54232b5d7a0ef77f44d89+'';
		\n&nbsp;&nbsp;&n
 bsp;&nbsp;&nbsp;&nbsp;&nbsp;&nbsp;&nbsp;&nbsp;&nbsp;&nbsp;&nbsp;&nbsp;&nbsp
 ;&nbsp;&nbsp;&nbsp;&nbsp;&nbsp;&nbsp;&nbsp;&nbsp;&nbsp;www.azairports.org\n
 &nbsp;\n
CONTACT:Corinne Nystrom at (480) 644-4045
DTSTAMP:20260420T170703Z
DTSTART;TZID=America/Phoenix:20140218T110000
DTEND;TZID=America/Phoenix:20140218T130000
SEQUENCE:0
TRANSP:OPAQUE
END:VEVENT
END:VCALENDAR