BEGIN:VCALENDAR
VERSION:2.0
PRODID:-//jEvents 2.0 for Joomla//EN
CALSCALE:GREGORIAN
METHOD:PUBLISH
BEGIN:VEVENT
UID:42e0afa965b76283d184df9bc2142c75
CATEGORIES:Other Fly-In
CREATED:20130305T134145
SUMMARY:Breakfast Fly-In to Millar (2AZ4) near Maricopa, AZ
LOCATION:Millar Airport (2AZ4) near Maricopa, AZ
DESCRIPTION;ENCODING=QUOTED-PRINTABLE:\n\nI would like to invite you and your members/family to a flyin\nbreakfas
 t on 24 March 2013 at 0800 hrs. Location is Memorial Museum\nat Millar Airp
 ort (2AZ4). The airfield is located 6 miles due west of\nthe City of Marico
 pa. The field is 2600' x 75' paved , 34 VFR\napproach is recommended. The b
 reakfast is free of charge and is an\nopportunity for aviators to gather an
 d talk about aviation. Also,\nany other AAAA members with aircraft are welc
 ome. Hope you and your people can attend.\n\n\nRegards,\nChuck Millar\n\n\n
 \n-- \n Adam N. Rosenberg\n mailto:This email address is being protected fr
 om spambots. You need JavaScript enabled to view it.
				document.getElemen
 tById('cloaka212cc854cf6271650dc1ad3c1f71a27').innerHTML = '';
				var pref
 ix = '&#109;a' + 'i&#108;' + '&#116;o';
				var path = 'hr' + 'ef' + '=';
	
 			var addya212cc854cf6271650dc1ad3c1f71a27 = '&#97;d&#97;m' + '&#64;';
			
 	addya212cc854cf6271650dc1ad3c1f71a27 = addya212cc854cf6271650dc1ad3c1f71a2
 7 + 'th&#101;-&#97;d&#97;m' + '&#46;' + 'c&#111;m';
				var addy_texta212cc
 854cf6271650dc1ad3c1f71a27 = '&#97;d&#97;m' + '&#64;' + 'th&#101;-&#97;d&#9
 7;m' + '&#46;' + 'c&#111;m';document.getElementById('cloaka212cc854cf627165
 0dc1ad3c1f71a27').innerHTML += ''+addy_texta212cc854cf6271650dc1ad3c1f71a27
 +'';
		\n http://www.the-adam.com\n
CONTACT:This email address is being protected from spambots. You need JavaScript enabled to view it.
				document.getElementById('cloak665a7fd65d08138d897beece29f4d4be').innerHTML = '';
				var prefix = '&#109;a' + 'i&#108;' + '&#116;o';
				var path = 'hr' + 'ef' + '=';
				var addy665a7fd65d08138d897beece29f4d4be = '&#97;d&#97;m' + '&#64;';
				addy665a7fd65d08138d897beece29f4d4be = addy665a7fd65d08138d897beece29f4d4be + 'th&#101;-&#97;d&#97;m' + '&#46;' + 'c&#111;m';
				var addy_text665a7fd65d08138d897beece29f4d4be = '&#97;d&#97;m' + '&#64;' + 'th&#101;-&#97;d&#97;m' + '&#46;' + 'c&#111;m';document.getElementById('cloak665a7fd65d08138d897beece29f4d4be').innerHTML += ''+addy_text665a7fd65d08138d897beece29f4d4be+'';
		
DTSTAMP:20260420T205245Z
DTSTART;TZID=America/Phoenix:20130324T080000
SEQUENCE:0
TRANSP:OPAQUE
END:VEVENT
END:VCALENDAR