BEGIN:VCALENDAR
VERSION:2.0
PRODID:-//jEvents 2.0 for Joomla//EN
CALSCALE:GREGORIAN
METHOD:PUBLISH
BEGIN:VEVENT
UID:dba1c2e354593839285ed7f9d1325696
CATEGORIES:Other Fly-In
CREATED:20130226T114628
SUMMARY:Springerville Grand Opening Aviation Fun Day
LOCATION:Springerville Municipal Airport (D68)
DESCRIPTION;ENCODING=QUOTED-PRINTABLE:EAA Chapter 1214 needs your help with \nYoung Eagle Flights on Saturday May
  4th! \n\nSo far 75 kids have signed up for rides and only 3 pilots have si
 gned up to provide these flights. This is part of the Springerville Airport
  event and pancake breakfast celebrating the new terminal opening. If you a
 re an EAA member, please consider helping out! &nbsp;If not, please conside
 r joining the EAA and flying Young Eagles. &nbsp;Please contact Kimberly Ja
 ckson at&nbsp;This email address is being protected from spambots. You need
  JavaScript enabled to view it.
				document.getElementById('cloakbc6d1bc30
 c5035ef276748d647b16358').innerHTML = '';
				var prefix = '&#109;a' + 'i&#
 108;' + '&#116;o';
				var path = 'hr' + 'ef' + '=';
				var addybc6d1bc30c
 5035ef276748d647b16358 = 'k&#105;mb&#101;rly020668' + '&#64;';
				addybc6d
 1bc30c5035ef276748d647b16358 = addybc6d1bc30c5035ef276748d647b16358 + 'y&#9
 7;h&#111;&#111;' + '&#46;' + 'c&#111;m';
				var addy_textbc6d1bc30c5035ef2
 76748d647b16358 = 'k&#105;mb&#101;rly020668' + '&#64;' + 'y&#97;h&#111;&#11
 1;' + '&#46;' + 'c&#111;m';document.getElementById('cloakbc6d1bc30c5035ef27
 6748d647b16358').innerHTML += ''+addy_textbc6d1bc30c5035ef276748d647b16358+
 '';
		&nbsp;with questions or to let her know if you can help!\n\n\n\n\n\n\
 n\nThe Town of Springerville and the Round Valley Aero Club are joining tog
 ether with the help of the Round Valley Animal Rescue to provide a day of a
 viation fun at the Airport for the Grand Opening Celebration of the new ter
 minal building.\n\n\nSean Kienle\nAirport Supervisor\nSpringerville Municip
 al Airport (D68)\n905 W Airport Rd\nSpringerville, AZ 85938\n928-333-5746\n
 www.springervilleair.com\n
CONTACT:Sean Kienle 928-333-5746 This email address is being protected from spambots. You need JavaScript enabled to view it.
				document.getElementById('cloakfb2fcddd271081e9725c451f577fb25a').innerHTML = '';
				var prefix = '&#109;a' + 'i&#108;' + '&#116;o';
				var path = 'hr' + 'ef' + '=';
				var addyfb2fcddd271081e9725c451f577fb25a = 'sk&#105;&#101;nl&#101;' + '&#64;';
				addyfb2fcddd271081e9725c451f577fb25a = addyfb2fcddd271081e9725c451f577fb25a + 'spr&#105;ng&#101;rv&#105;ll&#101;&#97;z' + '&#46;' + 'g&#111;v';
				var addy_textfb2fcddd271081e9725c451f577fb25a = 'sk&#105;&#101;nl&#101;' + '&#64;' + 'spr&#105;ng&#101;rv&#105;ll&#101;&#97;z' + '&#46;' + 'g&#111;v';document.getElementById('cloakfb2fcddd271081e9725c451f577fb25a').innerHTML += ''+addy_textfb2fcddd271081e9725c451f577fb25a+'';
		
DTSTAMP:20260423T035928Z
DTSTART;TZID=America/Phoenix:20130504T070000
DTEND;TZID=America/Phoenix:20130504T150000
SEQUENCE:0
TRANSP:OPAQUE
END:VEVENT
END:VCALENDAR