BEGIN:VCALENDAR
VERSION:2.0
PRODID:-//jEvents 2.0 for Joomla//EN
CALSCALE:GREGORIAN
METHOD:PUBLISH
BEGIN:VEVENT
UID:85e4fc29469586d6c043ab6d6ba1a84d
CATEGORIES:Other Fly-In
CREATED:20130103T101332
SUMMARY:Cactus Fly-In in Casa Crande
LOCATION:KCGZ Casa Grande
DESCRIPTION;ENCODING=QUOTED-PRINTABLE:\n&nbsp;\n&nbsp;\nClick Here for the 2013 Cactus Fly-In&nbsp;Flyer\n\n&nbsp
 ;\n&nbsp;City of Casa Grande Municipal Airport\n8:00 am to 5:00 pm\nAntique
 s * Classics * Replicas * Homebuilts * Warbirds\nAircraft from the Commemor
 ative Air Force Arizona Wing Aviation Museum\nare scheduled to appear. For 
 more information or to purchase a ride visit\nAZCAF.org\nGeneral Admission:
  A donation of$10.00 per person is requested. Kids under 12 free!\nModern A
 ircraft Admission: Donation of $10.00 per person or $20.00 per planeload\nC
 actusFlyIn.org\nVisit our website for additional information on the\n55th A
 nnual Cactus Fly-In\n&nbsp;\n
CONTACT:Terry Emig This email address is being protected from spambots. You need JavaScript enabled to view it.
				document.getElementById('cloakffa841defcb153fd33ea20cca44907fc').innerHTML = '';
				var prefix = '&#109;a' + 'i&#108;' + '&#116;o';
				var path = 'hr' + 'ef' + '=';
				var addyffa841defcb153fd33ea20cca44907fc = 'dpr&#101;z' + '&#64;';
				addyffa841defcb153fd33ea20cca44907fc = addyffa841defcb153fd33ea20cca44907fc + 'c&#97;ct&#117;sfly&#105;n' + '&#46;' + '&#111;rg';
				var addy_textffa841defcb153fd33ea20cca44907fc = 'dpr&#101;z' + '&#64;' + 'c&#97;ct&#117;sfly&#105;n' + '&#46;' + '&#111;rg';document.getElementById('cloakffa841defcb153fd33ea20cca44907fc').innerHTML += ''+addy_textffa841defcb153fd33ea20cca44907fc+'';
		 (520) 836-7447
DTSTAMP:20260420T205245Z
DTSTART;TZID=America/Phoenix:20130301T080000
DTEND;TZID=America/Phoenix:20130302T170000
SEQUENCE:0
TRANSP:OPAQUE
END:VEVENT
END:VCALENDAR