BEGIN:VCALENDAR
VERSION:2.0
PRODID:-//jEvents 2.0 for Joomla//EN
CALSCALE:GREGORIAN
METHOD:PUBLISH
BEGIN:VEVENT
UID:f0c7d0f84843a3461baa8b2b76d4dd18
CATEGORIES:Other Fly-In
CREATED:20130130T165509
SUMMARY:CANCELED - Luke AFB Open House & Air Show
LOCATION:Luke Air Force Base, Glendale, AZ
DESCRIPTION;ENCODING=QUOTED-PRINTABLE:Luke Cancels Air Show&nbsp;\n\nRelease Number: 020113\n\n\n2/15/2013&nbsp;-
 &nbsp;LUKE AIR FORCE BASE, Ariz.&nbsp;&nbsp;--&nbsp;Today Luke AFB official
 s regretfully announce that Luke's 2013 Open House and Air Show, "Storm on 
 the Horizon," originally scheduled for Mar 16-17, is canceled.\n\n\n"While 
 I value the importance of this event to both the Air Force and our local co
 mmunity, given the budgetary pressures and expected repercussions if seques
 tration goes into effect, we need to cancel this year's Luke Days. I cannot
  in good conscience spend some of our limited resources to host an Open Hou
 se, while the Defense Department considers potential civilian furloughs," s
 aid Brig. Gen. Michael Rothstein, 56th Fighter Wing commander.\n\n\nLuke is
  taking additional steps to continue to be good financial stewards of tax p
 ayer dollars. This includes working to gain efficiencies, deferring non-mis
 sion critical repairs and supply buys, significantly reducing flying not di
 rectly related to pilot training, as well as reducing costs by curtailing n
 on-mission critical services.\n\n\n"I have been overwhelmed by the phenomen
 al community support shown to Luke in the short time I've been here. That s
 upport for our base is second to none, and made canceling our Open House a 
 very hard decision for me. I believe it's important for Luke to open our ga
 tes to the public to enhance awareness of Air Force missions and military c
 apabilities as well as the skills and professionalism of its people. I hope
  to continue our strong community alliance and resume special events like t
 he Open House as soon as possible," said Rothstein.\n\n\nNo dates for futur
 e Open Houses have been set.\n\n\nMedia outlets looking for more informatio
 n can contact 56th Fighter Wing Public Affairs at (623) 856-6011.\n\n\n&nbs
 p;Link to Luke Website...\n\nLuke Air Force Base and the 56th Fighter Wing 
 present, "Storm on the Horizon," Luke's biennial Open House and Air Show. T
 he event is open to the public and admission is free.\n&nbsp;\nhttp://www.l
 uke.af.mil/units/2013openhouseandairshow.asp\n
CONTACT:Captain Ryan DeCamp at 623-856-6011 or via email at This email address is being protected from spambots. You need JavaScript enabled to view it.
				document.getElementById('cloakb9d983fc95c534a2bd41423a6db7df66').innerHTML = '';
				var prefix = '&#109;a' + 'i&#108;' + '&#116;o';
				var path = 'hr' + 'ef' + '=';
				var addyb9d983fc95c534a2bd41423a6db7df66 = '56fw.p&#97;' + '&#64;';
				addyb9d983fc95c534a2bd41423a6db7df66 = addyb9d983fc95c534a2bd41423a6db7df66 + '&#117;s' + '&#46;' + '&#97;f' + '&#46;' + 'm&#105;l';
				var addy_textb9d983fc95c534a2bd41423a6db7df66 = '56fw.p&#97;' + '&#64;' + '&#117;s' + '&#46;' + '&#97;f' + '&#46;' + 'm&#105;l';document.getElementById('cloakb9d983fc95c534a2bd41423a6db7df66').innerHTML += ''+addy_textb9d983fc95c534a2bd41423a6db7df66+'';
		
X-EXTRAINFO:Aerial Performances Ace Maker T-33AV-8 HarrierDesert Rats CJ-6 Formation Te
 amF-16 & U.S. Marine Corps ground vehicle close air support     demonstrati
 onMatt Younkin, Twin Beech 18Red Bull TeamRifle RV-8ThunderbirdsTim We
DTSTAMP:20260420T205244Z
DTSTART;TZID=America/Phoenix:20130316T080000
DTEND;TZID=America/Phoenix:20130317T170000
SEQUENCE:0
TRANSP:OPAQUE
END:VEVENT
END:VCALENDAR