BEGIN:VCALENDAR
VERSION:2.0
PRODID:-//jEvents 2.0 for Joomla//EN
CALSCALE:GREGORIAN
METHOD:PUBLISH
BEGIN:VEVENT
UID:80eac135a7549e4e073c840bed319d12
CATEGORIES:Other Fly-In
CREATED:20130126T110532
SUMMARY:Bluegrass on the Beach in Lake Havasu
LOCATION:KHII - Lake Havasu City Airport
DESCRIPTION;ENCODING=QUOTED-PRINTABLE:Bluegrass on the BeachLake Havasu City Park, Site #4Annual bluegrass and ol
 d time music festival featuring IBMA award winning and other nationally acc
 laimed groups. &nbsp;Fine hotels within easy walking distance of the venue.
  &nbsp;Desert Skies (John Gallup) is host FBO. &nbsp;Complete information a
 vailable at www.landspromotions.com. &nbsp;Contact Jon Nelson at This email
  address is being protected from spambots. You need JavaScript enabled to v
 iew it.
				document.getElementById('cloak82cf19a04364b81101747b443121db5f'
 ).innerHTML = '';
				var prefix = '&#109;a' + 'i&#108;' + '&#116;o';
				v
 ar path = 'hr' + 'ef' + '=';
				var addy82cf19a04364b81101747b443121db5f =
  'Jvn&#97;l&#97;sk&#97;' + '&#64;';
				addy82cf19a04364b81101747b443121db5
 f = addy82cf19a04364b81101747b443121db5f + '&#97;&#111;l' + '&#46;' + 'c&#1
 11;m';
				var addy_text82cf19a04364b81101747b443121db5f = 'Jvn&#97;l&#97;s
 k&#97;' + '&#64;' + '&#97;&#111;l' + '&#46;' + 'c&#111;m';document.getEleme
 ntById('cloak82cf19a04364b81101747b443121db5f').innerHTML += ''+addy_text82
 cf19a04364b81101747b443121db5f+'';
		 or 520-559-2315 with questions.\n\n\n
 &nbsp;\n\n\n&nbsp;\nLake Havasu City 2013 Band ScheduleFRIDAY ~ March 1, 20
 13\n9:45 AM National Anthem&nbsp;\n 9:30 am ~ 9:55 am Welcome By Larry Bake
 r &amp; Special Guests&nbsp;\n 10:00 am ~ 10:45 am Windy Hill&nbsp;\n 11:00
  am ~ 11:45 am Get Down Boys&nbsp;\n 12:00 pm ~ 12:45 pm Mark Phillips &amp
 ; IIIrd Generation&nbsp;\n 12:45 pm ~ 1:45 pm Workshops / Lunch Break&nbsp;
 \n \n 1:45 pm ~ 2:30 pm Larry Gillis Band&nbsp;\n 2:40 pm ~ 3:25 pm Remingt
 on Ryde&nbsp;\n 3:35 pm ~ 4:20 pm Junior Sisk &amp; Ramblers Choice&nbsp;\n
  4:30 pm~ 5:45 pm The Boxcars\nSATURDAY ~ March 2, 2013\n9:45am National An
 them&nbsp;\n 10:00 am ~ 10:45am Lonesome Otis&nbsp;\n 10:55am ~ 11:40am Mar
 k Phillips &amp; III Generation&nbsp;\n 11:50am ~ 12:35pm Karl Shiflett &am
 p; Big Country&nbsp;\n 12:45 pm ~ 1:30 pm The Larry Gillis Band&nbsp;\n 1:3
 0 pm~ 2:10 pm Workshops / Lunch Break\n2:10 pm ~ 2:55 pm Remington Ryde&nbs
 p;\n 3:05 pm ~ 3:50 pm Junior Sisk &amp; Ramblers Choice&nbsp;\n 4:00 pm ~ 
 5:00 pm The Boxcars&nbsp;\n 5:10 pm ~ 6:30 pm Lonesome River Band\nSUNDAY ~
  March 3, 2013\n10:00 am ~ 10:45 am Windy Hill&nbsp;\n 11:00 am ~ 11:45 am 
 Get Down Boys&nbsp;\n 12:00 pm ~ 12:45 pm Lonesome River Band&nbsp;\n 12:45
  pm ~ 1:30 pm Lunch Break&nbsp;\n \n 1:30pm ~ 2:15pm Lonesome Otis&nbsp;\n 
 2:25pm ~ 3:25pm Karl Shiflett &amp; Big Country&nbsp;\n 3:25pm ~ 3:40pm Raf
 fle Drawings&nbsp;\n 3:50pm ~ 5:00pm Lonesome River Band&nbsp;\n
CONTACT:Jon Nelson at This email address is being protected from spambots. You need JavaScript enabled to view it.
				document.getElementById('cloak4e770f9466f4f9a3eba78b005a974c59').innerHTML = '';
				var prefix = '&#109;a' + 'i&#108;' + '&#116;o';
				var path = 'hr' + 'ef' + '=';
				var addy4e770f9466f4f9a3eba78b005a974c59 = 'Jvn&#97;l&#97;sk&#97;' + '&#64;';
				addy4e770f9466f4f9a3eba78b005a974c59 = addy4e770f9466f4f9a3eba78b005a974c59 + '&#97;&#111;l' + '&#46;' + 'c&#111;m';
				var addy_text4e770f9466f4f9a3eba78b005a974c59 = 'Jvn&#97;l&#97;sk&#97;' + '&#64;' + '&#97;&#111;l' + '&#46;' + 'c&#111;m';document.getElementById('cloak4e770f9466f4f9a3eba78b005a974c59').innerHTML += ''+addy_text4e770f9466f4f9a3eba78b005a974c59+'';
		 or 520-559-2315
DTSTAMP:20260420T205245Z
DTSTART;TZID=America/Phoenix;VALUE=DATE:20130301
DTEND;TZID=America/Phoenix;VALUE=DATE:20130304
SEQUENCE:0
TRANSP:OPAQUE
END:VEVENT
END:VCALENDAR