BEGIN:VCALENDAR
VERSION:2.0
PRODID:-//jEvents 2.0 for Joomla//EN
CALSCALE:GREGORIAN
METHOD:PUBLISH
BEGIN:VEVENT
UID:3cfe2e2a677cfa05ccb136e744290e57
CATEGORIES:APA Fly-In
CREATED:20130125T145848
SUMMARY:March Dinner Social
LOCATION:KDVT Restaurant
DESCRIPTION;ENCODING=QUOTED-PRINTABLE:\n\n\n\n\nJoin us at the Deer Valley Restaurant for our new monthly dinner 
 social events.\n\n\nStart the New Year with Your Flying Friends!\n\n\nGood 
 Food, Good Friends\n\n\nThis month's speaker is:\n\n\nRon Stafford\n18,500 
 HRS, ATP, CFI, CFII,\nWorldwide Flying Experience\n\n\n&nbsp;\n
CONTACT:Ron Stafford This email address is being protected from spambots. You need JavaScript enabled to view it.
				document.getElementById('cloakef93e31807025d783c5951b1eb2794a6').innerHTML = '';
				var prefix = '&#109;a' + 'i&#108;' + '&#116;o';
				var path = 'hr' + 'ef' + '=';
				var addyef93e31807025d783c5951b1eb2794a6 = 'rst&#97;ff&#111;rd' + '&#64;';
				addyef93e31807025d783c5951b1eb2794a6 = addyef93e31807025d783c5951b1eb2794a6 + '&#97;zp&#105;l&#111;ts' + '&#46;' + '&#111;rg';
				var addy_textef93e31807025d783c5951b1eb2794a6 = 'rst&#97;ff&#111;rd' + '&#64;' + '&#97;zp&#105;l&#111;ts' + '&#46;' + '&#111;rg';document.getElementById('cloakef93e31807025d783c5951b1eb2794a6').innerHTML += ''+addy_textef93e31807025d783c5951b1eb2794a6+'';
		
DTSTAMP:20260420T205235Z
DTSTART;TZID=America/Phoenix:20130309T180000
SEQUENCE:0
TRANSP:OPAQUE
END:VEVENT
END:VCALENDAR