BEGIN:VCALENDAR
VERSION:2.0
PRODID:-//jEvents 2.0 for Joomla//EN
CALSCALE:GREGORIAN
METHOD:PUBLISH
BEGIN:VEVENT
UID:eb63b876b6889a324e6005aae65cedae
CATEGORIES:Backcountry
CREATED:20121204T231658
SUMMARY:Grapevine Monthly Fly-In Weekend
LOCATION:Grapevine (E75) near Roosevelt Lake
DESCRIPTION;ENCODING=QUOTED-PRINTABLE:\n\nGrapevine is open on the&nbsp;third weekend&nbsp;of each month, Fri thr
 ough Sat.\n\n\nClick here for the GRAPEVINE SAFETY BULLETIN\n\n\nPlease ema
 il This email address is being protected from spambots. You need JavaScript
  enabled to view it.
				document.getElementById('cloak36fbb42547c867e57700
 db5cd582ca21').innerHTML = '';
				var prefix = '&#109;a' + 'i&#108;' + '&#
 116;o';
				var path = 'hr' + 'ef' + '=';
				var addy36fbb42547c867e57700d
 b5cd582ca21 = 't&#101;th&#111;m&#97;s&#111;n' + '&#64;';
				addy36fbb42547
 c867e57700db5cd582ca21 = addy36fbb42547c867e57700db5cd582ca21 + 'c&#111;x' 
 + '&#46;' + 'n&#101;t&amp;s&#117;bj&#101;ct=Gr&#97;p&#101;v&#105;n&#101;';

 				var addy_text36fbb42547c867e57700db5cd582ca21 = 'T&#111;mmy';document.g
 etElementById('cloak36fbb42547c867e57700db5cd582ca21').innerHTML += ''+addy
 _text36fbb42547c867e57700db5cd582ca21+'';
		 if you are interested.\n\n\nTh
 e camp hosts for March will be:\nTommy Thomason &amp; Mike Andresen\n
CONTACT:Tommy Thomason This email address is being protected from spambots. You need JavaScript enabled to view it.
				document.getElementById('cloake64ffc0c99d3595c5f4d503147a96ebd').innerHTML = '';
				var prefix = '&#109;a' + 'i&#108;' + '&#116;o';
				var path = 'hr' + 'ef' + '=';
				var addye64ffc0c99d3595c5f4d503147a96ebd = 't&#101;th&#111;m&#97;s&#111;n' + '&#64;';
				addye64ffc0c99d3595c5f4d503147a96ebd = addye64ffc0c99d3595c5f4d503147a96ebd + 'c&#111;x' + '&#46;' + 'n&#101;t';
				var addy_texte64ffc0c99d3595c5f4d503147a96ebd = 't&#101;th&#111;m&#97;s&#111;n' + '&#64;' + 'c&#111;x' + '&#46;' + 'n&#101;t';document.getElementById('cloake64ffc0c99d3595c5f4d503147a96ebd').innerHTML += ''+addy_texte64ffc0c99d3595c5f4d503147a96ebd+'';
		 602-708-2040
DTSTAMP:20260420T144630Z
DTSTART;TZID=America/Phoenix;VALUE=DATE:20130315
DTEND;TZID=America/Phoenix;VALUE=DATE:20130318
SEQUENCE:0
TRANSP:OPAQUE
END:VEVENT
END:VCALENDAR