BEGIN:VCALENDAR
VERSION:2.0
PRODID:-//jEvents 2.0 for Joomla//EN
CALSCALE:GREGORIAN
METHOD:PUBLISH
BEGIN:VEVENT
UID:79d3eccde7b29a0d3150f08f162b7be7
CATEGORIES:Other Fly-In
CREATED:20121102T191419
SUMMARY:DVPA Annual Membership Event - Fly-In Pancake Breakfast
LOCATION:DVT
DESCRIPTION;ENCODING=QUOTED-PRINTABLE:\n\n\n \n\n\n For More Info see www.dvtpilot.com/\n\n\n \nThis year, the De
 er Valley Pilots Association will host our first fly in pancake breakfast.\
 nSee area aviation vendors, aviation organizations, static aircraft display
 s.\nAll Arizona pilots invited-see what's happening at the busiest GA airpo
 rt in the entire world.\nFree to current DVPA members, Fly-In Guests $5.\n8
 :00-11:00 on the south ramp - just west of the terminal building.
DTSTAMP:20260420T145028Z
DTSTART;TZID=America/Phoenix:20121103T080000
DTEND;TZID=America/Phoenix:20121103T110000
SEQUENCE:0
TRANSP:OPAQUE
END:VEVENT
END:VCALENDAR